Workbook

Sheet 원가계산서
A2: Ⅳ. 공사원가계산서 (총괄)
A4: 공사명 : 23년 아르코미술관 전시장 노출콘크리트 바닥마감 공사 | I4: 금액: 47,930,770원(부가세포함)
L5: 단 위 : 원
A6: 비 목 | F6: 금 액 | G6: 비 고
A7: 순 공 사 원 가 | B7: 재료비 | C7: 직 접 재 료 비 | F7: =+공종별집계표!C11 -> 0 | G7: < 표 1 > 참조
C8: 간 접 재 료 비
C9: 작업설ㆍ부산물등(△)
C10: 1) 소 계 | F10: =F7+F8-F9 -> 0
B11: 노무비 | C11: 직 접 노 무 비 | F11: =+공종별집계표!D11 -> 0 | G11: =+G7 -> < 표 1 > 참조
C12: 간 접 노 무 비 | G12: < 표 2 > 참조
C13: 2) 소 계
B14: 경 비 | C14: 전 력 비 | G14: < 표 3 > 참조
C15: 수 도 광 열 비
C16: 운 반 비
C17: 기 계 경 비
C18: 특허권 사용료
C19: 기 술 료
C20: 연 구 개 발 비
C21: 품 질 관 리 비
C22: 가 설 비
C23: 지 급 임 차 료
C24: 보 험 료
C25: 복 리 후 생 비
C26: 보 관 비
... C40: 3) 소 계
A41: 4) 계 | G41: (1＋2＋3)
A42: 5) 일 반 관 리 비( | D42: =+#REF!*100 -> #REF! | E42: ％) | G42: (4) × | H42: =+D42 -> #REF! | I42: ％
A43: 6) 이 윤( | D43: =+#REF!*100 -> #REF! | E43: ％) | G43: (4＋5-1-3항의기술료·외주가공비)× | K43: =+D43 -> #REF! | L43: ％
A44: 7) 합 계 | G44: (4＋5＋6)
A45: 8) 부 가 가 치 세( | D45: 10 | E45: ％) | G45: (7) × | H45: =+D45 -> 10 | I45: ％
A46: 9) 총 원 가 | G46: (7＋8)
A47: 주) 부가가치세 포함

Sheet 공종별집계표
A1: < 표 1 >
A2: 공종별 직접비 집계표
A4: =+원가계산서!A4 -> 공사명 : 23년 아르코미술관 전시장 노출콘크리트 바닥마감 공사
G5: 단 위 : 원
A6: 공정명 | B6: 단위 | C6: 재료비 | D6: 노무비 | E6: 경 비 | F6: 계 | G6: 비 고
A7: =+공정별내역서!A8 -> 1. 보양 및 정리 | B7: 식 | C7: =+공정별내역서!$G$11 -> 0 | D7: =+공정별내역서!$I$11 -> 0 | E7: =+공정별내역서!$K$11 -> 0 | F7: =+C7+D7+E7 -> 0
A8: =+공정별내역서!A12 -> 2. 기존면 철거 | B8: 식 | C8: =+공정별내역서!$G$17 -> 0 | D8: =+공정별내역서!$I$17 -> 0 | E8: =+공정별내역서!$K$17 -> 0 | F8: =+C8+D8+E8 -> 0
A9: =+공정별내역서!A18 -> 3. 몰탈 바름 | B9: 식 | C9: =+공정별내역서!$G$23 -> 0 | D9: =+공정별내역서!$I$23 -> 0 | E9: =+공정별내역서!$K$23 -> 0 | F9: =+C9+D9+E9 -> 0
A10: =+공정별내역서!A24 -> 4. 바탕 면 도장 | B10: 식 | C10: =+공정별내역서!$G$26 -> 0 | D10: =+공정별내역서!$I$26 -> 0 | E10: =+공정별내역서!$K$26 -> 0 | F10: =+C10+D10+E10 -> 0
A11: 계 | C11: =SUM(C7:C10) -> 0 | D11: =SUM(D7:D10) -> 0 | E11: =SUM(E7:E10) -> 0 | F11: =SUM(F7:F10) -> 0
C14: =+C11-공정별내역서!G27 -> 0 | D14: =+D11-공정별내역서!I27 -> 0 | F14: =+F11-공정별내역서!M27 -> 0

Sheet 공정별내역서
A1: < 표 1-1 >
A2: 공 종 별 직 접 비 내 역 서
O4: 단 위 : 원
A5: 공 종 명 | B5: 품 명 | C5: 규 격 | D5: 단위 | E5: 수량 | F5: 재료비 | H5: 노무비 | J5: 경 비 | L5: 계 | N5: 비 고
F6: 단 가 | G6: 금 액 | H6: 단 가 | I6: 금 액 | J6: 단 가 | K6: 금 액 | L6: 단 가 | M6: 금 액
A8: 1. 보양 및 정리 | B8: 현장 보양 | C8: 벽면 | D8: M2 | E8: =+ROUNDUP(SQRT(363)*4*2*2,0) -> 305 | G8: =+ROUNDDOWN($E8*F8,0) -> 0 | I8: =+ROUNDDOWN($E8*H8,0) -> 0 | J8: =+VLOOKUP($N8,일위집!$J$6:$M$10,4,0) -> 0 | K8: =+ROUNDDOWN($E8*J8,0) -> 0 | L8: =+F8+H8+J8 -> 0 | M8: =+G8+I8+K8 -> 0 | N8: =+일위집!$A$6 -> 1 | O8: 호표
B9: 운반비 | C9: 자재운반 | D9: 대 | E9: 2 | G9: =+ROUNDDOWN($E9*F9,0) -> 0 | I9: =+ROUNDDOWN($E9*H9,0) -> 0 | K9: =+ROUNDDOWN($E9*J9,0) -> 0 | L9: =+F9+H9+J9 -> 0 | M9: =+G9+I9+K9 -> 0 | N9: =+단가!$N$9 -> 3 | O9: 단가
B10: 현장 정리 | D10: M2 | E10: 726 | F10: =+VLOOKUP($N10,일위집!$J$6:$M$10,2,0) -> 0 | G10: =+ROUNDDOWN($E10*F10,0) -> 0 | I10: =+ROUNDDOWN($E10*H10,0) -> 0 | J10: =+VLOOKUP($N10,일위집!$J$6:$M$10,4,0) -> 0 | K10: =+ROUNDDOWN($E10*J10,0) -> 0 | L10: =+F10+H10+J10 -> 0 | M10: =+G10+I10+K10 -> 0 | N10: =+일위집!$A$7 -> 2 | O10: 호표
B11: 계 | G11: =SUM(G8:G10) -> 0 | I11: =SUM(I8:I10) -> 0 | K11: =SUM(K8:K10) -> 0 | M11: =SUM(M8:M10) -> 0
A12: 2. 기존면 철거 | B12: 장비임대 | C12: 집진기 | D12: 대 | E12: 2 | G12: =+ROUNDDOWN($E12*F12,0) -> 0 | L12: =+F12+H12+J12 -> 0 | M12: =+G12+I12+K12 -> 0 | N12: =+단가!$A$10 -> 4 | O12: 단가
B13: 장비임대 | C13: 무소음제거기 | D13: 대 | E13: 2 | G13: =+ROUNDDOWN($E13*F13,0) -> 0 | L13: =+F13+H13+J13 -> 0 | M13: =+G13+I13+K13 -> 0 | N13: =+단가!$A$11 -> 5 | O13: 단가
B14: 철거 시공비 | D14: M2 | E14: 726 | G14: =+ROUNDDOWN($E14*F14,0) -> 0 | I14: =+ROUNDDOWN($E14*H14,0) -> 0 | J14: =+VLOOKUP($N14,일위집!$J$6:$M$10,4,0) -> 0 | K14: =+ROUNDDOWN($E14*J14,0) -> 0 | L14: =+F14+H14+J14 -> 0 | M14: =+G14+I14+K14 -> 0 | N14: =+일위집!$A$8 -> 3 | O14: 호표
B15: 부자재 | D15: 식 | E15: 1 | G15: =+ROUNDDOWN($E15*F15,0) -> 0 | L15: =+F15+H15+J15 -> 0 | M15: =+G15+I15+K15 -> 0 | N15: =+단가!$A$12 -> 6 | O15: 단가
B16: 폐기물 처리 | D16: 식 | E16: 1 | G16: =+ROUNDDOWN($E16*F16,0) -> 0 | L16: =+F16+H16+J16 -> 0 | M16: =+G16+I16+K16 -> 0 | N16: =+단가!$A$13 -> 7 | O16: 단가
B17: 계 | G17: =SUM(G12:G16) -> 0 | I17: =SUM(I12:I16) -> 0 | K17: =SUM(K12:K16) -> 0 | M17: =SUM(M12:M16) -> 0
A18: 3. 몰탈 바름 | B18: 칼라믹스 | C18: SL 파우더 | D18: KG | E18: =300*25 -> 7500 | G18: =+ROUNDDOWN($E18*F18,0) -> 0 | L18: =+F18+H18+J18 -> 0 | M18: =+G18+I18+K18 -> 0 | N18: =+단가!$A$14 -> 8 | O18: 단가
B19: 칼라믹스 | C19: M 미장파우더 | D19: KG | E19: =30*25 -> 750 | G19: =+ROUNDDOWN($E19*F19,0) -> 0 | L19: =+F19+H19+J19 -> 0 | M19: =+G19+I19+K19 -> 0 | N19: =+단가!$A$15 -> 9 | O19: 단가
B20: 액상 바인더 수지 | C20: CEM-POLY 300 | D20: L | E20: =50*18 -> 900 | G20: =+ROUNDDOWN($E20*F20,0) -> 0 | L20: =+F20+H20+J20 -> 0 | M20: =+G20+I20+K20 -> 0 | N20: =+단가!$A$16 -> 10 | O20: 단가
B21: 액상 프라이머 수지 | C21: CEM-POLY 500P | D21: L | E21: =5*18 -> 90 | G21: =+ROUNDDOWN($E21*F21,0) -> 0 | L21: =+F21+H21+J21 -> 0 | M21: =+G21+I21+K21 -> 0 | N21: =+단가!$A$17 -> 11 | O21: 단가
B22: 마이크로 토핑 작업 | C22: =+일위집!C9 -> 재료비 별도 | D22: M2 | E22: 726 | G22: =+ROUNDDOWN($E22*F22,0) -> 0 | I22: =+ROUNDDOWN($E22*H22,0) -> 0 | J22: =+VLOOKUP($N22,일위집!$J$6:$M$10,4,0) -> 0 | K22: =+ROUNDDOWN($E22*J22,0) -> 0 | L22: =+F22+H22+J22 -> 0 | M22: =+G22+I22+K22 -> 0 | N22: =+일위집!$A$9 -> 4 | O22: 호표
B23: 계 | G23: =SUM(G18:G22) -> 0 | I23: =SUM(I18:I22) -> 0 | K23: =SUM(K18:K22) -> 0 | M23: =SUM(M18:M22) -> 0
A24: 4. 바탕 면 도장 | B24: 수용성 우레탄 상도 | D24: L | E24: =15*18 -> 270 | G24: =+ROUNDDOWN($E24*F24,0) -> 0 | L24: =+F24+H24+J24 -> 0 | M24: =+G24+I24+K24 -> 0 | N24: =+단가!$A$18 -> 12 | O24: 단가
B25: 도장 인건비 | C25: 2회기준 | D25: =+일위집!D10 -> M2 | E25: 726 | G25: =+ROUNDDOWN($E25*F25,0) -> 0 | I25: =+ROUNDDOWN($E25*H25,0) -> 0 | J25: =+VLOOKUP($N25,일위집!$J$6:$M$10,4,0) -> 0 | K25: =+ROUNDDOWN($E25*J25,0) -> 0 | L25: =+F25+H25+J25 -> 0 | M25: =+G25+I25+K25 -> 0 | N25: =+일위집!$A$10 -> 5 | O25: 호표
B26: 계 | G26: =SUM(G24:G25) -> 0 | I26: =SUM(I24:I25) -> 0 | K26: =SUM(K24:K25) -> 0 | M26: =SUM(M24:M25) -> 0
A27: 합 계 | G27: =+G26+G23+G17+G11 -> 0 | I27: =+I26+I23+I17+I11 -> 0 | K27: =+K26+K23+K17+K11 -> 0 | M27: =+M26+M23+M17+M11 -> 0

Sheet 일위집
A1: < 표 1-2 > | J1: Vlookup 용 지우면 안 됨!
A2: 일 위 대 가 집 계 표
H4: 단 위 : 원
A5: 호표 NO. | B5: 품 명 | C5: 규 격 | D5: 단위 | E5: 재료비 | F5: 노무비 | G5: 경 비 | H5: 계 | J5: 호표 NO. | K5: 직접재료비 | L5: 직접노무비 | M5: 기계경비
A6: =+일위대가표!B7 -> 1 | B6: =+일위대가표!C7 -> 현장 보양 | C6: =+일위대가표!D7 -> 0 | D6: =+일위대가표!E7 -> M2 | E6: =+VLOOKUP($A6,일위대가표!$A$7:$N$43,8,FALSE) -> 0 | F6: =+VLOOKUP($A6,일위대가표!$A$7:$N$43,10,FALSE) -> 0 | G6: =+VLOOKUP($A6,일위대가표!$A$7:$N$43,12,FALSE) -> 0 | H6: =+E6+F6+G6 -> 0 | J6: =+A6 -> 1 | K6: =+E6 -> 0 | L6: =+F6 -> 0 | M6: =+G6 -> 0
A7: =+일위대가표!B12 -> 2 | B7: =+일위대가표!C12 -> 현장정리 | C7: =+일위대가표!D12 -> 0 | D7: =+일위대가표!E12 -> M2 | E7: =+VLOOKUP($A7,일위대가표!$A$7:$N$43,8,FALSE) -> 0 | F7: =+VLOOKUP($A7,일위대가표!$A$7:$N$43,10,FALSE) -> 0 | G7: =+VLOOKUP($A7,일위대가표!$A$7:$N$43,12,FALSE) -> 0 | H7: =+E7+F7+G7 -> 0 | J7: =+A7 -> 2 | K7: =+E7 -> 0 | L7: =+F7 -> 0 | M7: =+G7 -> 0
A8: =+일위대가표!B15 -> 3 | B8: =+일위대가표!C15 -> 철거 시공비 | C8: =+일위대가표!D15 -> 0 | D8: =+일위대가표!E15 -> M2 | E8: =+VLOOKUP($A8,일위대가표!$A$7:$N$43,8,FALSE) -> 0 | F8: =+VLOOKUP($A8,일위대가표!$A$7:$N$43,10,FALSE) -> 0 | G8: =+VLOOKUP($A8,일위대가표!$A$7:$N$43,12,FALSE) -> 0 | H8: =+E8+F8+G8 -> 0 | J8: =+A8 -> 3 | K8: =+E8 -> 0 | L8: =+F8 -> 0 | M8: =+G8 -> 0
A9: =+일위대가표!B19 -> 4 | B9: =+일위대가표!C19 -> 마이크로 토핑 작업 | C9: =+일위대가표!D19 -> 재료비 별도 | D9: =+일위대가표!E19 -> M2 | E9: =+VLOOKUP($A9,일위대가표!$A$7:$N$43,8,FALSE) -> 0 | F9: =+VLOOKUP($A9,일위대가표!$A$7:$N$43,10,FALSE) -> 0 | G9: =+VLOOKUP($A9,일위대가표!$A$7:$N$43,12,FALSE) -> 0 | H9: =+E9+F9+G9 -> 0 | J9: =+A9 -> 4 | K9: =+E9 -> 0 | L9: =+F9 -> 0 | M9: =+G9 -> 0
A10: =+일위대가표!B28 -> 5 | B10: =+일위대가표!C28 -> 도장 작업 | C10: =+일위대가표!D28 -> 2회기준(재료별도) | D10: =+일위대가표!E28 -> M2 | E10: =+VLOOKUP($A10,일위대가표!$A$7:$N$43,8,FALSE) -> 0 | F10: =+VLOOKUP($A10,일위대가표!$A$7:$N$43,10,FALSE) -> 0 | G10: =+VLOOKUP($A10,일위대가표!$A$7:$N$43,12,FALSE) -> 0 | H10: =+E10+F10+G10 -> 0 | J10: =+A10 -> 5 | K10: =+E10 -> 0 | L10: =+F10 -> 0 | M10: =+G10 -> 0

Sheet 일위대가표
B1: < 표 1-2-1 >
B2: 일 위 대 가 표
P4: 단 위 : 원
B5: NO | C5: 품 명 | D5: 규 격 | E5: 단위 | F5: 수량 | G5: 재 료 비 | I5: 노 무 비 | K5: 경 비 | M5: 계 | O5: 비 고
G6: 단가 | H6: 금액 | I6: 단가 | J6: 금액 | K6: 단가 | L6: 금액 | M6: 단가 | N6: 금액
B7: 1 | C7: 현장 보양 | E7: M2 | H7: =+ROUNDDOWN($F7*G7,0) -> 0 | J7: =+ROUNDDOWN($F7*I7,0) -> 0 | L7: =+ROUNDDOWN($F7*K7,0) -> 0 | M7: =+G7+I7+K7 -> 0 | N7: =+H7+J7+L7 -> 0
C8: 텐텐지 | D8: 벽체보양 | E8: M2 | F8: 1 | J8: =+ROUNDDOWN($F8*I8,0) -> 0 | L8: =+ROUNDDOWN($F8*K8,0) -> 0 | M8: =+G8+I8+K8 -> 0 | N8: =+H8+J8+L8 -> 0 | O8: =+단가!$N$7 -> 1 | P8: 단가
C9: 비닐지 | D9: 롤 | E9: M2 | F9: 1 | J9: =+ROUNDDOWN($F9*I9,0) -> 0 | L9: =+ROUNDDOWN($F9*K9,0) -> 0 | M9: =+G9+I9+K9 -> 0 | N9: =+H9+J9+L9 -> 0 | O9: =+단가!$N$8 -> 2 | P9: 단가
C10: 보통인부 | E10: 인 | F10: 0.01 | H10: =+ROUNDDOWN($F10*G10,0) -> 0 | L10: =+ROUNDDOWN($F10*K10,0) -> 0 | M10: =+G10+I10+K10 -> 0 | N10: =+H10+J10+L10 -> 0 | O10: =+#REF! -> #REF! | P10: 노임
A11: 1 | C11: 계 | H11: =SUM(H7:H10) -> 0 | J11: =SUM(J7:J10) -> 0 | L11: =SUM(L7:L10) -> 0 | M11: =+G11+I11+K11 -> 0 | N11: =+H11+J11+L11 -> 0
B12: 2 | C12: 현장정리 | E12: M2 | H12: =+ROUNDDOWN($F12*G12,0) -> 0 | J12: =+ROUNDDOWN($F12*I12,0) -> 0 | L12: =+ROUNDDOWN($F12*K12,0) -> 0 | M12: =+G12+I12+K12 -> 0 | N12: =+H12+J12+L12 -> 0
C13: 보통인부 | E13: 인 | F13: 0.02 | H13: =+ROUNDDOWN($F13*G13,0) -> 0 | J13: =+ROUNDDOWN($F13*I13,0) -> 0 | L13: =+ROUNDDOWN($F13*K13,0) -> 0 | M13: =+G13+I13+K13 -> 0 | N13: =+H13+J13+L13 -> 0 | O13: =+#REF! -> #REF! | P13: 노임
A14: 2 | C14: 계 | H14: =SUM(H12:H13) -> 0 | J14: =SUM(J12:J13) -> 0 | L14: =SUM(L12:L13) -> 0 | M14: =+G14+I14+K14 -> 0 | N14: =SUM(N12:N13) -> 0
B15: 3 | C15: 철거 시공비 | E15: M2 | H15: =+ROUNDDOWN($F15*G15,0) -> 0 | J15: =+ROUNDDOWN($F15*I15,0) -> 0 | L15: =+ROUNDDOWN($F15*K15,0) -> 0 | M15: =+G15+I15+K15 -> 0 | N15: =+H15+J15+L15 -> 0
C16: 견출공 | E16: 인 | F16: 0.011 | H16: =+ROUNDDOWN($F16*G16,0) -> 0 | J16: =+ROUNDDOWN($F16*I16,0) -> 0 | L16: =+ROUNDDOWN($F16*K16,0) -> 0 | M16: =+G16+I16+K16 -> 0 | N16: =+H16+J16+L16 -> 0 | O16: =+#REF! -> #REF! | P16: 노임
C17: 공구손료 및 기계경비 | D17: 노무비의 3% | E17: 식 | F17: 0.03 | H17: =+ROUNDDOWN($F17*G17,0) -> 0 | J17: =+ROUNDDOWN($F17*I17,0) -> 0 | L17: =+ROUNDDOWN($F17*K17,0) -> 0 | M17: =+G17+I17+K17 -> 0 | N17: =+H17+J17+L17 -> 0
A18: 3 | C18: 계 | H18: =SUM(H15:H17) -> 0 | J18: =SUM(J15:J17) -> 0 | L18: =SUM(L15:L17) -> 0 | M18: =+G18+I18+K18 -> 0 | N18: =+H18+J18+L18 -> 0
B19: 4 | C19: 마이크로 토핑 작업 | D19: 재료비 별도 | E19: M2 | H19: =+ROUNDDOWN($F19*G19,0) -> 0 | J19: =+ROUNDDOWN($F19*I19,0) -> 0 | L19: =+ROUNDDOWN($F19*K19,0) -> 0 | M19: =+G19+I19+K19 -> 0 | N19: =+H19+J19+L19 -> 0
C20: < 몰탈 바름 >
C21: 미장공 | E21: 인 | F21: 0.05 | O21: =+#REF! -> #REF! | P21: 노임
C22: 보통인부 | E22: 인 | F22: 0.02
C23: 공구손료 및 기계경비 | D23: 노무비의 2% | E23: 식 | F23: 0.02
C24: < 샌딩, 폴리싱 >
C25: 견출공 | E25: 인 | F25: 0.011
C26: 공구손료 및 기계경비 | D26: 노무비의 3% | E26: 식 | F26: 0.03
A27: =+B19 -> 4 | C27: 계 | H27: =SUM(H19:H26) -> 0 | J27: =SUM(J19:J26) -> 0 | L27: =SUM(L24:L26) -> 0 | M27: =SUM(M19:M26) -> 0 | N27: =+H27+J27+L27 -> 0
B28: =+B19+1 -> 5 | C28: 도장 작업 | D28: 2회기준(재료별도) | E28: M2 | H28: =+ROUNDDOWN($F28*G28,0) -> 0 | J28: =+ROUNDDOWN($F28*I28,0) -> 0 | L28: =+ROUNDDOWN($F28*K28,0) -> 0 | M28: =+G28+I28+K28 -> 0 | N28: =+H28+J28+L28 -> 0
C29: 도장공 | E29: 인 | F29: =0.012*2 -> 0.024
C30: 보통인부 | E30: 인 | F30: =0.002*2 -> 0.004
C31: 공구손료 및 잡재료비 | D31: 노무비의 2% | E31: 식 | F31: 0.02
A32: =+B28 -> 5 | C32: 계 | H32: =SUM(H28:H31) -> 0 | J32: =SUM(J28:J31) -> 0 | L32: =SUM(L28:L31) -> 0 | M32: =+G32+I32+K32 -> 0 | N32: =+H32+J32+L32 -> 0

Sheet 단가
A1: < 표 1-4 > | N1: Vlookup 용 지우면 안 됨!
A2: 단 가 조 사 표
E4: 숨기기 | L4: 단 위 : 원 | O4: 단 위 : 원
A5: NO | B5: 품 명 | C5: 규 격 | D5: 단위 | E5: 적용단가 | F5: 가격정보 | G5: 물가자료 | I5: 물가정보 | K5: 견적 | L5: 적용단가 | N5: NO | O5: 적용단가
G6: 단가 | H6: Page | I6: 단가 | J6: Page
A7: 1 | B7: 텐텐지 | C7: 벽체보양 | D7: M2 | E7: 10 | L7: =+ROUNDDOWN(MIN(F7,G7,I7,K7),0) -> 0 | N7: =+A7 -> 1 | O7: =+L7 -> 0
A8: =+A7+1 -> 2 | B8: 비닐지 | C8: 롤 | D8: M2 | E8: 2 | L8: =+ROUNDDOWN(MIN(F8,G8,I8,K8),0) -> 0 | N8: =+A8 -> 2 | O8: =+L8 -> 0
A9: =+A8+1 -> 3 | B9: 운반비 | D9: 대 | E9: 2 | L9: =+ROUNDDOWN(MIN(F9,G9,I9,K9),0) -> 0 | N9: =+A9 -> 3 | O9: =+L9 -> 0
A10: =+A9+1 -> 4 | B10: 장비임대 | C10: 집진기 | D10: 대 | E10: 1 | L10: =+ROUNDDOWN(MIN(F10,G10,I10,K10),0) -> 0 | N10: =+A10 -> 4 | O10: =+L10 -> 0
A11: =+A10+1 -> 5 | B11: 장비임대 | C11: 무소음제거기 | D11: 대 | E11: 1 | L11: =+ROUNDDOWN(MIN(F11,G11,I11,K11),0) -> 0 | N11: =+A11 -> 5 | O11: =+L11 -> 0
A12: =+A11+1 -> 6 | B12: 부자재 | D12: 식 | E12: 1 | L12: =+ROUNDDOWN(MIN(F12,G12,I12,K12),0) -> 0 | N12: =+A12 -> 6 | O12: =+L12 -> 0
A13: =+A12+1 -> 7 | B13: 폐기물 처리 | D13: 식 | E13: 1 | L13: =+ROUNDDOWN(MIN(F13,G13,I13,K13),0) -> 0 | N13: =+A13 -> 7 | O13: =+L13 -> 0
A14: =+A13+1 -> 8 | B14: 칼라믹스 | C14: SL 파우더 | D14: KG | E14: 1 | L14: =+ROUNDDOWN(MIN(F14,G14,I14,K14),0) -> 0 | N14: =+A14 -> 8 | O14: =+L14 -> 0
A15: =+A14+1 -> 9 | B15: 칼라믹스 | C15: M 미장파우더 | D15: KG | E15: 20 | L15: =+ROUNDDOWN(MIN(F15,G15,I15,K15),0) -> 0 | N15: =+A15 -> 9 | O15: =+L15 -> 0
A16: =+A15+1 -> 10 | B16: 액상 바인더 수지 | C16: CEM-POLY 300 | D16: L | E16: 6 | L16: =+ROUNDDOWN(MIN(F16,G16,I16,K16),0) -> 0 | N16: =+A16 -> 10 | O16: =+L16 -> 0
A17: =+A16+1 -> 11 | B17: 액상 프라이머 수지 | C17: CEM-POLY 500P | D17: L | E17: 2 | L17: =+ROUNDDOWN(MIN(F17,G17,I17,K17),0) -> 0 | N17: =+A17 -> 11 | O17: =+L17 -> 0
A18: =+A17+1 -> 12 | B18: 수용성 우레탄 상도 | D18: L | E18: 1 | L18: =+ROUNDDOWN(MIN(F18,G18,I18,K18),0) -> 0 | N18: =+A18 -> 12 | O18: =+L18 -> 0
