Workbook
Name __: #REF!
Name __: #REF!
Name __: #REF!
Name __: #REF!
Name ___TB02: #REF!
Name ___TB02: #REF!
Name __2_2000년입출고: #REF!
Name __2000년입출고: #REF!
Name __2000년입출고: #REF!
Name __2000년입출고: #REF!
Name __TB02: #REF!
Name __TB02: #REF!
Name __TB02: #REF!
Name _±: #REF!
Name _±: #REF!
Name _±: #REF!
Name _±: #REF!
Name _0: #REF!
Name _0: #REF!
Name _0: #REF!
Name _0: #REF!
Name _1: #N/A
Name _10R_0PA: #REF!
Name _11R_0PA: #REF!
Name _15U_0PA: #REF!
Name _17U_0PA: #REF!
Name _18U_0PA: #REF!
Name _2_2000년입출고: #REF!
Name _2_2000년입출고: #REF!
Name _2_2000년입출고: #REF!
Name _2000년입출고: #REF!
Name _2000년입출고: #REF!
Name _2000년입출고: #REF!
Name _2000년입출고: #REF!
Name _4_2000년입출고: #REF!
Name _4R_0PA: #REF!
Name _4R_0PA: #REF!
Name _4R_0PA: #REF!
Name _6U_0PA: #REF!
Name _6U_0PA: #REF!
Name _6U_0PA: #REF!
Name _8R_0PA: #REF!
Name _TB02: #REF!
Name _TB02: #REF!
Name _TB02: #REF!
Name _TB02: #REF!
Name A: #REF!
Name A: #REF!
Name A: #REF!
Name A: #REF!
Name d: #REF!
Name d: #REF!
Name d: #REF!
Name INPUT: #REF!
Name INPUT: #REF!
Name INPUT: #REF!
Name INPUT: #REF!
Name PERIOD_END: #REF!
Name PERIOD_END: #REF!
Name PERIOD_END: #REF!

Sheet 토지(위원회)
B3: 한국문화예술위원회 토지내역 명세서
B5: 2020년 12월 31일 현재
F8: (단위 : 원)
B9: 지 번 | C9: 취득일 | D9: 면 적 | F9: 금 액
D10: 평방미터 | E10: 평
B12: 종로구 대학로 8길 7(아르코 예술극장) (동숭동 1-111) | C12: 28781 | D12: 4545.6 | E12: 1375 | F12: 37814400000
B13: 종로구 동숭길 3(예술가의집및미술관) (동숭동 1-130) | C13: 28488 | D13: 5168.2 | E13: 1563 | F13: 84238400000
B14: 고양시 일산동구 성현로 513번길 10 (인력개발원 455-6) | C14: 32865 | D14: 72 | E14: 22 | F14: 25488000
B15: 고양시 일산동구 성현로 513번길 10 (인력개발원 464-1) | C15: 32865 | D15: 978 | E15: 325 | F15: 441414000
B16: 고양시 일산동구 성현로 513번길 10 (인력개발원 464-2) | C16: 32865 | D16: 6665 | E16: 2016 | F16: 2599350000
B17: 고양시 일산동구 성현로 513번길 10 (인력개발원 464-5) | C17: 32865 | D17: 34 | E17: 10 | F17: 12648000
B18: 종로구 동숭동 대학로 10길 17(문화공간) (동숭동 1-67) | C18: 38415 | D18: 2243 | E18: 938.3 | F18: 23327200000
B19: 전라남도 나주시 빛가람동 352번지 | C19: 40975 | D19: 9179.7 | E19: 2776.8592 | F19: 3732208420
B22: 합 계 | D22: =SUM(D12:D21) -> 28885.5 | E22: =SUM(E12:E21) -> 9026.1593 | F22: =SUM(F12:F21) -> 152191108420

Sheet 건물(위원회)
B2: 한국문화예술위원회 건물 내역 명세서
B4: 2020년 12월 31일 현재
H6: (단위 : 원)
B7: 구 분 | C7: 취득일 | D7: 내 역 | E7: 취득가액 | F7: 당기증가액 | G7: 상각누계액 | H7: 잔존가액
B8: 예술가의 집 (동숭동 1-130) | C8: 28045 | D8: 종로구 동숭길 3, 연와조 합석즙(1,634.71㎡) 1931년10월 완공 | E8: 501462545 | G8: 278590300 | H8: =E8-G8 -> 222872245
D9: 1층(589.09㎡) 2층(620.50㎡) 3층(410.58㎡) 옥탑(7.93㎡) 수위실1층(6.61㎡)
B10: 아르코미술관 (동숭동 1-130) | C10: 29004 | D10: 종로구 동숭길 3, 철근콘크리트조 라면조 일부트라스조(2,969.58㎡) | E10: 910946392 | G10: 506081330 | H10: =E10-G10 -> 404865062
D11: 지하1층(960.99㎡) 1층(664.46㎡) 2층(754.38㎡) 3층(501.15㎡) 옥탑(88.60㎡)
B12: 아르코예술극장 (동숭동 1-111) | C12: 29677 | D12: 종로구 대학로 8길 7,철근콘크리트조 라면조 일부라스조(5,418.35㎡) | E12: 2093034981 | G12: 1046517490 | H12: =E12-G12 -> 1046517491
D13: 지하1층(1609.08㎡) 1층(2371.29㎡) 2층(1018.51㎡) 3층(366.56㎡) 옥탑(106.91㎡)
B14: 예술인력개발원 | C14: 33777 | D14: 고양시 일산동구 성현로 513번길 10 (464-1, 464-2)(4,876.43㎡) | E14: 2058670350 | G14: 664087210 | H14: =E14-G14 -> 1394583140
C15: 02년 | D15: 1. 연수동 : 철근콘크리트조 스라브 5층(1,784.53㎡)
C16: 증개축 | D16: 1층(329.49㎡), 2-5층까지(363.76㎡)동일
D17: 2. 제작 및 작화동 : 철근콘크리트조 슬라브 3층(1,598.85㎡)
D18: 1층(771.76㎡), 2층(670.41㎡), 3층(156.68㎡)
D19: 3. 보관동 : 철근콘크리트조 볼트레스2층(1,480.25㎡)
D20: 1층(1,119.77㎡), 2층(360.48㎡)
D21: 4. 수위실 : 조적조 스라브단층(12.8㎡)
B22: 나주본관 | C22: 41744 | D22: 전라남도 나주시 빛가람로 640, 철근콘크리트지붕 3층 | E22: 10179335600 | G22: 1301139774 | H22: =E22-G22 -> 8878195826
D23: 지하1층(817.21㎡), 2층(863.77㎡), 2층(1214.1㎡),3층(1108.15㎡)
B24: 대학로예술극장 | C24: 39631 | D24: 종로구 대학로 10길 17 철골철근 콘크리트구조(8,585.08㎡) | E24: 8030141852 | G24: 1825032240 | H24: =E24-G24 -> 6205109612
D25: 지하층(4,687.91㎡) 1층(902.34㎡) 2층(1,027.16㎡) 3층(852.01㎡) 4층(757.34㎡) 5층(358.32㎡)
B26: 대학로예술극장 (지하 1-11호) | C26: 41985 | D26: 종로구 대학로 10길 17 철골철근 콘크리트구조 | E26: 320000000 | G26: 49090907 | H26: =E26-G26 -> 270909093
D27: 지하 1층 11호(43.24㎡)
B28: 나주 사택 | C28: 42167 | D28: 전라남도 나주시 한빛로 61 빛가람우미린 | E28: 220725150 | G28: 24647642 | H28: =E28-G28 -> 196077508
C29: 42180 | D29: 전라남도 나주시 한빛로 61 빛가람우미린 | E29: 218614556 | G29: 24411958 | H29: =E29-G29 -> 194202598
C30: 42180 | D30: 전라남도 나주시 한빛로 61 빛가람우미린 | E30: 218413676 | G30: 24389530 | H30: =E30-G30 -> 194024146
C31: 42180 | D31: 전라남도 나주시 한빛로 61 빛가람우미린 | E31: 218413676 | G31: 24389530 | H31: =E31-G31 -> 194024146
C32: 42180 | D32: 전라남도 나주시 한빛로 61 빛가람우미린 | E32: 220729382 | G32: 24648116 | H32: =E32-G32 -> 196081266
C33: 42195 | D33: 전라남도 나주시 한빛로 61 빛가람우미린 | E33: 227456980 | G33: 25020270 | H33: =E33-G33 -> 202436710
C34: 42208 | D34: 전라남도 나주시 한빛로 61 빛가람우미린 | E34: 218393258 | G34: 24023258 | H34: =E34-G34 -> 194370000
C35: 42271 | D35: 전라남도 나주시 한빛로 61 빛가람우미린 | E35: 246721800 | G35: 26316992 | H35: =E35-G35 -> 220404808
B36: 합 계 | E36: =SUM(E8:E35) -> 25883060198 | F36: =SUM(F8:F35) -> 0 | G36: =SUM(G8:G35) -> 5868386547 | H36: =SUM(H8:H35) -> 20014673651 | I36: =H36-#REF! -> #REF!

Sheet 구축물(위원회)
B2: 구축물 및 감가상각비 내역 명세서
B4: 2020년 12월 31일 현재
B6: 한국문화예술위원회 | G6: (단위 : 원)
B7: 구분 | C7: 취득일 | D7: 전기이월 | F7: 당기상각액 | G7: 잔존가액
D8: 취득가액 | E8: 기상각액
B9: 복층공사 | C9: 39692 | D9: 14592000 | E9: 14591000 | F9: 0 | G9: =D9-E9-F9 -> 1000
B10: 사무실보수.경비실창신설 | C10: 39751 | D10: 2254080 | E10: 2253080 | F10: 0 | G10: =D10-E10-F10 -> 1000
B11: 통신시스템공사 | C11: 39797 | D11: 3840000 | E11: 3839000 | F11: 0 | G11: =D11-E11-F11 -> 1000
B12: 사인시설물 | C12: 39801 | D12: 8448000 | E12: 8447000 | F12: 0 | G12: =D12-E12-F12 -> 1000
B13: 간판사인디자인 | C13: 39805 | D13: 1344000 | E13: 1343000 | F13: 0 | G13: =D13-E13-F13 -> 1000
B14: 냉온수기세관공사 | C14: 39954 | D14: 4817000 | E14: 4816000 | F14: 0 | G14: =D14-E14-F14 -> 1000
B15: 승강기용냉방시스템설치 | C15: 40023 | D15: 6500000 | E15: 6499000 | F15: 0 | G15: =D15-E15-F15 -> 1000
B16: 문화공간시설물공사 | C16: 40059 | D16: 6360000 | E16: 6359000 | F16: 0 | G16: =D16-E16-F16 -> 1000
B17: 예술지원운영시스템(H/W)(CPU,메모리) | C17: 40623 | D17: 37950000 | E17: 36910927 | F17: 1038073 | G17: =D17-E17-F17 -> 1000
B18: 합계 | D18: =SUM(D9:D17) -> 86105080 | E18: =SUM(E9:E17) -> 85058007 | F18: =SUM(F9:F17) -> 1038073 | G18: =SUM(G9:G17) -> 9000 | I18: =G18-#REF! -> #REF!

Sheet 기계장치(위원회)
B2: 기계장치내역 및 감가상각비 명세서
B4: 2020년 12월 31일 현재
B5: 한국문화예술위원회 | G5: (단위 : 원)
B6: 구분 | C6: 취득일 | D6: 전기이월 | F6: 당기상각액 | G6: 잔존가액
D7: 취득가액 | E7: 기상각액
B8: 무대면막1식 | C8: 81년 | D8: 125641847 | E8: 125640847 | G8: =D8-E8-F8 -> 1000
B9: 음향장치1식 | C9: 81년 | D9: 154321221 | E9: 154320221 | G9: =D9-E9-F9 -> 1000
B10: 변전실 | C10: 81년 | D10: 114759683 | E10: 114758683 | G10: =D10-E10-F10 -> 1000
B11: 마이크라인1식 | C11: 87년 | D11: 7953160 | E11: 7952160 | G11: =D11-E11-F11 -> 1000
B12: 변압기용량감량 | C12: 87년 | D12: 13732400 | E12: 13731400 | G12: =D12-E12-F12 -> 1000
B13: 보일러공사1식 | C13: 88년 | D13: 76400000 | E13: 76399000 | G13: =D13-E13-F13 -> 1000
B14: 자동개폐기(문) | C14: 90년 | D14: 2972200 | E14: 2971200 | G14: =D14-E14-F14 -> 1000
B15: 냉동기,도시가스 | C15: 33424 | D15: 12500000 | E15: 12499000 | G15: =D15-E15-F15 -> 1000
B16: 테이블리프트 | C16: 33472 | D16: 3953200 | E16: 3952200 | G16: =D16-E16-F16 -> 1000
B17: 무대덧마루1식 | C17: 33483 | D17: 33600000 | E17: 33599000 | G17: =D17-E17-F17 -> 1000
B18: 기중차단기 | C18: 33511 | D18: 5225000 | E18: 5224000 | G18: =D18-E18-F18 -> 1000
B19: 음향반사판 | C19: 33561 | D19: 2400000 | E19: 2399000 | G19: =D19-E19-F19 -> 1000
B20: 고압차단기 | C20: 33596 | D20: 16863000 | E20: 16862000 | G20: =D20-E20-F20 -> 1000
B21: 승강기1식 | C21: 33665 | D21: 47300000 | E21: 47299000 | G21: =D21-E21-F21 -> 1000
B22: CCTV,전자감지기 | C22: 33842 | D22: 37700000 | E22: 37699000 | G22: =D22-E22-F22 -> 1000
B23: 배관설비 | C23: 33935 | D23: 73524000 | E23: 73523000 | G23: =D23-E23-F23 -> 1000
B24: 전화교환대 | C24: 33969 | D24: 37950000 | E24: 37949000 | G24: =D24-E24-F24 -> 1000
B25: 공조시설인입 | C25: 33941 | D25: 4829000 | E25: 4828000 | G25: =D25-E25-F25 -> 1000
B26: 인터폰(연) | C26: 33759 | D26: 7755000 | E26: 7754000 | G26: =D26-E26-F26 -> 1000
... B119: 메일서버 확장을 위한 하드디스크 증설 | C119: 41226 | D119: 9900000 | E119: 9899000 | G119: =D119-E119-F119 -> 1000
B120: 음향녹음실 입출력 패치베이 교체 | C120: 43822 | D120: 24000000 | E120: 902000 | F120: 10417198 | G120: =D120-E120-F120 -> 12680802
B121: 음향녹음실 재정비 | C121: 43822 | D121: 28000000 | E121: 1052333 | F121: 12153398 | G121: =D121-E121-F121 -> 14794269
B122: 정보화기기(서버, 스토리지) | C122: 44007 | D122: 24794000 | F122: 6522888 | G122: =D122-E122-F122 -> 18271112
B123: 정보화기기(서버, 스토리지) | C123: 44007 | D123: 20240000 | F123: 5324807 | G123: =D123-E123-F123 -> 14915193
B124: 음향장비구입(디지털 서라운드 컨트롤러) | C124: 44144 | D124: 6600000 | F124: 496100 | G124: =D124-E124-F124 -> 6103900
B125: 인터넷데이터센터 백본 스위치 교체 | C125: 44161 | D125: 4356000 | F125: 327426 | G125: =D125-E125-F125 -> 4028574
B126: 녹음실 송출장비 | C126: 44173 | D126: 2799500 | F126: 105215 | G126: =D126-E126-F126 -> 2694285
B127: 정보화기기(서버) HP DL360 Gen10 | C127: 44180 | D127: 43340000 | F127: 1628862 | G127: =D127-E127-F127 -> 41711138
G128: =D128-E128-F128 -> 0
B129: 합 계 | D129: =SUM(D8:D128) -> 7163604839 | E129: =SUM(E8:E128) -> 7011321672 | F129: =SUM(F8:F128) -> 36975894 | G129: =SUM(G8:G128) -> 115307273 | I129: =G129-#REF! -> #REF!

Sheet 관계회사주식,미술작품내역서
B2: 관계회사주식내역명세서
B3: 2020년 12월 31일 현재
B4: 한국문화예술위원회 | E4: (단위 : 원)
B5: 항 목 | C5: 내 역 | D5: 금 액 | E5: 비 고
B7: 관계회사주식 | C7: 한국문화진흥㈜ 주식 | D7: 200000000
C8: * 1주당주식 : 10,000원
C9: * 총 주식수 : 20,000주
B17: 합 계 | D17: =SUM(D6:D16) -> 200000000
B21: 미술작품내역명세서
B22: 2020년 12월 31일 현재
B23: 한국문화예술위원회 | E23: (단위 : 원)
B24: 항 목 | C24: 내 역 | D24: 당기말잔액 | E24: 비 고
B26: 미술작품 | C26: ○ 한국화 (34점) | D26: =1340255000+11000000+3000000-360000 -> 1353895000
C27: ○ 양화 (100점)
C28: ○ 조각 (73점)
C29: ○ 판화 (12점)
C30: ○ 서예 (77점)
C31: ○ 공예 (53점)
C32: ○ 사진 (13점)
C33: ○ 기타 (44점)
B36: 합 계 | D36: =SUM(D26:D35) -> 1353895000 | G36: =D36-#REF! -> #REF!

Sheet 증감(골프장)
B3: 한국문화예술위원회 기본재산 증감현황 (뉴서울 골프장)
B7: 2020년 12월 31일 현재 한국문화예술위원회 (뉴서울 골프장) 기본재산 증감 현황
F9: (단위 : 원)
B10: 구 분 | C10: 전기말 잔액 | D10: 당기 증가액 | E10: 당기 감소액 | F10: 기말 잔액
B14: 토 지 | C14: 223045377380 | E14: -2205000 | F14: =SUM(C14:E14) -> 223043172380
B15: 건 물 | C15: 5692263001 | E15: -1.7884834e+08 | F15: =SUM(C15:E15) -> 5.5134147e+09
B16: 기 계 장 치 | C16: 122980494 | D16: 582502000 | E16: =-263982980-5000 -> -263987980 | F16: =SUM(C16:E16) -> 441494514
B17: 구 축 물 | C17: 2159353463 | D17: 450186319 | E17: -393595841 | F17: =SUM(C17:E17) -> 2215943941
B18: 코 스 | C18: 19422139959 | E18: 0 | F18: =SUM(C18:E18) -> 19422139959
B22: 합 계 | C22: =SUM(C14:C18) -> 250442114297 | D22: =SUM(D14:D18) -> 1032688319 | E22: =SUM(E14:E18) -> -8.3863716e+08 | F22: =SUM(F14:F18) -> 2.5063617e+11
B24: ▣ 증가내역
B25: 1. 구축물 | C25: : 목재안전휀스 설치공사, 문화코스 개선공사, 야간조명시설 공사
B26: 2. 기계장치 | C26: : 코스 관련 장비(페어웨이스위퍼2대, 천연잔디 관리장비), 욕탕 여과기 등 구입
B29: ▣ 감소내역
B30: 1. 토지 | C30: : 도로 건설 관련 삼동 산 57-21 임야 일부 수용에 따른 매각
B31: 2. 건물 | C31: : 감가상각비 등 계상
B32: 3. 기계장치 | C32: : 노후화된 기계장치 불용처리 및 감가상각비 계상
B33: 4. 구축물 | C33: : 감가상각비 계상

Sheet 토지총괄(골프장)
B3: 한국문화예술위원회(뉴서울골프장) 토지 내역
B5: 2020년 12월 31일 현재
L8: (단위:㎡, 평)
B9: 구 분 | C9: 총 계 | F9: 목 현 동 | I9: 삼 동 | L9: 탄 벌 동
C10: 필 지 | D10: 면 적 | F10: 필 지 | G10: 면 적 | I10: 필 지 | J10: 면 적 | L10: 필 지 | M10: 면 적
D11: ㎡ | E11: 평 | G11: ㎡ | H11: 평 | J11: ㎡ | K11: 평 | M11: ㎡ | N11: 평
B13: 체육용지 | C13: 24 | D13: 1591161 | E13: 481326.2 | F13: 11 | G13: 839088 | H13: 253824.1 | I13: 12 | J13: 751770 | K13: 227410.4 | L13: 1 | M13: 303 | N13: 91.7
B14: 임 야 | C14: 76 | D14: 1043074 | E14: 315529.9 | F14: 32 | G14: 547075 | H14: 165490.2 | I14: 42 | J14: 493145 | K14: 149176.4 | L14: 2 | M14: 2854 | N14: 863.3
B15: 전 | C15: 13 | D15: 32965 | E15: 9972 | F15: 7 | G15: 26343 | H15: 7968.8 | I15: 6 | J15: 6622 | K15: 2003.2
B16: 답 | C16: 4 | D16: 6012 | E16: 1818.6 | F16: 4 | G16: 6012 | H16: 1818.6 | I16: 0 | J16: 0 | K16: 0
B17: 도 로 | C17: 5 | D17: 1773 | E17: 536.3 | I17: 5 | J17: 1773 | K17: 536.3
B18: 대 지 | C18: 2 | D18: 1286 | E18: 389 | I18: 2 | J18: 1286 | K18: 389
B20: 합계 | C20: =SUM(C13:C18) -> 124 | D20: =SUM(D13:D18) -> 2676271 | E20: =SUM(E13:E18) -> 809572 | F20: =SUM(F13:F18) -> 54 | G20: =SUM(G13:G18) -> 1418518 | H20: =SUM(H13:H18) -> 429101.7 | I20: =SUM(I13:I18) -> 67 | J20: =SUM(J13:J18) -> 1254596 | ... N20: =SUM(N13:N18) -> 955

Sheet 토지(골프장)
B2: 한국문화예술위원회 (뉴서울 골프장)토지내역 명세서
B4: 2020년 12월 31일 현재
I5: (단위 : 원)
B6: 번호 | C6: 지 번 | D6: 지 목 | E6: 취 득 일 자 | F6: 지 적 | H6: 개별공시지가 | I6: 자산재평가
F7: ㎡ | G7: 평 | I7: 평가금액
B8: (광주시 탄벌동)
B9: 1 | C9: 662-1 | D9: 체육용지 | E9: 1987.09.26 | F9: 303 | G9: 91.6575 | H9: 91000 | I9: 27270000
B10: 2 | C10: 산86 | D10: 임 야 | E10: 1987.09.26 | F10: 2689 | G10: 813.4225 | H10: 91000 | I10: 242010000
B11: 3 | C11: 668-3 | D11: 임 야 | E11: 1987.09.26 | F11: 165 | G11: 49.9125 | H11: 20000 | I11: 2904000
B12: 소계 | F12: 3157 | G12: 954.9925 | I12: =SUM(I9:I11) -> 272184000
B13: (광주시 목현동)
B14: 4 | C14: 163 | D14: 체육용지 | E14: 1987.09.26 | F14: 189023 | G14: 57179.457 | H14: 91000 | I14: 17012070000
B15: 5 | C15: 163-4 | D15: 체육용지 | E15: 1987.09.26 | F15: 5435 | G15: 1644.0875 | H15: 91000 | I15: 489150000
B16: 6 | C16: 163-5 | D16: 임 야 | E16: 1987. 9.26(구 산208-1) | F16: 11521 | G16: 3485.1025 | H16: 91000 | I16: 1036890000
B17: 7 | C17: 163-5 | D17: 임 야 | E17: 2006. 7.13 | F17: 663 | G17: 200.5575 | H17: 91000 | I17: 59670000
B18: 8 | C18: 164 | D18: 답 | E18: 1987.09.26 | F18: 1580 | G18: 477.95 | H18: 91000 | I18: 142200000
B19: 9 | C19: 182 | D19: 임 야 | E19: 1987.09.26 | F19: 936 | G19: 283.14 | H19: 91000 | I19: 84240000
B20: 10 | C20: 186 | D20: 임 야 | E20: 1987.09.26 | F20: 5322 | G20: 1609.905 | H20: 32100 | I20: 159127800
B21: 11 | C21: 216-1 | D21: 답 | E21: 1987.09.26 | F21: 803 | G21: 242.9075 | H21: 91000 | I21: 72270000
B22: 12 | C22: 219 | D22: 답 | E22: 1988.06.23 | F22: 3006 | G22: 909.315 | H22: 91000 | I22: 270540000
B23: 13 | C23: 219-3 | D23: 체육용지 | E23: 1988.06.23 | F23: 548152 | G23: 165815.98 | H23: 91000 | I23: 49333680000
B24: 14 | C24: 220 | D24: 전 | E24: 1987.09.26 | F24: 1146 | G24: 346.665 | H24: 91000 | I24: 103140000
B25: 15 | C25: 227-2 | D25: 답 | E25: 1987.09.26 | F25: 623 | G25: 188.4575 | H25: 91000 | I25: 56070000
... B46: 36 | C46: 산164-3(182/4,186) | D46: 임 야 | E46: 1987.09.26 | F46: 4368 | G46: 1321.32 | H46: 91000 | I46: 393120000
B47: (광주시 목현동)
B48: 37 | C48: 산164-4 | D48: 임 야 | E48: 1987.09.26 | F48: 6007 | G48: 1817.1175 | H48: 91000 | I48: 540630000
B49: 38 | C49: 산164-5(130,602/8,522) | D49: 임 야 | E49: 1987.09.26 | F49: 139124 | G49: 42085.01 | H49: 91000 | I49: 12521160000
B50: 39 | C50: 산164-6 | D50: 임 야 | E50: 1987.09.26 | F50: 2432 | G50: 735.68 | H50: 91000 | I50: 218880000
B51: 40 | C51: 산164-7 | D51: 임 야 | E51: 1987.09.26 | F51: 9420 | G51: 2849.55 | H51: 91000 | I51: 847800000
B52: 41 | C52: 산164-8 | D52: 임 야 | E52: 1987.09.26 | F52: 3095 | G52: 936.2375 | H52: 91000 | I52: 278550000
B53: 42 | C53: 산168-1(4/4,790) | D53: 임 야 | E53: 1987.09.26 | F53: 4794 | G53: 1450.185 | H53: 91000 | I53: 431460000
B54: 43 | C54: 산169-3 | D54: 임 야 | E54: 1987.09.26 | F54: 30136 | G54: 9116.14 | H54: 91000 | I54: 2712240000
B55: 44 | C55: 산169-4 | D55: 임 야 | E55: 1987.09.26 | F55: 4399 | G55: 1330.6975 | H55: 91000 | I55: 395910000
B56: 45 | C56: 산170-3 | D56: 임 야 | E56: 1987.09.26 | F56: 5025 | G56: 1520.0625 | H56: 91000 | I56: 452250000
B57: 46 | C57: 산171-1 | D57: 임 야 | E57: 1987.09.26 | F57: 2040 | G57: 617.1 | H57: 91000 | I57: 183600000
B58: 47 | C58: 산171-3 | D58: 임 야 | E58: 1987.09.26 | F58: 17309 | G58: 5235.9725 | H58: 91000 | I58: 1557810000
B59: 48 | C59: 산176-5 | D59: 임 야 | E59: 1987.06.26 | F59: 9977 | G59: 3018.0425 | H59: 91000 | I59: 897930000
... B65: 54 | C65: 산245-1 | D65: 임 야 | E65: 1987.09.26 | F65: 80787 | G65: 24438.068 | H65: 91000 | I65: 7270830000
B66: 소계 | F66: 1402509 | G66: 424258.97 | I66: =SUM(I48:I65)+SUM(I14:I46) -> 125604186400
B67: (광주시 삼동)
...

Sheet 건물(골프장)
B2: 뉴서울 골프장 건물 내역 명세서
B4: 2020년 12월 31일 현재
B6: 한국문화예술위원회(뉴서울골프장) | F6: (단위 : 원)
B7: 구 분 | C7: 취득일 | D7: 취 득 가 액 | E7: 상각 누계액 | F7: 잔존가액
B8: 휴 게 소 1 동 | C8: 90. 1. 1 | D8: 20788800 | E8: 5330460 | F8: =D8-E8 -> 15458340
B9: 휴 게 소 2 동 | C9: 90. 1. 1 | D9: 23424000 | E9: 6006150 | F9: =D9-E9 -> 17417850
B10: 휴 게 소 3 동 | C10: 90. 1. 1 | D10: 23424000 | E10: 6006150 | F10: =D10-E10 -> 17417850
B11: 휴 게 소 4 동 | C11: 90. 1. 1 | D11: 23424000 | E11: 6006150 | F11: =D11-E11 -> 17417850
B12: 식 재 료 창 고 | C12: 90. 1. 1 | D12: 25211250 | E12: 6464420 | F12: =D12-E12 -> 18746830
B13: 클 럽 하 우 스 | C13: 90. 1. 1 | D13: 3438846090 | E13: 881755410 | F13: =D13-E13 -> 2557090680
B14: 기 사 대 기 실 | C14: 90. 1. 1 | D14: 134164350 | E14: 34401120 | F14: =D14-E14 -> 99763230
B15: 수 위 실 | C15: 90. 1. 1 | D15: 11412000 | E15: 3935170 | F15: =D15-E15 -> 7476830
B16: 연 습 장 관 리 동 | C16: 90. 1. 1 | D16: 8300000 | E16: 2128210 | F16: =D16-E16 -> 6171790
B17: 사무실 및 복지회관 | C17: 90. 1. 1 | D17: 95418000 | E17: 24466150 | F17: =D17-E17 -> 70951850
B18: 장 비 실 | C18: 90. 1. 1 | D18: 165060000 | E18: 86873680 | F18: =D18-E18 -> 78186320
B19: 장비창고 증축공사 | C19: 95. 4.21 | D19: 13310050 | E19: 5545850 | F19: =D19-E19 -> 7764200
... B29: 코스관리동 신축 공사 | C29: 14.07.26 | D29: 958435653 | E29: 105907139 | F29: =D29-E29 -> 852528514
B30: 건 물 계 | D30: =SUM(D8:D29) -> 7184199029 | E30: =SUM(E8:E29) -> 1.6707844e+09 | F30: =SUM(F8:F29) -> 5.5134147e+09 | H30: ='증감(골프장)'!F15 -> 5.5134147e+09 | I30: =F30-H30 -> 0

Sheet 기계장치(골프장)
B2: 기계장치 명세서
B4: 2020년 12월 31일 현재
B5: 한국문화예술위원회(뉴서울골프장) | H5: (단위 : 원)
B6: 구 분 | C6: 취득일 | D6: 취 득 가 액 | E6: 기 상각액 | F6: 당기 상각액 | G6: 상각 누계액 | H6: 잔존가액
B7: 스 프 링 쿨 러 | C7: 90. 1. 1 | D7: 293857338 | E7: 65000000 | F7: 0 | G7: 293857338 | H7: =D7-G7 -> 0
B8: 어 프 로 치 모 아 | C8: 94. 8.31 | D8: 5200000 | E8: 293857338 | F8: 0 | G8: 5200000 | H8: =D8-G8 -> 0
B9: 비 상 전 원 발전기 | C9: 95. 6.30 | D9: 34545455 | E9: 5200000 | F9: 0 | G9: 34545455 | H9: =D9-G9 -> 0
B10: 5갱 트 랙 타 모 아 | C10: 95. 6.30 | D10: 44490909 | E10: 550000 | F10: 0 | G10: 44490909 | H10: =D10-G10 -> 0
B11: 탯 칭 휠 1개 | C11: 95. 6.30 | D11: 4600000 | E11: 34545455 | F11: 0 | G11: 4600000 | H11: =D11-G11 -> 0
B12: 목 재 파 쇄 기 | C12: 95. 8.31 | D12: 12727273 | E12: 44490909 | F12: 0 | G12: 12727273 | H12: =D12-G12 -> 0
B13: 남3홀 음용수 심정수 공사 | C13: 95.12.27 | D13: 20454545 | E13: 4600000 | F13: 0 | G13: 20454545 | H13: =D13-G13 -> 0
B14: 트 랙 타 1대 | C14: 97. 4.30 | D14: 27272727 | E14: 20454545 | F14: 0 | G14: 27272727 | H14: =D14-G14 -> 0
B15: 코스캐리어 | C15: 97. 6.26 | D15: 3200000 | E15: 11818182 | F15: 0 | G15: 3200000 | H15: =D15-G15 -> 0
B16: 코스케리어 | C16: 97. 8.26 | D16: 3200000 | E16: 27272727 | F16: 0 | G16: 3200000 | H16: =D16-G16 -> 0
B17: 파 종 기 | C17: 98. 4.25 | D17: 7000000 | E17: 3200000 | F17: 0 | G17: 7000000 | H17: =D17-G17 -> 0
B18: 승용식 로타리 모아 | C18: 00. 5.20 | D18: 28000000 | E18: 53636364 | F18: 0 | G18: 28000000 | H18: =D18-G18 -> 0
... B96: 전기실 특고압 수변전 시설 | C96: 16.01.21 | D96: 9600000 | E96: 88000 | F96: 1009536 | G96: 9599000 | H96: =D96-G96 -> 1000
B97: 오수처리장 수중모터 펌프 | C97: 16.03.31 | D97: 580000 | F97: 382800 | G97: 579000 | H97: =D97-G97 -> 1000
B98: 신발털이용 에어 콤프레셔 | C98: 16.04.30 | D98: 6100000 | F98: 17146800 | G98: 6099000 | H98: =D98-G98 -> 1000
B99: 승용식 그린 다듬기 1대 | C99: 16.05.31 | D99: 30864400 | F99: 9847992 | G99: 30863400 | H99: =D99-G99 -> 1000
B100: 승용식 멀티 스위퍼 1대 | C100: 16.05.31 | D100: 30455600 | F100: 6916800 | G100: 30454600 | H100: =D100-G100 -> 1000
B101: 이동식 디젤 발전기 구입 | C101: 16.06.30 | D101: 1550000 | F101: 1108800 | G101: 1549000 | H101: =D101-G101 -> 1000
B102: 오수처리장 수중모터 펌프 | C102: 16.07.21 | D102: 820000 | G102: 819000 | H102: =D102-G102 -> 1000
B103: 승용식 3갱 그린모아 구입 | C103: 16.10.31 | D103: 38427200 | G103: 38426200 | H103: =D103-G103 -> 1000
B104: 승용식 3갱 어프로치모아 구입 | C104: 16.11.21 | D104: 50972250 | G104: 50971250 | H104: =D104-G104 -> 1000
B105: 견인식 제설 브로워 구입 | C105: 16.11.21 | D105: 18000000 | F105: 1166000 | G105: 17999000 | H105: =D105-G105 -> 1000
B106: 수중모터펌프(15HP) 1대 | C106: 17.04.21 | D106: 3100000 | G106: 2903109 | H106: =D106-G106 -> 196891
B107: 승용식 5갱 모어 구입 | C107: 17.05.31 | D107: 96119100 | G107: 89569561 | H107: =D107-G107 -> 6549539
B108: 5인승 전동카트 중앙제어반 구입 | C108: 17.08.31 | D108: 17300000 | G108: 15881051 | H108: =D108-G108 -> 1418949
B109: 오수처리장 탈질조 수중교반기 | C109: 17.09.29 | D109: 1400000 | G109: 1278694 | H109: =D109-G109 -> 121306
B110: 기계실 온수보일러 1대 | C110: 17.12.31 | D110: 27100000 | G110: 24375711 | H110: =D110-G110 -> 2724289
B111: 오수처리장 여과기 구입 및 교체(2대) | C111: 18.02.28 | D111: 18180000 | G111: 16090090 | H111: =D111-G111 -> 2089910
B112: 전동카트 중앙제어반(문화코스) | C112: 18.03.21 | D112: 17200000 | G112: 15054145 | H112: =D112-G112 -> 2145855
B113: 코스관리장비(승용식5갱릴모어) | C113: 18.06.29 | D113: 98316400 | G113: 83159302 | H113: =D113-G113 -> 15157098
B114: 코스관리장비(승용식멀티스위퍼) | C114: 18.06.29 | D114: 35770000 | G114: 30255464 | H114: =D114-G114 -> 5514536
B115: 코스관리장비(승용식3갱어프로치모어) | C115: 18.06.30 | D115: 53655000 | G115: 45383195 | H115: =D115-G115 -> 8271805
B116: 그늘집 홀 및 화장실 에어컨(15대) | C116: 18.07.10 | D116: 18500000 | G116: 15466573 | H116: =D116-G116 -> 3033427
B117: 오수처리장 펌프구입 | C117: 18.09.28 | D117: 2260000 | G117: 1845123 | H117: =D117-G117 -> 414877
... B128: 코스관리 장비구매(제설도저) | C128: 20.12.21 | D128: 12000000 | G128: 528000 | H128: =D128-G128 -> 11472000
B134: 합 계 | D134: =SUM(D7:D133) -> 4054783911 | E134: =SUM(E7:E133) -> 2718344629 | F134: =SUM(F7:F133) -> 297514841 | G134: =SUM(G7:G133) -> 3613289397 | H134: =SUM(H7:H133) -> 441494514 | J134: ='증감(골프장)'!F16-H134 -> 0

Sheet 구축물(골프장)
B2: 구축물 명세서
B4: 2020년 12월 31일 현재
B5: 한국문화예술위원회(뉴서울골프장) | H5: (단위 : 원)
B6: 구 분 | C6: 취득일 | D6: 취 득 가 액 | E6: 기 상각액 | F6: 당기 상각액 | G6: 상각 누계액 | H6: 잔존가액
B7: 진 입 도 로 | C7: 90. 1. 1 | D7: 978147374 | E7: 978147374 | F7: 0 | G7: 978147374 | H7: =D7-G7 -> 0
B8: 배 수 및 구 조 물 | C8: 90. 1. 1 | D8: 1685990592 | E8: 1685990592 | F8: 0 | G8: 1685990592 | H8: =D8-G8 -> 0
B9: 저 수 탱 크 | C9: 90. 1. 1 | D9: 36453902 | E9: 26873227 | F9: 2720912 | G9: 35163057 | H9: =D9-G9 -> 1290845
B10: 22.9KY 변전 시설 | C10: 90. 1. 1 | D10: 15363069 | E10: 15363069 | F10: 0 | G10: 15363069 | H10: =D10-G10 -> 0
B11: 송 수 시 설 | C11: 90. 1. 1 | D11: 206575071 | E11: 206574071 | F11: 0 | G11: 206574071 | H11: =D11-G11 -> 1000
B12: 생 활 용 수 시 설 | C12: 90. 1. 1 | D12: 9000000 | E12: 9000000 | F12: 0 | G12: 9000000 | H12: =D12-G12 -> 0
B13: 연 습 장 | C13: 90. 1. 1 | D13: 66633696 | E13: 49121283 | F13: 4973525 | G13: 64274174 | H13: =D13-G13 -> 2359522
B14: 집 수 정 ( 삼 리 ) | C14: 90. 1. 1 | D14: 34400000 | E14: 34400000 | F14: 0 | G14: 34400000 | H14: =D14-G14 -> 0
B15: CH 생활용수급수시설 | C15: 90. 1. 1 | D15: 89418000 | E15: 89417000 | F15: 0 | G15: 89417000 | H15: =D15-G15 -> 1000
B16: CH 인입선개폐기설치 | C16: 90. 1. 1 | D16: 2594153 | E16: 2594153 | F16: 0 | G16: 2594153 | H16: =D16-G16 -> 0
B17: 관 수 시 설 | C17: 90. 1. 1 | D17: 420665230 | E17: 420665230 | F17: 0 | G17: 420665230 | H17: =D17-G17 -> 0
B18: 가 압 장 물 탱 크 | C18: 90. 1. 1 | D18: 11683046 | E18: 8612552 | F18: 872020 | G18: 11269345 | H18: =D18-G18 -> 413701
... B125: 자가주유소 신축 공사 | C125: 14.12.31 | D125: 93982720 | E125: 1096465 | F125: 13004076 | G125: 56403985 | H125: =D125-G125 -> 37578735
B126: 사토장 바닥 포장 공사 | C126: 15.12.24 | D126: 39416000 | F126: 459853 | G126: 21089976 | H126: =D126-G126 -> 18326024
B127: 남자 락카실 후 출입구 신설 | C127: 15.12.30 | D127: 4800000 | F127: 56000 | G127: 2568295 | H127: =D127-G127 -> 2231705
B128: 북 스타트 그늘집 정화조, 이전, 교체 | C128: 16.03.31 | D128: 5000000 | G128: 2584047 | H128: =D128-G128 -> 2415953
B129: 카트고 소방(스프링클러) 설치공사 | C129: 16.07.31 | D129: 119446081 | G129: 58681759 | H129: =D129-G129 -> 60764322
B130: 전용상수도 물탱크 증설 공사 | C130: 17.03.31 | D130: 187586073 | G130: 82190938 | H130: =D130-G130 -> 105395135
B131: 무인경비 광케이블 설치 공사 | C131: 17.05.31 | D131: 4800000 | G131: 2031884 | H131: =D131-G131 -> 2768116
B132: 문화4번홀 티 개조공사 | C132: 18.03.30 | D132: 29708818 | G132: 10299651 | H132: =D132-G132 -> 19409167
B133: 예술 6번홀 안전망 보수 | C133: 18.10.31 | D133: 16500000 | G133: 4723719 | H133: =D133-G133 -> 11776281
B134: 문화 13홀,18번홀 리노베이션 공사 | C134: 19.03.31 | D134: 9776400 | G134: 2349595 | H134: =D134-G134 -> 7426805
B135: 티잉그라운드개조공사(예술7홀,문화2,3홀) | C135: 19.05.21 | D135: 15078000 | G135: 3321181 | H135: =D135-G135 -> 11756819
B136: 문화아웃코스 스프링클러 자동화공사 | C136: 19.07.31 | D136: 478639049 | G136: 95823537 | H136: =D136-G136 -> 382815512
B137: 목재안전휀스 설치공사 | C137: 20.02.21 | D137: 160046319 | G137: 20539278 | H137: =D137-G137 -> 139507041
B138: 문화코스 그린칼라 및 티개선공사 | C138: 20.06.10 | D138: 223140000 | G138: 18223100 | H138: =D138-G138 -> 204916900
B139: 문화코스 출발그늘집 주변 조경공사 | C139: 20.07.21 | D139: 40000000 | G139: 2800000 | H139: =D139-G139 -> 37200000
B140: 야간조명시설(라이트폴신설) | C140: 20.07.21 | D140: 27000000 | G140: 1890000 | H140: =D140-G140 -> 25110000
B142: 구 축 물 계 | D142: =SUM(D7:D141) -> 15868431012 | E142: =SUM(E7:E141) -> 10612525331 | F142: =SUM(F7:F141) -> 726430854 | G142: =SUM(G7:G141) -> 13652487071 | H142: =SUM(H7:H141) -> 2215943941 | J142: ='증감(골프장)'!F17 -> 2215943941
J143: =H142-J142 -> 0

Sheet 코스
B3: 한국문화예술위원회 (뉴서울 골프장)코 스 명 세 서
B5: 2020년 12월 31일 현재
F7: (단 위 : 원)
B8: 구 분 | E8: 금 액 | F8: 비 고
B10: 남 코 스 (18홀) | E10: 8478428593
B11: 북 코 스 (18홀) | E11: 8931075703
B12: 건 설 자 금 이 자 (88년) | E12: 325445120
B13: 잔 디 묘 포 장 외 | E13: 466296125
B14: 기 부 자 산 부 가 세 | E14: 1220894418
B22: 합 계 | E22: =SUM(E10:E14) -> 19422139959 | H22: ='증감(골프장)'!F18 -> 19422139959 | I22: =E22-H22 -> 0
