Workbook

Sheet 원가계산서
B1: 공 사 원 가 계 산 서
B2: 공사명 : 한국문화예술위원회 나주청사 리모델링공사
B3: 비 목 | E3: 금 액 | F3: 구 성 비 | G3: 비 고
A4: A1 | B4: 순 공 사 원 가 | C4: 재 료 비 | D4: 직 접 재 료 비 | E4: =TRUNC(공종별집계표!F5, 0) -> 0
A5: A2 | D5: 간 접 재 료 비 | E5: 0
A6: A3 | D6: 작업설, 부산물(△) | E6: 0
A7: AS | D7: [ 소 계 ] | E7: =TRUNC(E4+E5-E6, 0) -> 0
A8: B1 | C8: 노 무 비 | D8: 직 접 노 무 비 | E8: =TRUNC(공종별집계표!H5, 0) -> 0
A9: B2 | D9: 간 접 노 무 비 | E9: =TRUNC(E8*0.15, 0) -> 0 | F9: 직접노무비 * 15% | G9: 10억미만/6개월이하
A10: BS | D10: [ 소 계 ] | E10: =TRUNC(E8+E9, 0) -> 0
A11: C2 | C11: 경 비 | D11: 경 비 | E11: =TRUNC(공종별집계표!J5, 0) -> 0
A12: C4 | D12: 산 재 보 험 료 | E12: =TRUNC(E10*0.0356, 0) -> 0 | F12: 노무비 * 3.56%
A13: C5 | D13: 고 용 보 험 료 | E13: =TRUNC(E10*0.0101, 0) -> 0 | F13: 노무비 * 1.01%
A14: C6 | D14: 국민 건강 보험료 | E14: =TRUNC(E8*0.03545, 0) -> 0 | F14: 직접노무비 * 3.545%
A15: C7 | D15: 국민 연금 보험료 | E15: =TRUNC(E8*0.045, 0) -> 0 | F15: 직접노무비 * 4.5%
A16: C8 | D16: 퇴직 공제 부금비 | E16: =TRUNC(E8*0.023, 0) -> 0 | F16: 직접노무비 * 2.3%
A17: CA | D17: 산업안전보건관리비 | E17: =TRUNC((E7+E8+(0/1.1))*0.0311, 0) -> 0 | F17: (재료비+직노+관급자재비) * 3.11%
A18: CB | D18: 노인장기요양보험료 | E18: =TRUNC(E14*0.1295, 0) -> 0 | F18: 건강보험료 * 12.95%
A19: CG | D19: 기 타 경 비 | E19: =TRUNC((E7+E10)*0.046, 0) -> 0 | F19: (재료비+노무비) * 4.6%
A20: CH | D20: 환 경 보 전 비 | E20: =TRUNC((E7+E8+E11)*0.003, 0) -> 0 | F20: (재료비+직노+경비) * 0.3%
A21: CK | D21: 하도급지급보증수수료 | E21: =TRUNC((E7+E8+E11)*0.00081, 0) -> 0 | F21: (재료비+직노+경비) * 0.081% | G21: 최저가대상공사
A22: CL | D22: 건설기계대여금지급보증서발급수수료 | E22: =TRUNC((E7+E8+E11)*0.0007, 0) -> 0 | F22: (재료비+직노+경비) * 0.07%
A23: CS | D23: [ 소 계 ] | E23: =TRUNC(E11+E12+E13+E14+E15+E16+E17+E18+E19+E20+E21+E22, 0) -> 0
A24: S1 | B24: 계 | E24: =TRUNC(E7+E10+E23, 0) -> 0
A25: D1 | B25: 일 반 관 리 비 | E25: =TRUNC(E24*0.06, 0) -> 0 | F25: 계 * 6%
A26: D2 | B26: 이 윤 | E26: =TRUNC((E10+E23+E25)*0.15, 0) -> 0 | F26: (노무비+경비+일반관리비) * 15%
A27: D7 | B27: 건설폐기물처리비 | E27: =TRUNC(공종별집계표!T25+공종별집계표!T31, 0) -> 0
A28: D8 | B28: 작 업 부 산 물(철거) | E28: =TRUNC(공종별집계표!T24, 0) -> 0
A29: D9 | B29: 공 급 가 액 | E29: =TRUNC(E24+E25+E26+E27+E28, 0) -> 0
A30: DB | B30: 부 가 가 치 세 | E30: =TRUNC(E29*0.1, 0) -> 0 | F30: 공급가액 * 10%
A31: DH | B31: 도 급 액 | E31: =TRUNC(E29+E30, 0) -> 0
A32: S2 | B32: 총 공 사 비 | E32: =TRUNC(E31+0, 0) -> 0

Sheet 공종별집계표
A1: 공 종 별 집 계 표
A2: [ 한국문화예술위원회 나주청사 리모델링공사 ]
A3: 품 명 | B3: 규 격 | C3: 단위 | D3: 수량 | E3: 재 료 비 | G3: 노 무 비 | I3: 경 비 | K3: 합 계 | M3: 비 고 | N3: 공종코드 | O3: 변수 | P3: 상위공종 | Q3: 공종구분 | R3: 공종레벨 | S3: 공종소계 | T3: 원가계산서 연결금액
E4: 단 가 | F4: 금 액 | G4: 단 가 | H4: 금 액 | I4: 단 가 | J4: 금 액 | K4: 단 가 | L4: 금 액
A5: 01 한국문화예술위원회 나주청사 리모델링공사 | D5: 1 | E5: =F6+F26 -> 0 | F5: =E5*D5 -> 0 | G5: =H6+H26 -> 0 | H5: =G5*D5 -> 0 | I5: =J6+J26 -> 0 | J5: =I5*D5 -> 0 | K5: =E5+G5+I5 -> 0 | L5: =F5+H5+J5 -> 0 | N5: 01 | R5: 1
A6: 0101 01.건축공사 | D6: 1 | E6: =F7+F8+F9+F10+F11+F12+F13+F14+F15+F16+F17+F18+F19+F20+F21+F22+F23 -> 0 | F6: =E6*D6 -> 0 | G6: =H7+H8+H9+H10+H11+H12+H13+H14+H15+H16+H17+H18+H19+H20+H21+H22+H23 -> 0 | H6: =G6*D6 -> 0 | I6: =J7+J8+J9+J10+J11+J12+J13+J14+J15+J16+J17+J18+J19+J20+J21+J22+J23 -> 0 | J6: =I6*D6 -> 0 | K6: =E6+G6+I6 -> 0 | L6: =F6+H6+J6 -> 0 | N6: 0101 | P6: 01 | R6: 2
A7: 010101 가 설 공 사 | D7: 1 | E7: =공종별내역서!F29 -> 0 | F7: =E7*D7 -> 0 | G7: =공종별내역서!H29 -> 0 | H7: =G7*D7 -> 0 | I7: =공종별내역서!J29 -> 0 | J7: =I7*D7 -> 0 | K7: =E7+G7+I7 -> 0 | L7: =F7+H7+J7 -> 0 | N7: 010101 | P7: 0101 | R7: 3
A8: 010102 토 및 지정공사 | D8: 1 | E8: =공종별내역서!F55 -> 0 | F8: =E8*D8 -> 0 | G8: =공종별내역서!H55 -> 0 | H8: =G8*D8 -> 0 | I8: =공종별내역서!J55 -> 0 | J8: =I8*D8 -> 0 | K8: =E8+G8+I8 -> 0 | L8: =F8+H8+J8 -> 0 | N8: 010102 | P8: 0101 | R8: 3
A9: 010103 철근콘크리트공사 | D9: 1 | E9: =공종별내역서!F81 -> 0 | F9: =E9*D9 -> 0 | G9: =공종별내역서!H81 -> 0 | H9: =G9*D9 -> 0 | I9: =공종별내역서!J81 -> 0 | J9: =I9*D9 -> 0 | K9: =E9+G9+I9 -> 0 | L9: =F9+H9+J9 -> 0 | N9: 010103 | P9: 0101 | R9: 3
A10: 010104 돌 공 사 | D10: 1 | E10: =공종별내역서!F107 -> 0 | F10: =E10*D10 -> 0 | G10: =공종별내역서!H107 -> 0 | H10: =G10*D10 -> 0 | I10: =공종별내역서!J107 -> 0 | J10: =I10*D10 -> 0 | K10: =E10+G10+I10 -> 0 | L10: =F10+H10+J10 -> 0 | N10: 010104 | P10: 0101 | R10: 3
A11: 010105 타 일 공 사 | D11: 1 | E11: =공종별내역서!F133 -> 0 | F11: =E11*D11 -> 0 | G11: =공종별내역서!H133 -> 0 | H11: =G11*D11 -> 0 | I11: =공종별내역서!J133 -> 0 | J11: =I11*D11 -> 0 | K11: =E11+G11+I11 -> 0 | L11: =F11+H11+J11 -> 0 | N11: 010105 | P11: 0101 | R11: 3
A12: 010106 목공사및수장공사 | D12: 1 | E12: =공종별내역서!F159 -> 0 | F12: =E12*D12 -> 0 | G12: =공종별내역서!H159 -> 0 | H12: =G12*D12 -> 0 | I12: =공종별내역서!J159 -> 0 | J12: =I12*D12 -> 0 | K12: =E12+G12+I12 -> 0 | L12: =F12+H12+J12 -> 0 | N12: 010106 | P12: 0101 | R12: 3
A13: 010107 방 수 공 사 | D13: 1 | E13: =공종별내역서!F185 -> 0 | F13: =E13*D13 -> 0 | G13: =공종별내역서!H185 -> 0 | H13: =G13*D13 -> 0 | I13: =공종별내역서!J185 -> 0 | J13: =I13*D13 -> 0 | K13: =E13+G13+I13 -> 0 | L13: =F13+H13+J13 -> 0 | N13: 010107 | P13: 0101 | R13: 3
A14: 010108 금 속 공 사 | D14: 1 | E14: =공종별내역서!F237 -> 0 | F14: =E14*D14 -> 0 | G14: =공종별내역서!H237 -> 0 | H14: =G14*D14 -> 0 | I14: =공종별내역서!J237 -> 0 | J14: =I14*D14 -> 0 | K14: =E14+G14+I14 -> 0 | L14: =F14+H14+J14 -> 0 | N14: 010108 | P14: 0101 | R14: 3
A15: 010109 미 장 공 사 | D15: 1 | E15: =공종별내역서!F263 -> 0 | F15: =E15*D15 -> 0 | G15: =공종별내역서!H263 -> 0 | H15: =G15*D15 -> 0 | I15: =공종별내역서!J263 -> 0 | J15: =I15*D15 -> 0 | K15: =E15+G15+I15 -> 0 | L15: =F15+H15+J15 -> 0 | N15: 010109 | P15: 0101 | R15: 3
A16: 010110 창호 및 유리공사 | D16: 1 | E16: =공종별내역서!F289 -> 0 | F16: =E16*D16 -> 0 | G16: =공종별내역서!H289 -> 0 | H16: =G16*D16 -> 0 | I16: =공종별내역서!J289 -> 0 | J16: =I16*D16 -> 0 | K16: =E16+G16+I16 -> 0 | L16: =F16+H16+J16 -> 0 | N16: 010110 | P16: 0101 | R16: 3
A17: 010111 칠 공 사 | D17: 1 | E17: =공종별내역서!F315 -> 0 | F17: =E17*D17 -> 0 | G17: =공종별내역서!H315 -> 0 | H17: =G17*D17 -> 0 | I17: =공종별내역서!J315 -> 0 | J17: =I17*D17 -> 0 | K17: =E17+G17+I17 -> 0 | L17: =F17+H17+J17 -> 0 | N17: 010111 | P17: 0101 | R17: 3
A18: 010112 가 구 공 사 | D18: 1 | E18: =공종별내역서!F341 -> 0 | F18: =E18*D18 -> 0 | G18: =공종별내역서!H341 -> 0 | H18: =G18*D18 -> 0 | I18: =공종별내역서!J341 -> 0 | J18: =I18*D18 -> 0 | K18: =E18+G18+I18 -> 0 | L18: =F18+H18+J18 -> 0 | N18: 010112 | P18: 0101 | R18: 3
A19: 010113 기 타 공 사 | D19: 1 | E19: =공종별내역서!F367 -> 0 | F19: =E19*D19 -> 0 | G19: =공종별내역서!H367 -> 0 | H19: =G19*D19 -> 0 | I19: =공종별내역서!J367 -> 0 | J19: =I19*D19 -> 0 | K19: =E19+G19+I19 -> 0 | L19: =F19+H19+J19 -> 0 | N19: 010113 | P19: 0101 | R19: 3
A20: 010114 조 경 공 사 | D20: 1 | E20: =공종별내역서!F393 -> 0 | F20: =E20*D20 -> 0 | G20: =공종별내역서!H393 -> 0 | H20: =G20*D20 -> 0 | I20: =공종별내역서!J393 -> 0 | J20: =I20*D20 -> 0 | K20: =E20+G20+I20 -> 0 | L20: =F20+H20+J20 -> 0 | N20: 010114 | P20: 0101 | R20: 3
A21: 010115 철 거 공 사 | D21: 1 | E21: =공종별내역서!F419 -> 0 | F21: =E21*D21 -> 0 | G21: =공종별내역서!H419 -> 0 | H21: =G21*D21 -> 0 | I21: =공종별내역서!J419 -> 0 | J21: =I21*D21 -> 0 | K21: =E21+G21+I21 -> 0 | L21: =F21+H21+J21 -> 0 | N21: 010115 | P21: 0101 | R21: 3
A22: 010116 골 재 비 | D22: 1 | E22: =공종별내역서!F445 -> 0 | F22: =E22*D22 -> 0 | G22: =공종별내역서!H445 -> 0 | H22: =G22*D22 -> 0 | I22: =공종별내역서!J445 -> 0 | J22: =I22*D22 -> 0 | K22: =E22+G22+I22 -> 0 | L22: =F22+H22+J22 -> 0 | N22: 010116 | P22: 0101 | R22: 3
A23: 010117 작 업 부 산 물(신축) | D23: 1 | E23: =공종별내역서!F471 -> 0 | F23: =E23*D23 -> 0 | G23: =공종별내역서!H471 -> 0 | H23: =G23*D23 -> 0 | I23: =공종별내역서!J471 -> 0 | J23: =I23*D23 -> 0 | K23: =E23+G23+I23 -> 0 | L23: =F23+H23+J23 -> 0 | N23: 010117 | P23: 0101 | R23: 3
A24: 010118 작 업 부 산 물(철거) | D24: 1 | E24: =공종별내역서!F497 -> 0 | F24: =E24*D24 -> 0 | G24: =공종별내역서!H497 -> 0 | H24: =G24*D24 -> 0 | I24: =공종별내역서!J497 -> 0 | J24: =I24*D24 -> 0 | K24: =E24+G24+I24 -> 0 | L24: =F24+H24+J24 -> 0 | N24: 010118 | Q24: 9 | R24: 3 | T24: =L24*1 -> 0
A25: 010119 건설폐기물처리비 | D25: 1 | E25: =공종별내역서!F523 -> 0 | F25: =E25*D25 -> 0 | G25: =공종별내역서!H523 -> 0 | H25: =G25*D25 -> 0 | I25: =공종별내역서!J523 -> 0 | J25: =I25*D25 -> 0 | K25: =E25+G25+I25 -> 0 | L25: =F25+H25+J25 -> 0 | N25: 010119 | Q25: 6 | R25: 3 | T25: =L25*1 -> 0
A26: 0102 02.2차공사 | D26: 1 | E26: =F27+F28+F29+F30 -> 0 | F26: =E26*D26 -> 0 | G26: =H27+H28+H29+H30 -> 0 | H26: =G26*D26 -> 0 | I26: =J27+J28+J29+J30 -> 0 | J26: =I26*D26 -> 0 | K26: =E26+G26+I26 -> 0 | L26: =F26+H26+J26 -> 0 | N26: 0102 | P26: 01 | R26: 2
A27: 010201 가 설 공 사 | D27: 1 | E27: =공종별내역서!F549 -> 0 | F27: =E27*D27 -> 0 | G27: =공종별내역서!H549 -> 0 | H27: =G27*D27 -> 0 | I27: =공종별내역서!J549 -> 0 | J27: =I27*D27 -> 0 | K27: =E27+G27+I27 -> 0 | L27: =F27+H27+J27 -> 0 | N27: 010201 | P27: 0102 | R27: 3
A28: 010202 돌 공 사 | D28: 1 | E28: =공종별내역서!F575 -> 0 | F28: =E28*D28 -> 0 | G28: =공종별내역서!H575 -> 0 | H28: =G28*D28 -> 0 | I28: =공종별내역서!J575 -> 0 | J28: =I28*D28 -> 0 | K28: =E28+G28+I28 -> 0 | L28: =F28+H28+J28 -> 0 | N28: 010202 | P28: 0102 | R28: 3
A29: 010203 철 거 공 사 | D29: 1 | E29: =공종별내역서!F601 -> 0 | F29: =E29*D29 -> 0 | G29: =공종별내역서!H601 -> 0 | H29: =G29*D29 -> 0 | I29: =공종별내역서!J601 -> 0 | J29: =I29*D29 -> 0 | K29: =E29+G29+I29 -> 0 | L29: =F29+H29+J29 -> 0 | N29: 010203 | P29: 0102 | R29: 3
A30: 010204 골 재 비 | D30: 1 | E30: =공종별내역서!F627 -> 0 | F30: =E30*D30 -> 0 | G30: =공종별내역서!H627 -> 0 | H30: =G30*D30 -> 0 | I30: =공종별내역서!J627 -> 0 | J30: =I30*D30 -> 0 | K30: =E30+G30+I30 -> 0 | L30: =F30+H30+J30 -> 0 | N30: 010204 | P30: 0102 | R30: 3
A31: 010205 건설폐기물처리비 | D31: 1 | E31: =공종별내역서!F653 -> 0 | F31: =E31*D31 -> 0 | G31: =공종별내역서!H653 -> 0 | H31: =G31*D31 -> 0 | I31: =공종별내역서!J653 -> 0 | J31: =I31*D31 -> 0 | K31: =E31+G31+I31 -> 0 | L31: =F31+H31+J31 -> 0 | N31: 010205 | Q31: 6 | R31: 3 | T31: =L31*1 -> 0
A52: [ 합 계 ] | F52: =F5 -> 0 | H52: =H5 -> 0 | J52: =J5 -> 0 | L52: =L5 -> 0

Sheet 공종별내역서
A1: [ 한국문화예술위원회 나주청사 리모델링공사 ]
A2: 품 명 | B2: 규 격 | C2: 단위 | D2: 수량 | E2: 재 료 비 | G2: 노 무 비 | I2: 경 비 | K2: 합 계 | M2: 비 고 | N2: 품목코드 | O2: 변수 | P2: 설정 | Q2: 공종코드 | R2: 일위 | S2: 단산 | T2: 자재 | U2: 손료적용 | V2: 손료저장 | W2: 적용율 | X2: JUK1 | Y2: JUK2 | Z2: JUK3 | AA2: JUK4 | AB2: JUK5 | AC2: JUK6 | AD2: JUK7 | AE2: JUK8 | AF2: JUK9 | AG2: JUK10 | AH2: JUK11 | AI2: JUK12 | AJ2: JUK13 | AK2: JUK14 | AL2: JUK15 | AM2: JUK16 | AN2: JUK17 | AO2: JUK18 | AP2: JUK19 | AQ2: JUK20 | AR2: 자재구분 | AS2: 공종구분 | AT2: 공종레벨 | AU2: 공종+자재 | AV2: 고유번호
E3: 단 가 | F3: 금 액 | G3: 단 가 | H3: 금 액 | I3: 단 가 | J3: 금 액 | K3: 단 가 | L3: 금 액
A4: 010101 가 설 공 사 | Q4: 010101
A5: RPP가설방음판 설치 및 해체 | B5: H:4100, 3개월 | C5: M | D5: 13 | E5: =TRUNC(일위대가목록!E20,0) -> 0 | F5: =TRUNC(E5*D5, 0) -> 0 | G5: =TRUNC(일위대가목록!F20,0) -> 0 | H5: =TRUNC(G5*D5, 0) -> 0 | I5: =TRUNC(일위대가목록!G20,0) -> 0 | J5: =TRUNC(I5*D5, 0) -> 0 | K5: =TRUNC(E5+G5+I5, 0) -> 0 | L5: =TRUNC(F5+H5+J5, 0) -> 0 | M5: 호표 17 | N5: 5E50444532D13305E022634A9AB92D | Q5: 010101 | R5: T | S5: F | T5: F | AU5: 0101015E50444532D13305E022634A9AB92D | AV5: 256
A6: RPP가설방음판 설치 및 해체 | B6: H:5000, 3개월 | C6: M | D6: 72 | E6: =TRUNC(일위대가목록!E21,0) -> 0 | F6: =TRUNC(E6*D6, 0) -> 0 | G6: =TRUNC(일위대가목록!F21,0) -> 0 | H6: =TRUNC(G6*D6, 0) -> 0 | I6: =TRUNC(일위대가목록!G21,0) -> 0 | J6: =TRUNC(I6*D6, 0) -> 0 | K6: =TRUNC(E6+G6+I6, 0) -> 0 | L6: =TRUNC(F6+H6+J6, 0) -> 0 | M6: 호표 18 | N6: 5E50444532D13305E022634A9AB92C | Q6: 010101 | R6: T | S6: F | T6: F | AU6: 0101015E50444532D13305E022634A9AB92C | AV6: 257
A7: 강관 조립말비계(이동식)설치 및 해체 | B7: 높이 2m, 3개월 | C7: 대 | D7: 2 | E7: =TRUNC(일위대가목록!E24,0) -> 0 | F7: =TRUNC(E7*D7, 0) -> 0 | G7: =TRUNC(일위대가목록!F24,0) -> 0 | H7: =TRUNC(G7*D7, 0) -> 0 | I7: =TRUNC(일위대가목록!G24,0) -> 0 | J7: =TRUNC(I7*D7, 0) -> 0 | K7: =TRUNC(E7+G7+I7, 0) -> 0 | L7: =TRUNC(F7+H7+J7, 0) -> 0 | M7: 호표 21 | N7: 5E50444532F13E25F8CFC829CEC12E | Q7: 010101 | R7: T | S7: F | T7: F | AU7: 0101015E50444532F13E25F8CFC829CEC12E | AV7: 258
A8: 강관 조립말비계(이동식)설치 및 해체 | B8: 높이 4m, 3개월 | C8: 대 | D8: 1 | E8: =TRUNC(일위대가목록!E25,0) -> 0 | F8: =TRUNC(E8*D8, 0) -> 0 | G8: =TRUNC(일위대가목록!F25,0) -> 0 | H8: =TRUNC(G8*D8, 0) -> 0 | I8: =TRUNC(일위대가목록!G25,0) -> 0 | J8: =TRUNC(I8*D8, 0) -> 0 | K8: =TRUNC(E8+G8+I8, 0) -> 0 | L8: =TRUNC(F8+H8+J8, 0) -> 0 | M8: 호표 22 | N8: 5E50444532F13E25F8CFC82AD53346 | Q8: 010101 | R8: T | S8: F | T8: F | AU8: 0101015E50444532F13E25F8CFC82AD53346 | AV8: 763
A9: 건축물 현장정리 | B9: 개보수공사 | C9: M2 | D9: 357 | E9: =TRUNC(일위대가목록!E27,0) -> 0 | F9: =TRUNC(E9*D9, 0) -> 0 | G9: =TRUNC(일위대가목록!F27,0) -> 0 | H9: =TRUNC(G9*D9, 0) -> 0 | I9: =TRUNC(일위대가목록!G27,0) -> 0 | J9: =TRUNC(I9*D9, 0) -> 0 | K9: =TRUNC(E9+G9+I9, 0) -> 0 | L9: =TRUNC(F9+H9+J9, 0) -> 0 | M9: 호표 24 | N9: 5E504440B2A13D258BF3A984016853 | Q9: 010101 | R9: T | S9: F | T9: F | AU9: 0101015E504440B2A13D258BF3A984016853 | AV9: 259
A10: 구조부 먹매김 | B10: 일반 | C10: M2 | D10: 357 | E10: =TRUNC(일위대가목록!E28,0) -> 0 | F10: =TRUNC(E10*D10, 0) -> 0 | G10: =TRUNC(일위대가목록!F28,0) -> 0 | H10: =TRUNC(G10*D10, 0) -> 0 | I10: =TRUNC(일위대가목록!G28,0) -> 0 | J10: =TRUNC(I10*D10, 0) -> 0 | K10: =TRUNC(E10+G10+I10, 0) -> 0 | L10: =TRUNC(F10+H10+J10, 0) -> 0 | M10: 호표 25 | N10: 5E504440B2913CE56F49773C51FAE7 | Q10: 010101 | R10: T | S10: F | T10: F | AU10: 0101015E504440B2913CE56F49773C51FAE7 | AV10: 260
Q11: 010101
Q12: 010101
Q13: 010101
Q14: 010101
Q15: 010101
Q16: 010101
Q17: 010101
Q18: 010101
Q19: 010101
Q20: 010101
Q21: 010101
Q22: 010101
... Q28: 010101
A29: [ 합 계 ] | F29: =SUMIF(Q5:Q28,"010101",F5:F28) -> 0 | H29: =SUMIF(Q5:Q28,"010101",H5:H28) -> 0 | J29: =SUMIF(Q5:Q28,"010101",J5:J28) -> 0 | L29: =SUMIF(Q5:Q28,"010101",L5:L28) -> 0 | N29: TOTAL
A30: 010102 토 및 지정공사 | Q30: 010102
A31: 터파기/토사 | B31: 보통, 굴착기 0.7m3 | C31: M3 | D31: 30 | E31: =TRUNC(단가산출목록!E4,0) -> 0 | F31: =TRUNC(E31*D31, 0) -> 0 | G31: =TRUNC(단가산출목록!F4,0) -> 0 | H31: =TRUNC(G31*D31, 0) -> 0 | I31: =TRUNC(단가산출목록!G4,0) -> 0 | J31: =TRUNC(I31*D31, 0) -> 0 | K31: =TRUNC(E31+G31+I31, 0) -> 0 | L31: =TRUNC(F31+H31+J31, 0) -> 0 | M31: 산근 1 | N31: 5E756437F25131250767FD84CBE32F | Q31: 010102 | R31: F | S31: T | T31: F | AU31: 0101025E756437F25131250767FD84CBE32F | AV31: 262
A32: 토사 운반/단지외 10km | B32: 보통, 덤프 15ton+굴착기 0.7m3(고르기 별도) | C32: M3 | D32: 26 | E32: =TRUNC(단가산출목록!E5,0) -> 0 | F32: =TRUNC(E32*D32, 0) -> 0 | G32: =TRUNC(단가산출목록!F5,0) -> 0 | H32: =TRUNC(G32*D32, 0) -> 0 | I32: =TRUNC(단가산출목록!G5,0) -> 0 | J32: =TRUNC(I32*D32, 0) -> 0 | K32: =TRUNC(E32+G32+I32, 0) -> 0 | L32: =TRUNC(F32+H32+J32, 0) -> 0 | M32: 산근 2 | N32: 5E75643432C132B5149A3F5D45135E | Q32: 010102 | R32: F | S32: T | T32: F | AU32: 0101025E75643432C132B5149A3F5D45135E | AV32: 263
A33: 되메우기 및 다짐 | B33: 대형장비 | C33: M3 | D33: 4 | E33: =TRUNC(일위대가목록!E186,0) -> 0 | F33: =TRUNC(E33*D33, 0) -> 0 | G33: =TRUNC(일위대가목록!F186,0) -> 0 | H33: =TRUNC(G33*D33, 0) -> 0 | I33: =TRUNC(일위대가목록!G186,0) -> 0 | J33: =TRUNC(I33*D33, 0) -> 0 | K33: =TRUNC(E33+G33+I33, 0) -> 0 | L33: =TRUNC(F33+H33+J33, 0) -> 0 | M33: 호표 183 | N33: 5E75643A42913505484C19D398A635 | Q33: 010102 | R33: T | S33: F | T33: F | AU33: 0101025E75643A42913505484C19D398A635 | AV33: 264
A34: 기초 지정 | B34: 잡석지정 | C34: M3 | D34: 13 | E34: =TRUNC(일위대가목록!E188,0) -> 0 | F34: =TRUNC(E34*D34, 0) -> 0 | G34: =TRUNC(일위대가목록!F188,0) -> 0 | H34: =TRUNC(G34*D34, 0) -> 0 | I34: =TRUNC(일위대가목록!G188,0) -> 0 | J34: =TRUNC(I34*D34, 0) -> 0 | K34: =TRUNC(E34+G34+I34, 0) -> 0 | L34: =TRUNC(F34+H34+J34, 0) -> 0 | M34: 호표 185 | N34: 5E75643B62913CC5A10717FE35453E | Q34: 010102 | R34: T | S34: F | T34: F | AU34: 0101025E75643B62913CC5A10717FE35453E | AV34: 265
Q35: 010102
Q36: 010102
Q37: 010102
Q38: 010102
Q39: 010102
Q40: 010102
Q41: 010102
Q42: 010102
Q43: 010102
Q44: 010102
Q45: 010102
...

Sheet 일위대가목록
B1: 일 위 대 가 목 록
B2: [ 한국문화예술위원회 나주청사 리모델링공사 ]
A3: 코 드 | B3: 품 명 | C3: 규 격 | D3: 단위 | E3: 재 료 비 | F3: 노 무 비 | G3: 경 비 | H3: 합 계 | I3: 번 호 | J3: 비 고 | K3: 노임계수 | L3: 할증 | M3: 품셈개요 | N3: 장비일위
A4: 594724AFE23139D51FD15B589FC389F030299A3A | B4: 굴착기(무한궤도) | C4: 0.2㎥ | D4: HR | E4: =일위대가!F9 -> 0 | F4: =일위대가!H9 -> 0 | G4: =일위대가!J9 -> 0 | H4: =E4+F4+G4 -> 0 | I4: 호표 1 | K4: A | M4: 공통 8-3,4(0201) | N4: T
A5: 594724AFE23139D51FD15B589FC5B6E57F0BEBE7 | B5: 굴착기(무한궤도) | C5: 0.4㎥ | D5: HR | E5: =일위대가!F16 -> 0 | F5: =일위대가!H16 -> 0 | G5: =일위대가!J16 -> 0 | H5: =E5+F5+G5 -> 0 | I5: 호표 2 | K5: A | M5: 공통 8-3,4(0201) | N5: T
A6: 594724AFE23139D51FD15B589FC7644108BCDC6F | B6: 굴착기(무한궤도) | C6: 0.6㎥ | D6: HR | E6: =일위대가!F23 -> 0 | F6: =일위대가!H23 -> 0 | G6: =일위대가!J23 -> 0 | H6: =E6+F6+G6 -> 0 | I6: 호표 3 | K6: A | M6: 공통 8-3,4(0201) | N6: T
A7: 594724AFE23139D51FD15B589FC65D6F693AC01B | B7: 굴착기(무한궤도) | C7: 0.7㎥ | D7: HR | E7: =일위대가!F30 -> 0 | F7: =일위대가!H30 -> 0 | G7: =일위대가!J30 -> 0 | H7: =E7+F7+G7 -> 0 | I7: 호표 4 | K7: A | M7: 공통 8-3,4(0201) | N7: T
A8: 594724AFE23139D51B7668DB3CD38D4D869554B1 | B8: 덤프트럭 | C8: 15ton | D8: HR | E8: =일위대가!F37 -> 0 | F8: =일위대가!H37 -> 0 | G8: =일위대가!J37 -> 0 | H8: =E8+F8+G8 -> 0 | I8: 호표 5 | K8: A | M8: 공통 8-3,4(0602) | N8: T
A9: 594724AFE23139D51B7770D3DE8BE588D79B4F03 | B9: 덤프트럭 자동덮개시설 | C9: 15ton | D9: HR | E9: =일위대가!F41 -> 0 | F9: =일위대가!H41 -> 0 | G9: =일위대가!J41 -> 0 | H9: =E9+F9+G9 -> 0 | I9: 호표 6 | K9: A | M9: 공통 8-3(0610) | N9: T
A10: 594724AFE23139C57593EF6BB7BFDE0FC5B0D5C9 | B10: 진동롤러(핸드가이드식) | C10: 0.7ton | D10: HR | E10: =일위대가!F48 -> 0 | F10: =일위대가!H48 -> 0 | G10: =일위대가!J48 -> 0 | H10: =E10+F10+G10 -> 0 | I10: 호표 7 | K10: A | M10: 공통 8-3,4(1305) | N10: T
A11: 594724AFE23139C57593EC97D89FBFF19F88EE99 | B11: 진동롤러(자주식) | C11: 10ton | D11: HR | E11: =일위대가!F55 -> 0 | F11: =일위대가!H55 -> 0 | G11: =일위대가!J55 -> 0 | H11: =E11+F11+G11 -> 0 | I11: 호표 8 | K11: A | M11: 공통 8-3,4(1306) | N11: T
A12: 594724AFE23139C5713B4F0654817F4CD57DD27E | B12: 플레이트 콤팩터 | C12: 1.5ton | D12: HR | E12: =일위대가!F62 -> 0 | F12: =일위대가!H62 -> 0 | G12: =일위대가!J62 -> 0 | H12: =E12+F12+G12 -> 0 | I12: 호표 9 | K12: A | M12: 공통 8-3,4(1730) | N12: T
A13: 594724AFE2313995A6B59E9F48C667F96D4262F5 | B13: 커터(콘크리트 및 아스팔트용) | C13: 320∼400mm | D13: HR | E13: =일위대가!F69 -> 0 | F13: =일위대가!H69 -> 0 | G13: =일위대가!J69 -> 0 | H13: =E13+F13+G13 -> 0 | I13: 호표 10 | K13: A | M13: 공통 8-3,4(4430) | N13: T
A14: 594724AFE2313995A75D2B1F3C15481CCF22F80D | B14: 콘크리트 펌프차 | C14: 36m(80∼95㎥/hr) | D14: HR | E14: =일위대가!F76 -> 0 | F14: =일위대가!H76 -> 0 | G14: =일위대가!J76 -> 0 | H14: =E14+F14+G14 -> 0 | I14: 호표 11 | K14: A | M14: 공통 8-3,4(4504) | N14: T
A15: 594724AFE2313985993EB6DBC03BD51AA24EA752 | B15: 소형브레이커(전기식) | C15: 1.5kw | D15: HR | E15: =일위대가!F80 -> 0 | F15: =일위대가!H80 -> 0 | G15: =일위대가!J80 -> 0 | H15: =E15+F15+G15 -> 0 | I15: 호표 12 | M15: 공통 8-3(5220) | N15: T
A16: 594724AFE23139A54A6CCB36D7B9A3D9951F1477 | B16: 물탱크(살수차) | C16: 5500L | D16: HR | E16: =일위대가!F87 -> 0 | F16: =일위대가!H87 -> 0 | G16: =일위대가!J87 -> 0 | H16: =E16+F16+G16 -> 0 | I16: 호표 13 | K16: A | M16: 공통 8-3,4(7204) | N16: T
A17: 594724AFE23139A5406B4F64419F68BBC5C35010 | B17: 우레탄폼 분사용기구 | C17: 8.1kg/min | D17: HR | E17: =일위대가!F91 -> 0 | F17: =일위대가!H91 -> 0 | G17: =일위대가!J91 -> 0 | H17: =E17+F17+G17 -> 0 | I17: 호표 14 | K17: A | M17: 공통 8-3(7830) | N17: T
A18: 5E50444532D13305E0230A37D883DC | B18: 세로형 가설방음판 설치 | C18: 설치높이 6m 이하 | D18: M | E18: =일위대가!F98 -> 0 | F18: =일위대가!H98 -> 0 | G18: =일위대가!J98 -> 0 | H18: =E18+F18+G18 -> 0 | I18: 호표 15 | M18: 공통 2-4-4
A19: 5E50444532D13305E0230A37D88235 | B19: 세로형 가설방음판 해체 | C19: 설치높이 6m 이하 | D19: M | E19: =일위대가!F105 -> 0 | F19: =일위대가!H105 -> 0 | G19: =일위대가!J105 -> 0 | H19: =E19+F19+G19 -> 0 | I19: 호표 16 | M19: 공통 2-4-4
A20: 5E50444532D13305E022634A9AB92D | B20: RPP가설방음판 설치 및 해체 | C20: H:4100, 3개월 | D20: M | E20: =일위대가!F118 -> 0 | F20: =일위대가!H118 -> 0 | G20: =일위대가!J118 -> 0 | H20: =E20+F20+G20 -> 0 | I20: 호표 17
A21: 5E50444532D13305E022634A9AB92C | B21: RPP가설방음판 설치 및 해체 | C21: H:5000, 3개월 | D21: M | E21: =일위대가!F131 -> 0 | F21: =일위대가!H131 -> 0 | G21: =일위대가!J131 -> 0 | H21: =E21+F21+G21 -> 0 | I21: 호표 18
A22: 5E50444532F13E25F8CFC828279646 | B22: 강관 조립말비계(이동식)설치 및 해체 | C22: 높이 2m, 노무비 | D22: 대 | E22: =일위대가!F136 -> 0 | F22: =일위대가!H136 -> 0 | G22: =일위대가!J136 -> 0 | H22: =E22+F22+G22 -> 0 | I22: 호표 19 | M22: 공통 2-7-4
A23: 5E50444532F13E25F8CFC8282795BF | B23: 강관 조립말비계(이동식)설치 및 해체 | C23: 높이 4m, 노무비 | D23: 대 | E23: =일위대가!F141 -> 0 | F23: =일위대가!H141 -> 0 | G23: =일위대가!J141 -> 0 | H23: =E23+F23+G23 -> 0 | I23: 호표 20 | M23: 공통 2-7-4
A24: 5E50444532F13E25F8CFC829CEC12E | B24: 강관 조립말비계(이동식)설치 및 해체 | C24: 높이 2m, 3개월 | D24: 대 | E24: =일위대가!F154 -> 0 | F24: =일위대가!H154 -> 0 | G24: =일위대가!J154 -> 0 | H24: =E24+F24+G24 -> 0 | I24: 호표 21 | M24: 공통 2-7-4, 2-2-5
A25: 5E50444532F13E25F8CFC82AD53346 | B25: 강관 조립말비계(이동식)설치 및 해체 | C25: 높이 4m, 3개월 | D25: 대 | E25: =일위대가!F168 -> 0 | F25: =일위대가!H168 -> 0 | G25: =일위대가!J168 -> 0 | H25: =E25+F25+G25 -> 0 | I25: 호표 22 | M25: 공통 2-7-4, 2-2-5
A26: 5E504446C2113FA50D62B3A6B076B1 | B26: CONC인력비빔타설 / 가설 | C26: 무근울타리기초 | D26: M3 | E26: =일위대가!F175 -> 0 | F26: =일위대가!H175 -> 0 | G26: =일위대가!J175 -> 0 | H26: =E26+F26+G26 -> 0 | I26: 호표 23
A27: 5E504440B2A13D258BF3A984016853 | B27: 건축물 현장정리 | C27: 개보수공사 | D27: M2 | E27: =일위대가!F179 -> 0 | F27: =일위대가!H179 -> 0 | G27: =일위대가!J179 -> 0 | H27: =E27+F27+G27 -> 0 | I27: 호표 24 | M27: 공통 2-11-2 준용
A28: 5E504440B2913CE56F49773C51FAE7 | B28: 구조부 먹매김 | C28: 일반 | D28: M2 | E28: =일위대가!F183 -> 0 | F28: =일위대가!H183 -> 0 | G28: =일위대가!J183 -> 0 | H28: =E28+F28+G28 -> 0 | I28: 호표 25 | M28: 건축 4-1-1
A29: 5E50140E02613AC5A4634970E24704 | B29: 유로폼 - 주자재비 | D29: 10M2 | E29: =일위대가!F188 -> 0 | F29: =일위대가!H188 -> 0 | G29: =일위대가!J188 -> 0 | H29: =E29+F29+G29 -> 0 | I29: 호표 26 | M29: 공통 6-3-3.2
A30: 5E50140E02613AC5A4634A176CB27A | B30: 유로폼 - 인력투입 | C30: 간단, 수직고 7m까지 | D30: M2 | E30: =일위대가!F194 -> 0 | F30: =일위대가!H194 -> 0 | G30: =일위대가!J194 -> 0 | H30: =E30+F30+G30 -> 0 | I30: 호표 27 | M30: 공통 6-3-3.3
A31: 5E50140E02613AC5A462A1FFBF719E | B31: 유로폼 설치 및 해체 | C31: 간단, 수직고 7m까지 | D31: M2 | E31: =일위대가!F201 -> 0 | F31: =일위대가!H201 -> 0 | G31: =일위대가!J201 -> 0 | H31: =E31+F31+G31 -> 0 | I31: 호표 28 | M31: 공통 6-3-3
A32: 5E50140D72B137F5D66F9F0A1615B5 | B32: 철근 현장가공 | C32: Type-Ⅰ | D32: TON | E32: =일위대가!F207 -> 0 | F32: =일위대가!H207 -> 0 | G32: =일위대가!J207 -> 0 | H32: =E32+F32+G32 -> 0 | I32: 호표 29 | M32: 공통 6-2-2
A33: 5E50140D72B137F5D66F9F0A16165C | B33: 철근 현장조립 | C33: Type-Ⅰ | D33: TON | E33: =일위대가!F214 -> 0 | F33: =일위대가!H214 -> 0 | G33: =일위대가!J214 -> 0 | H33: =E33+F33+G33 -> 0 | I33: 호표 30 | M33: 공통 6-2-3
A34: 5E50140D72B137F5D66F9F0A173BB8 | B34: 철근 현장가공 및 현장조립 | C34: Type-Ⅰ | D34: TON | E34: =일위대가!F219 -> 0 | F34: =일위대가!H219 -> 0 | G34: =일위대가!J219 -> 0 | H34: =E34+F34+G34 -> 0 | I34: 호표 31 | M34: 공통 6-2-2, 3
A35: 5E50140982013F75FBD30DEC39583F | B35: 콘크리트 인력비빔 타설 | C35: 소형구조물 | D35: M3 | E35: =일위대가!F224 -> 0 | F35: =일위대가!H224 -> 0 | G35: =일위대가!J224 -> 0 | H35: =E35+F35+G35 -> 0 | I35: 호표 32 | M35: 공통 6-1-2
A36: 5E501409821139E56400AEBDE84334 | B36: 콘크리트 펌프차 타설(버림) | C36: slump 8~12cm, 매트기초 등, f2 : Type-Ⅰ, 36m | D36: M3 | E36: =일위대가!F232 -> 0 | F36: =일위대가!H232 -> 0 | G36: =일위대가!J232 -> 0 | H36: =E36+F36+G36 -> 0 | I36: 호표 33 | M36: 공통 6-1-4
A37: 5E50140982213A15FE7D2FFC557ACE | B37: 콘크리트 펌프차 타설 | C37: slump 15cm, 매트기초 등, f2 : Type-Ⅰ, 36m | D37: M3 | E37: =일위대가!F240 -> 0 | F37: =일위대가!H240 -> 0 | G37: =일위대가!J240 -> 0 | H37: =E37+F37+G37 -> 0 | I37: 호표 34 | M37: 공통 6-1-4
A38: 5E50140982213A25815256CADF3B17 | B38: 콘크리트 펌프차 타설 | C38: slump 15cm, 벽,기둥,슬래브 등, f2 : Type-Ⅰ, 36m | D38: M3 | E38: =일위대가!F248 -> 0 | F38: =일위대가!H248 -> 0 | G38: =일위대가!J248 -> 0 | H38: =E38+F38+G38 -> 0 | I38: 호표 35 | M38: 공통 6-1-4
A39: 5E502477A28135C5228CAD0FC0677F | B39: 모르타르 배합 | C39: 모래채가름 포함 | D39: M3 | E39: =일위대가!F252 -> 0 | F39: =일위대가!H252 -> 0 | G39: =일위대가!J252 -> 0 | H39: =E39+F39+G39 -> 0 | I39: 호표 36 | M39: 건축 9-1-1
A40: 5E502477A28135C5228CAD0C0CE147 | B40: 모르타르 배합(배합품 포함) | C40: 배합용적비 1:3, 시멘트, 모래 별도 | D40: M3 | E40: =일위대가!F258 -> 0 | F40: =일위대가!H258 -> 0 | G40: =일위대가!J258 -> 0 | H40: =E40+F40+G40 -> 0 | I40: 호표 37 | M40: 건축 9-1-1
...

Sheet 일위대가
A1: [ 한국문화예술위원회 나주청사 리모델링공사 ]
A2: 품 명 | B2: 규 격 | C2: 단위 | D2: 수량 | E2: 재 료 비 | G2: 노 무 비 | I2: 경 비 | K2: 합 계 | M2: 비 고 | N2: 일위대가 | O2: 품목코드 | P2: 일위 | Q2: 단산 | R2: 자재 | S2: 손료적용 | T2: 손료저장 | U2: 적용율 | V2: JUK1 | W2: JUK2 | X2: JUK3 | Y2: JUK4 | Z2: JUK5 | AA2: JUK6 | AB2: JUK7 | AC2: JUK8 | AD2: JUK9 | AE2: JUK10 | AF2: JUK11 | AG2: JUK12 | AH2: JUK13 | AI2: JUK14 | AJ2: JUK15 | AK2: JUK16 | AL2: JUK17 | AM2: JUK18 | AN2: JUK19 | AO2: JUK20 | AP2: 할증적용 | AQ2: 할증저장 | AR2: 할증율 | AS2: HAL1 | AT2: HAL2 | AU2: HAL3 | AV2: 자재구분 | AW2: 일위대가+자재 | AX2: 장비일위 | AY2: 설정 | AZ2: 할증체크
E3: 단 가 | F3: 금 액 | G3: 단 가 | H3: 금 액 | I3: 단 가 | J3: 금 액 | K3: 단 가 | L3: 금 액
A4: 굴착기(무한궤도) 0.2㎥ HR 공통 8-3,4(0201) ( 호표 1 ) | N4: 594724AFE23139D51FD15B589FC389F030299A3A
A5: 굴착기(무한궤도) | B5: 0.2㎥ | C5: 대 | D5: 0.2085 | E5: =단가대비표!O5 -> 0 | F5: =TRUNC(E5*D5,1) -> 0 | G5: =단가대비표!P5 -> 0 | H5: =TRUNC(G5*D5,1) -> 0 | I5: =단가대비표!V5 -> 0 | J5: =TRUNC(I5*D5,1) -> 0 | K5: =TRUNC(E5+G5+I5,1) -> 0 | L5: =TRUNC(F5+H5+J5,1) -> 0 | M5: 자재 1 | N5: 594724AFE23139D51FD15B589FC389F030299A3A | O5: 594724AFE23139D51FD15B589FC389F030299A | P5: F | Q5: F | R5: T | AW5: 594724AFE23139D51FD15B589FC389F030299A3A594724AFE23139D51FD15B589FC389F030299A
A6: 경유 | B6: 경유, 저유황 | C6: L | D6: 5 | E6: =단가대비표!O38 -> 0 | F6: =TRUNC(E6*D6,1) -> 0 | G6: =단가대비표!P38 -> 0 | H6: =TRUNC(G6*D6,1) -> 0 | I6: =단가대비표!V38 -> 0 | J6: =TRUNC(I6*D6,1) -> 0 | K6: =TRUNC(E6+G6+I6,1) -> 0 | L6: =TRUNC(F6+H6+J6,1) -> 0 | M6: 자재 34 | N6: 594724AFE23139D51FD15B589FC389F030299A3A | O6: 5951C4EC42B136D516DA85BCCE3BAC3C5B6F55 | P6: F | Q6: F | R6: T | V6: 1 | AW6: 594724AFE23139D51FD15B589FC389F030299A3A5951C4EC42B136D516DA85BCCE3BAC3C5B6F55
A7: 잡재료 | B7: 주연료비의 21% | C7: 식 | D7: 1 | E7: =TRUNC(SUMIF(V5:V8, RIGHTB(O7, 1), F5:F8)*U7, 2) -> 0 | F7: =TRUNC(E7*D7,1) -> 0 | G7: 0 | H7: =TRUNC(G7*D7,1) -> 0 | I7: 0 | J7: =TRUNC(I7*D7,1) -> 0 | K7: =TRUNC(E7+G7+I7,1) -> 0 | L7: =TRUNC(F7+H7+J7,1) -> 0 | N7: 594724AFE23139D51FD15B589FC389F030299A3A | O7: 5F49A4CEF20134C5CE0C82457C7C001 | P7: F | Q7: F | R7: F | S7: 0 | T7: 0 | U7: 0.21 | AW7: 594724AFE23139D51FD15B589FC389F030299A3A5F49A4CEF20134C5CE0C82457C7C001
A8: 건설기계운전사 | B8: 일반공사 직종 | C8: 인 | D8: 1 | E8: =TRUNC(단가대비표!O178*1/8*16/12*25/20, 1) -> 0 | F8: =TRUNC(E8*D8,1) -> 0 | G8: =TRUNC(단가대비표!P178*1/8*16/12*25/20, 1) -> 0 | H8: =TRUNC(G8*D8,1) -> 0 | I8: =TRUNC(단가대비표!V178*1/8*16/12*25/20, 1) -> 0 | J8: =TRUNC(I8*D8,1) -> 0 | K8: =TRUNC(E8+G8+I8,1) -> 0 | L8: =TRUNC(F8+H8+J8,1) -> 0 | M8: 노임 22 | N8: 594724AFE23139D51FD15B589FC389F030299A3A | O8: 5E8C94EC72C13745CED1B71BF1C5BDC347102B | P8: F | Q8: F | R8: T | AW8: 594724AFE23139D51FD15B589FC389F030299A3A5E8C94EC72C13745CED1B71BF1C5BDC347102B | AX8: T
A9: [ 합 계 ] | F9: =TRUNC(SUMIF(N5:N8, N4, F5:F8),0) -> 0 | H9: =TRUNC(SUMIF(N5:N8, N4, H5:H8),0) -> 0 | J9: =TRUNC(SUMIF(N5:N8, N4, J5:J8),0) -> 0 | L9: =F9+H9+J9 -> 0 | N9: TOTAL | O9: TOTAL
A11: 굴착기(무한궤도) 0.4㎥ HR 공통 8-3,4(0201) ( 호표 2 ) | N11: 594724AFE23139D51FD15B589FC5B6E57F0BEBE7
A12: 굴착기(무한궤도) | B12: 0.4㎥ | C12: 대 | D12: 0.2085 | E12: =단가대비표!O6 -> 0 | F12: =TRUNC(E12*D12,1) -> 0 | G12: =단가대비표!P6 -> 0 | H12: =TRUNC(G12*D12,1) -> 0 | I12: =단가대비표!V6 -> 0 | J12: =TRUNC(I12*D12,1) -> 0 | K12: =TRUNC(E12+G12+I12,1) -> 0 | L12: =TRUNC(F12+H12+J12,1) -> 0 | M12: 자재 2 | N12: 594724AFE23139D51FD15B589FC5B6E57F0BEBE7 | O12: 594724AFE23139D51FD15B589FC5B6E57F0BEB | P12: F | Q12: F | R12: T | AW12: 594724AFE23139D51FD15B589FC5B6E57F0BEBE7594724AFE23139D51FD15B589FC5B6E57F0BEB
A13: 경유 | B13: 경유, 저유황 | C13: L | D13: 9.9 | E13: =단가대비표!O38 -> 0 | F13: =TRUNC(E13*D13,1) -> 0 | G13: =단가대비표!P38 -> 0 | H13: =TRUNC(G13*D13,1) -> 0 | I13: =단가대비표!V38 -> 0 | J13: =TRUNC(I13*D13,1) -> 0 | K13: =TRUNC(E13+G13+I13,1) -> 0 | L13: =TRUNC(F13+H13+J13,1) -> 0 | M13: 자재 34 | N13: 594724AFE23139D51FD15B589FC5B6E57F0BEBE7 | O13: 5951C4EC42B136D516DA85BCCE3BAC3C5B6F55 | P13: F | Q13: F | R13: T | V13: 1 | AW13: 594724AFE23139D51FD15B589FC5B6E57F0BEBE75951C4EC42B136D516DA85BCCE3BAC3C5B6F55
A14: 잡재료 | B14: 주연료비의 22% | C14: 식 | D14: 1 | E14: =TRUNC(SUMIF(V12:V15, RIGHTB(O14, 1), F12:F15)*U14, 2) -> 0 | F14: =TRUNC(E14*D14,1) -> 0 | G14: 0 | H14: =TRUNC(G14*D14,1) -> 0 | I14: 0 | J14: =TRUNC(I14*D14,1) -> 0 | K14: =TRUNC(E14+G14+I14,1) -> 0 | L14: =TRUNC(F14+H14+J14,1) -> 0 | N14: 594724AFE23139D51FD15B589FC5B6E57F0BEBE7 | O14: 5F49A4CEF20134C5CE0C82457C7C001 | P14: F | Q14: F | R14: F | S14: 0 | T14: 0 | U14: 0.22 | AW14: 594724AFE23139D51FD15B589FC5B6E57F0BEBE75F49A4CEF20134C5CE0C82457C7C001
A15: 건설기계운전사 | B15: 일반공사 직종 | C15: 인 | D15: 1 | E15: =TRUNC(단가대비표!O178*1/8*16/12*25/20, 1) -> 0 | F15: =TRUNC(E15*D15,1) -> 0 | G15: =TRUNC(단가대비표!P178*1/8*16/12*25/20, 1) -> 0 | H15: =TRUNC(G15*D15,1) -> 0 | I15: =TRUNC(단가대비표!V178*1/8*16/12*25/20, 1) -> 0 | J15: =TRUNC(I15*D15,1) -> 0 | K15: =TRUNC(E15+G15+I15,1) -> 0 | L15: =TRUNC(F15+H15+J15,1) -> 0 | M15: 노임 22 | N15: 594724AFE23139D51FD15B589FC5B6E57F0BEBE7 | O15: 5E8C94EC72C13745CED1B71BF1C5BDC347102B | P15: F | Q15: F | R15: T | AW15: 594724AFE23139D51FD15B589FC5B6E57F0BEBE75E8C94EC72C13745CED1B71BF1C5BDC347102B | AX15: T
A16: [ 합 계 ] | F16: =TRUNC(SUMIF(N12:N15, N11, F12:F15),0) -> 0 | H16: =TRUNC(SUMIF(N12:N15, N11, H12:H15),0) -> 0 | J16: =TRUNC(SUMIF(N12:N15, N11, J12:J15),0) -> 0 | L16: =F16+H16+J16 -> 0 | N16: TOTAL | O16: TOTAL
A18: 굴착기(무한궤도) 0.6㎥ HR 공통 8-3,4(0201) ( 호표 3 ) | N18: 594724AFE23139D51FD15B589FC7644108BCDC6F
A19: 굴착기(무한궤도) | B19: 0.6㎥ | C19: 대 | D19: 0.2085 | E19: =단가대비표!O7 -> 0 | F19: =TRUNC(E19*D19,1) -> 0 | G19: =단가대비표!P7 -> 0 | H19: =TRUNC(G19*D19,1) -> 0 | I19: =단가대비표!V7 -> 0 | J19: =TRUNC(I19*D19,1) -> 0 | K19: =TRUNC(E19+G19+I19,1) -> 0 | L19: =TRUNC(F19+H19+J19,1) -> 0 | M19: 자재 3 | N19: 594724AFE23139D51FD15B589FC7644108BCDC6F | O19: 594724AFE23139D51FD15B589FC7644108BCDC | P19: F | Q19: F | R19: T | AW19: 594724AFE23139D51FD15B589FC7644108BCDC6F594724AFE23139D51FD15B589FC7644108BCDC
A20: 경유 | B20: 경유, 저유황 | C20: L | D20: 10.2 | E20: =단가대비표!O38 -> 0 | F20: =TRUNC(E20*D20,1) -> 0 | G20: =단가대비표!P38 -> 0 | H20: =TRUNC(G20*D20,1) -> 0 | I20: =단가대비표!V38 -> 0 | J20: =TRUNC(I20*D20,1) -> 0 | K20: =TRUNC(E20+G20+I20,1) -> 0 | L20: =TRUNC(F20+H20+J20,1) -> 0 | M20: 자재 34 | N20: 594724AFE23139D51FD15B589FC7644108BCDC6F | O20: 5951C4EC42B136D516DA85BCCE3BAC3C5B6F55 | P20: F | Q20: F | R20: T | V20: 1 | AW20: 594724AFE23139D51FD15B589FC7644108BCDC6F5951C4EC42B136D516DA85BCCE3BAC3C5B6F55
A21: 잡재료 | B21: 주연료비의 22% | C21: 식 | D21: 1 | E21: =TRUNC(SUMIF(V19:V22, RIGHTB(O21, 1), F19:F22)*U21, 2) -> 0 | F21: =TRUNC(E21*D21,1) -> 0 | G21: 0 | H21: =TRUNC(G21*D21,1) -> 0 | I21: 0 | J21: =TRUNC(I21*D21,1) -> 0 | K21: =TRUNC(E21+G21+I21,1) -> 0 | L21: =TRUNC(F21+H21+J21,1) -> 0 | N21: 594724AFE23139D51FD15B589FC7644108BCDC6F | O21: 5F49A4CEF20134C5CE0C82457C7C001 | P21: F | Q21: F | R21: F | S21: 0 | T21: 0 | U21: 0.22 | AW21: 594724AFE23139D51FD15B589FC7644108BCDC6F5F49A4CEF20134C5CE0C82457C7C001
A22: 건설기계운전사 | B22: 일반공사 직종 | C22: 인 | D22: 1 | E22: =TRUNC(단가대비표!O178*1/8*16/12*25/20, 1) -> 0 | F22: =TRUNC(E22*D22,1) -> 0 | G22: =TRUNC(단가대비표!P178*1/8*16/12*25/20, 1) -> 0 | H22: =TRUNC(G22*D22,1) -> 0 | I22: =TRUNC(단가대비표!V178*1/8*16/12*25/20, 1) -> 0 | J22: =TRUNC(I22*D22,1) -> 0 | K22: =TRUNC(E22+G22+I22,1) -> 0 | L22: =TRUNC(F22+H22+J22,1) -> 0 | M22: 노임 22 | N22: 594724AFE23139D51FD15B589FC7644108BCDC6F | O22: 5E8C94EC72C13745CED1B71BF1C5BDC347102B | P22: F | Q22: F | R22: T | AW22: 594724AFE23139D51FD15B589FC7644108BCDC6F5E8C94EC72C13745CED1B71BF1C5BDC347102B | AX22: T
A23: [ 합 계 ] | F23: =TRUNC(SUMIF(N19:N22, N18, F19:F22),0) -> 0 | H23: =TRUNC(SUMIF(N19:N22, N18, H19:H22),0) -> 0 | J23: =TRUNC(SUMIF(N19:N22, N18, J19:J22),0) -> 0 | L23: =F23+H23+J23 -> 0 | N23: TOTAL | O23: TOTAL
A25: 굴착기(무한궤도) 0.7㎥ HR 공통 8-3,4(0201) ( 호표 4 ) | N25: 594724AFE23139D51FD15B589FC65D6F693AC01B
A26: 굴착기(무한궤도) | B26: 0.7㎥ | C26: 대 | D26: 0.2085 | E26: =단가대비표!O8 -> 0 | F26: =TRUNC(E26*D26,1) -> 0 | G26: =단가대비표!P8 -> 0 | H26: =TRUNC(G26*D26,1) -> 0 | I26: =단가대비표!V8 -> 0 | J26: =TRUNC(I26*D26,1) -> 0 | K26: =TRUNC(E26+G26+I26,1) -> 0 | L26: =TRUNC(F26+H26+J26,1) -> 0 | M26: 자재 4 | N26: 594724AFE23139D51FD15B589FC65D6F693AC01B | O26: 594724AFE23139D51FD15B589FC65D6F693AC0 | P26: F | Q26: F | R26: T | AW26: 594724AFE23139D51FD15B589FC65D6F693AC01B594724AFE23139D51FD15B589FC65D6F693AC0
A27: 경유 | B27: 경유, 저유황 | C27: L | D27: 11.6 | E27: =단가대비표!O38 -> 0 | F27: =TRUNC(E27*D27,1) -> 0 | G27: =단가대비표!P38 -> 0 | H27: =TRUNC(G27*D27,1) -> 0 | I27: =단가대비표!V38 -> 0 | J27: =TRUNC(I27*D27,1) -> 0 | K27: =TRUNC(E27+G27+I27,1) -> 0 | L27: =TRUNC(F27+H27+J27,1) -> 0 | M27: 자재 34 | N27: 594724AFE23139D51FD15B589FC65D6F693AC01B | O27: 5951C4EC42B136D516DA85BCCE3BAC3C5B6F55 | P27: F | Q27: F | R27: T | V27: 1 | AW27: 594724AFE23139D51FD15B589FC65D6F693AC01B5951C4EC42B136D516DA85BCCE3BAC3C5B6F55
A28: 잡재료 | B28: 주연료비의 22% | C28: 식 | D28: 1 | E28: =TRUNC(SUMIF(V26:V29, RIGHTB(O28, 1), F26:F29)*U28, 2) -> 0 | F28: =TRUNC(E28*D28,1) -> 0 | G28: 0 | H28: =TRUNC(G28*D28,1) -> 0 | I28: 0 | J28: =TRUNC(I28*D28,1) -> 0 | K28: =TRUNC(E28+G28+I28,1) -> 0 | L28: =TRUNC(F28+H28+J28,1) -> 0 | N28: 594724AFE23139D51FD15B589FC65D6F693AC01B | O28: 5F49A4CEF20134C5CE0C82457C7C001 | P28: F | Q28: F | R28: F | S28: 0 | T28: 0 | U28: 0.22 | AW28: 594724AFE23139D51FD15B589FC65D6F693AC01B5F49A4CEF20134C5CE0C82457C7C001
A29: 건설기계운전사 | B29: 일반공사 직종 | C29: 인 | D29: 1 | E29: =TRUNC(단가대비표!O178*1/8*16/12*25/20, 1) -> 0 | F29: =TRUNC(E29*D29,1) -> 0 | G29: =TRUNC(단가대비표!P178*1/8*16/12*25/20, 1) -> 0 | H29: =TRUNC(G29*D29,1) -> 0 | I29: =TRUNC(단가대비표!V178*1/8*16/12*25/20, 1) -> 0 | J29: =TRUNC(I29*D29,1) -> 0 | K29: =TRUNC(E29+G29+I29,1) -> 0 | L29: =TRUNC(F29+H29+J29,1) -> 0 | M29: 노임 22 | N29: 594724AFE23139D51FD15B589FC65D6F693AC01B | O29: 5E8C94EC72C13745CED1B71BF1C5BDC347102B | P29: F | Q29: F | R29: T | AW29: 594724AFE23139D51FD15B589FC65D6F693AC01B5E8C94EC72C13745CED1B71BF1C5BDC347102B | AX29: T
A30: [ 합 계 ] | F30: =TRUNC(SUMIF(N26:N29, N25, F26:F29),0) -> 0 | H30: =TRUNC(SUMIF(N26:N29, N25, H26:H29),0) -> 0 | J30: =TRUNC(SUMIF(N26:N29, N25, J26:J29),0) -> 0 | L30: =F30+H30+J30 -> 0 | N30: TOTAL | O30: TOTAL
A32: 덤프트럭 15ton HR 공통 8-3,4(0602) ( 호표 5 ) | N32: 594724AFE23139D51B7668DB3CD38D4D869554B1
A33: 덤프트럭 | B33: 15ton | C33: 대 | D33: 0.2279 | E33: =단가대비표!O9 -> 0 | F33: =TRUNC(E33*D33,1) -> 0 | G33: =단가대비표!P9 -> 0 | H33: =TRUNC(G33*D33,1) -> 0 | I33: =단가대비표!V9 -> 0 | J33: =TRUNC(I33*D33,1) -> 0 | K33: =TRUNC(E33+G33+I33,1) -> 0 | L33: =TRUNC(F33+H33+J33,1) -> 0 | M33: 자재 5 | N33: 594724AFE23139D51B7668DB3CD38D4D869554B1 | O33: 594724AFE23139D51B7668DB3CD38D4D869554 | P33: F | Q33: F | R33: T | AW33: 594724AFE23139D51B7668DB3CD38D4D869554B1594724AFE23139D51B7668DB3CD38D4D869554
A34: 경유 | B34: 경유, 저유황 | C34: L | D34: 15.9 | E34: =단가대비표!O38 -> 0 | F34: =TRUNC(E34*D34,1) -> 0 | G34: =단가대비표!P38 -> 0 | H34: =TRUNC(G34*D34,1) -> 0 | I34: =단가대비표!V38 -> 0 | J34: =TRUNC(I34*D34,1) -> 0 | K34: =TRUNC(E34+G34+I34,1) -> 0 | L34: =TRUNC(F34+H34+J34,1) -> 0 | M34: 자재 34 | N34: 594724AFE23139D51B7668DB3CD38D4D869554B1 | O34: 5951C4EC42B136D516DA85BCCE3BAC3C5B6F55 | P34: F | Q34: F | R34: T | V34: 1 | AW34: 594724AFE23139D51B7668DB3CD38D4D869554B15951C4EC42B136D516DA85BCCE3BAC3C5B6F55
A35: 잡재료 | B35: 주연료비의 38% | C35: 식 | D35: 1 | E35: =TRUNC(SUMIF(V33:V36, RIGHTB(O35, 1), F33:F36)*U35, 2) -> 0 | F35: =TRUNC(E35*D35,1) -> 0 | G35: 0 | H35: =TRUNC(G35*D35,1) -> 0 | I35: 0 | J35: =TRUNC(I35*D35,1) -> 0 | K35: =TRUNC(E35+G35+I35,1) -> 0 | L35: =TRUNC(F35+H35+J35,1) -> 0 | N35: 594724AFE23139D51B7668DB3CD38D4D869554B1 | O35: 5F49A4CEF20134C5CE0C82457C7C001 | P35: F | Q35: F | R35: F | S35: 0 | T35: 0 | U35: 0.38 | AW35: 594724AFE23139D51B7668DB3CD38D4D869554B15F49A4CEF20134C5CE0C82457C7C001
A36: 건설기계운전사 | B36: 일반공사 직종 | C36: 인 | D36: 1 | E36: =TRUNC(단가대비표!O178*1/8*16/12*25/20, 1) -> 0 | F36: =TRUNC(E36*D36,1) -> 0 | G36: =TRUNC(단가대비표!P178*1/8*16/12*25/20, 1) -> 0 | H36: =TRUNC(G36*D36,1) -> 0 | I36: =TRUNC(단가대비표!V178*1/8*16/12*25/20, 1) -> 0 | J36: =TRUNC(I36*D36,1) -> 0 | K36: =TRUNC(E36+G36+I36,1) -> 0 | L36: =TRUNC(F36+H36+J36,1) -> 0 | M36: 노임 22 | N36: 594724AFE23139D51B7668DB3CD38D4D869554B1 | O36: 5E8C94EC72C13745CED1B71BF1C5BDC347102B | P36: F | Q36: F | R36: T | AW36: 594724AFE23139D51B7668DB3CD38D4D869554B15E8C94EC72C13745CED1B71BF1C5BDC347102B | AX36: T
A37: [ 합 계 ] | F37: =TRUNC(SUMIF(N33:N36, N32, F33:F36),0) -> 0 | H37: =TRUNC(SUMIF(N33:N36, N32, H33:H36),0) -> 0 | J37: =TRUNC(SUMIF(N33:N36, N32, J33:J36),0) -> 0 | L37: =F37+H37+J37 -> 0 | N37: TOTAL | O37: TOTAL
A39: 덤프트럭 자동덮개시설 15ton HR 공통 8-3(0610) ( 호표 6 ) | N39: 594724AFE23139D51B7770D3DE8BE588D79B4F03
A40: 덤프트럭 자동덮개시설 | B40: 15ton | C40: 대 | D40: 0.2684 | E40: =단가대비표!O10 -> 0 | F40: =TRUNC(E40*D40,1) -> 0 | G40: =단가대비표!P10 -> 0 | H40: =TRUNC(G40*D40,1) -> 0 | I40: =단가대비표!V10 -> 0 | J40: =TRUNC(I40*D40,1) -> 0 | K40: =TRUNC(E40+G40+I40,1) -> 0 | L40: =TRUNC(F40+H40+J40,1) -> 0 | M40: 자재 6 | N40: 594724AFE23139D51B7770D3DE8BE588D79B4F03 | O40: 594724AFE23139D51B7770D3DE8BE588D79B4F | P40: F | Q40: F | R40: T | AW40: 594724AFE23139D51B7770D3DE8BE588D79B4F03594724AFE23139D51B7770D3DE8BE588D79B4F
A41: [ 합 계 ] | F41: =TRUNC(SUMIF(N40:N40, N39, F40:F40),0) -> 0 | H41: =TRUNC(SUMIF(N40:N40, N39, H40:H40),0) -> 0 | J41: =TRUNC(SUMIF(N40:N40, N39, J40:J40),0) -> 0 | L41: =F41+H41+J41 -> 0 | N41: TOTAL | O41: TOTAL
A43: 진동롤러(핸드가이드식) 0.7ton HR 공통 8-3,4(1305) ( 호표 7 ) | N43: 594724AFE23139C57593EF6BB7BFDE0FC5B0D5C9
A44: 진동롤러(핸드가이드식) | B44: 0.7ton | C44: 대 | D44: 0.2825 | E44: =단가대비표!O11 -> 0 | F44: =TRUNC(E44*D44,1) -> 0 | G44: =단가대비표!P11 -> 0 | H44: =TRUNC(G44*D44,1) -> 0 | I44: =단가대비표!V11 -> 0 | J44: =TRUNC(I44*D44,1) -> 0 | K44: =TRUNC(E44+G44+I44,1) -> 0 | L44: =TRUNC(F44+H44+J44,1) -> 0 | M44: 자재 7 | N44: 594724AFE23139C57593EF6BB7BFDE0FC5B0D5C9 | O44: 594724AFE23139C57593EF6BB7BFDE0FC5B0D5 | P44: F | Q44: F | R44: T | AW44: 594724AFE23139C57593EF6BB7BFDE0FC5B0D5C9594724AFE23139C57593EF6BB7BFDE0FC5B0D5
A45: 경유 | B45: 경유, 저유황 | C45: L | D45: 2.2 | E45: =단가대비표!O38 -> 0 | F45: =TRUNC(E45*D45,1) -> 0 | G45: =단가대비표!P38 -> 0 | H45: =TRUNC(G45*D45,1) -> 0 | I45: =단가대비표!V38 -> 0 | J45: =TRUNC(I45*D45,1) -> 0 | K45: =TRUNC(E45+G45+I45,1) -> 0 | L45: =TRUNC(F45+H45+J45,1) -> 0 | M45: 자재 34 | N45: 594724AFE23139C57593EF6BB7BFDE0FC5B0D5C9 | O45: 5951C4EC42B136D516DA85BCCE3BAC3C5B6F55 | P45: F | Q45: F | R45: T | V45: 1 | AW45: 594724AFE23139C57593EF6BB7BFDE0FC5B0D5C95951C4EC42B136D516DA85BCCE3BAC3C5B6F55
A46: 잡재료 | B46: 주연료비의 13% | C46: 식 | D46: 1 | E46: =TRUNC(SUMIF(V44:V47, RIGHTB(O46, 1), F44:F47)*U46, 2) -> 0 | F46: =TRUNC(E46*D46,1) -> 0 | G46: 0 | H46: =TRUNC(G46*D46,1) -> 0 | I46: 0 | J46: =TRUNC(I46*D46,1) -> 0 | K46: =TRUNC(E46+G46+I46,1) -> 0 | L46: =TRUNC(F46+H46+J46,1) -> 0 | N46: 594724AFE23139C57593EF6BB7BFDE0FC5B0D5C9 | O46: 5F49A4CEF20134C5CE0C82457C7C001 | P46: F | Q46: F | R46: F | S46: 0 | T46: 0 | U46: 0.13 | AW46: 594724AFE23139C57593EF6BB7BFDE0FC5B0D5C95F49A4CEF20134C5CE0C82457C7C001
...

Sheet 단가산출목록
B1: 단 가 산 출 목 록
B2: [ 한국문화예술위원회 나주청사 리모델링공사 ]
A3: 코 드 | B3: 품 명 | C3: 규 격 | D3: 단위 | E3: 재 료 비 | F3: 노 무 비 | G3: 경 비 | H3: 합 계 | I3: 번 호 | J3: 비 고 | K3: START | L3: 품셈개요
A4: 5E756437F25131250767FD84CBE32F | B4: 터파기/토사 | C4: 보통, 굴착기 0.7m3 | D4: M3 | H4: =단가산출서!E20 -> 0 | I4: 산근 1 | K4: 5E756437F25131250767FD84CBE32F | L4: 공통 8-2-3
A5: 5E75643432C132B5149A3F5D45135E | B5: 토사 운반/단지외 10km | C5: 보통, 덤프 15ton+굴착기 0.7m3(고르기 별도) | D5: M3 | H5: =단가산출서!E69 -> 0 | I5: 산근 2 | K5: 5E75643432C132B5149A3F5D45135E | L5: 공통 8-2-8

Sheet 단가산출서
A1: 단 가 산 출 서
A2: [ 한국문화예술위원회 나주청사 리모델링공사 ]
A3: 산 출 내 역 | B3: 재 료 비 | C3: 노 무 비 | D3: 경 비 | E3: 합 계 | F3: 비 고 | G3: START | H3: 코드 | I3: 품명 | J3: 규격 | K3: 단위 | L3: 수량 | M3: 변수 | N3: 값 | O3: 소계 | P3: 소계 | Q3: 소계 | R3: 소계 | S3: 소계 | T3: 총계
A4: 터파기/토사 보통, 굴착기 0.7m3 M3 공통 8-2-3 ( 산근 1 ) | G4: 5E756437F25131250767FD84CBE32F | I4: 터파기/토사 | J4: 보통, 굴착기 0.7m3 | K4: M3
G5: 5E756437F25131250767FD84CBE32F | H5: C | L5: 1
A6: 굴삭기(무한궤도),0.7㎥ M3 | B6: 0 | C6: 0 | D6: 0 | E6: 0 | G6: 5E756437F25131250767FD84CBE32F | H6: C! | I6: '굴삭기(무한궤도),0.7㎥ M3'
B7: 0 | C7: 0 | D7: 0 | E7: 0 | G7: 5E756437F25131250767FD84CBE32F | H7: C!
A8: Q1 바켓용량(M3) =0.70 | B8: 0 | C8: 0 | D8: 0 | E8: 0 | G8: 5E756437F25131250767FD84CBE32F | H8: C! | I8: q1 '바켓용량(M3)' =0.70
A9: K 바켓계수(양호1.1,보통0.90,불량0.70,파쇄암0.55) = 0.90 | B9: 0 | C9: 0 | D9: 0 | E9: 0 | G9: 5E756437F25131250767FD84CBE32F | H9: C! | I9: k '바켓계수(양호1.1,보통0.90,불량0.70,파쇄암0.55)'= 0.90
A10: F 토량환산계수(1/L) = 1/1.25= 0.8 | B10: 0 | C10: 0 | D10: 0 | E10: 0 | G10: 5E756437F25131250767FD84CBE32F | H10: C! | I10: f '토량환산계수(1/L)'= 1/1.25=?
A11: E1 터파기에 대하여 -0.05 =0.05 | B11: 0 | C11: 0 | D11: 0 | E11: 0 | G11: 5E756437F25131250767FD84CBE32F | H11: C! | I11: E1 '터파기에 대하여 -0.05'=0.05
A12: E 작업효율사질토(양호0.85,보통0.70,불량0.55) = 0.70-E1= 0.65 | B12: 0 | C12: 0 | D12: 0 | E12: 0 | G12: 5E756437F25131250767FD84CBE32F | H12: C! | I12: E '작업효율사질토(양호0.85,보통0.70,불량0.55)'= 0.70-E1=?
A13: CM 1회 싸이클시간(135˚SEC) =20 | B13: 0 | C13: 0 | D13: 0 | E13: 0 | G13: 5E756437F25131250767FD84CBE32F | H13: C! | I13: Cm '1회 싸이클시간(135˚SEC)'=20
A14: Q 시간당 작업량 (M3/HR) = 3600*Q1*K*F*E/CM= 58.968 | B14: 0 | C14: 0 | D14: 0 | E14: 0 | G14: 5E756437F25131250767FD84CBE32F | H14: C! | I14: Q '시간당 작업량 (M3/Hr)'= 3600*q1*k*f*E/Cm=?
G15: 5E756437F25131250767FD84CBE32F | H15: C!
A16: 재료비: 20185 / 58.968 = 342.3 | G16: 5E756437F25131250767FD84CBE32F | H16: C! | I16: '재료비:' ~00000201007000000.M~ / {Q} =?MA+
A17: 노무비: 57077 / 58.968 = 967.9 | G17: 5E756437F25131250767FD84CBE32F | H17: C! | I17: '노무비:' ~00000201007000000.L~ / {Q} =?LA+
A18: 경 비: 24001 / 58.968 = 407 | G18: 5E756437F25131250767FD84CBE32F | H18: C! | I18: '경 비:' ~00000201007000000.E~ / {Q} =?EQ+
A19: 소 계 | G19: 5E756437F25131250767FD84CBE32F | H19: C! | I19: >'소 계'
A20: 총 계
A22: 토사 운반/단지외 10km 보통, 덤프 15ton+굴착기 0.7m3(고르기 별도) M3 공통 8-2-8 ( 산근 2 ) | G22: 5E75643432C132B5149A3F5D45135E | I22: 토사 운반/단지외 10km | J22: 보통, 덤프 15ton+굴착기 0.7m3(고르기 별도) | K22: M3
G23: 5E75643432C132B5149A3F5D45135E | H23: C | K23: M3 | L23: 1
A24: 운반거리 L=10KN,(적재,고르기별도) M3 | G24: 5E75643432C132B5149A3F5D45135E | H24: C! | I24: '운반거리 L=10KN,(적재,고르기별도) M3'
A25: 차량속도= 30KM/V1,35KM/V2,35KM/V3,35KM/V4,30KM/V5,35KM/V6 | G25: 5E75643432C132B5149A3F5D45135E | H25: C! | I25: '차량속도= 30KM/V1,35KM/V2,35KM/V3,35KM/V4,30KM/V5,35KM/V6 '
A26: ○------------------0------------0----------------○10KM | G26: 5E75643432C132B5149A3F5D45135E | H26: C! | I26: ' ○------------------0------------0----------------○10KM '
A27: 운반거리=단지대L1=0.5KM,시내외L2=9.0KM,사토장L3=0.5KM | G27: 5E75643432C132B5149A3F5D45135E | H27: C! | I27: '운반거리=단지대L1=0.5KM,시내외L2=9.0KM,사토장L3=0.5KM'
G28: 5E75643432C132B5149A3F5D45135E | H28: C!
A29: 1.덤프트럭,15톤 | G29: 5E75643432C132B5149A3F5D45135E | H29: C! | I29: '1.덤프트럭,15톤'
A30: T 적재용량(톤) =15 | G30: 5E75643432C132B5149A3F5D45135E | H30: C! | I30: T '적재용량(톤)' =15
A31: R1 토석의 단위중량(톤) =1.7 | G31: 5E75643432C132B5149A3F5D45135E | H31: C! | I31: r1 '토석의 단위중량(톤)' =1.7
A32: L 토량 변화율 =1.25 | G32: 5E75643432C132B5149A3F5D45135E | H32: C! | I32: L '토량 변화율' =1.25
A33: Q1 1회 적재량(M3) =T/R1*L= 11.0294 | G33: 5E75643432C132B5149A3F5D45135E | H33: C! | I33: q1 '1회 적재량(M3)' =T/r1*L=?
A34: F 토량 환산계수(1/L) =1/L= 0.8 | G34: 5E75643432C132B5149A3F5D45135E | H34: C! | I34: f '토량 환산계수(1/L)' =1/L=?
A35: E 작업효율 =0.9 | G35: 5E75643432C132B5149A3F5D45135E | H35: C! | I35: E '작업효율' =0.9
A36: CMS 적재기계 1회 싸이클시간(SEC) =20 | G36: 5E75643432C132B5149A3F5D45135E | H36: C! | I36: Cms '적재기계 1회 싸이클시간(SEC)' =20
A37: V1 단지내적재운반속도(KM/HR) =15 | G37: 5E75643432C132B5149A3F5D45135E | H37: C! | I37: V1 '단지내적재운반속도(KM/HR)' =15
A38: V2 단지내공차운반속도(KM/HR) =20 | G38: 5E75643432C132B5149A3F5D45135E | H38: C! | I38: V2 '단지내공차운반속도(KM/HR)' =20
A39: V3 시내외포장적재운반속도(KM/HR) =35 | G39: 5E75643432C132B5149A3F5D45135E | H39: C! | I39: V3 '시내외포장적재운반속도(KM/HR)' =35
A40: V4 시내외포장공차운반속도(KM/HR) =35 | G40: 5E75643432C132B5149A3F5D45135E | H40: C! | I40: V4 '시내외포장공차운반속도(KM/HR)' =35
... A45: L3 사토장비포장(KM) =0.5 | G45: 5E75643432C132B5149A3F5D45135E | H45: C! | I45: L3 '사토장비포장(KM)' =0.5
...

Sheet 단가대비표
A1: 단 가 대 비 표
A2: [ 한국문화예술위원회 나주청사 리모델링공사 ]
A3: 코 드 | B3: 품 명 | C3: 규격 | D3: 단위 | E3: 재 료 비 | P3: 노 무 비 | Q3: 경 비 | W3: 번 호 | X3: 비 고 | Y3: 품목구분 | Z3: 노임구분 | AA3: 소수점처리 | AB3: 자재구분
E4: 조달청가격 | F4: PAGE | G4: 거래가격 | H4: PAGE | I4: 유통물가 | J4: PAGE | K4: 물가자료 | L4: PAGE | M4: 조사가격 | N4: PAGE | O4: 적용단가 | Q4: 조달청가격 | R4: 거래가격 | S4: 유통물가 | T4: 물가자료 | U4: 조사가격 | V4: 적용단가
A5: 594724AFE23139D51FD15B589FC389F030299A | B5: 굴착기(무한궤도) | C5: 0.2㎥ | D5: 대 | W5: 자재 1 | X5: 천원
A6: 594724AFE23139D51FD15B589FC5B6E57F0BEB | B6: 굴착기(무한궤도) | C6: 0.4㎥ | D6: 대 | W6: 자재 2 | X6: 천원
A7: 594724AFE23139D51FD15B589FC7644108BCDC | B7: 굴착기(무한궤도) | C7: 0.6㎥ | D7: 대 | W7: 자재 3 | X7: 천원
A8: 594724AFE23139D51FD15B589FC65D6F693AC0 | B8: 굴착기(무한궤도) | C8: 0.7㎥ | D8: 대 | W8: 자재 4 | X8: 천원
A9: 594724AFE23139D51B7668DB3CD38D4D869554 | B9: 덤프트럭 | C9: 15ton | D9: 대 | W9: 자재 5 | X9: 천원
A10: 594724AFE23139D51B7770D3DE8BE588D79B4F | B10: 덤프트럭 자동덮개시설 | C10: 15ton | D10: 대 | W10: 자재 6 | X10: 천원
A11: 594724AFE23139C57593EF6BB7BFDE0FC5B0D5 | B11: 진동롤러(핸드가이드식) | C11: 0.7ton | D11: 대 | W11: 자재 7 | X11: 천원
A12: 594724AFE23139C57593EC97D89FBFF19F88EE | B12: 진동롤러(자주식) | C12: 10ton | D12: 대 | W12: 자재 8 | X12: 천원
A13: 594724AFE23139C5713B4F0654817F4CD57DD2 | B13: 플레이트 콤팩터 | C13: 1.5ton | D13: 대 | W13: 자재 9 | X13: 천원
A14: 594724AFE2313995A6B59E9F48C667F96D4262 | B14: 커터(콘크리트 및 아스팔트용) | C14: 320∼400mm | D14: 대 | W14: 자재 10 | X14: 천원
A15: 594724AFE2313995A75D2B1F3C15481CCF22F8 | B15: 콘크리트 펌프차 | C15: 36m(80∼95㎥/hr) | D15: 대 | W15: 자재 11 | X15: 천원
A16: 594724AFE2313985993EB6DBC03BD51AA24EA7 | B16: 소형브레이커(전기식) | C16: 1.5kw | D16: 대 | W16: 자재 12 | X16: 천원
... A18: 594724AFE23139A5406B4F64419F68BBC5C350 | B18: 우레탄폼 분사용기구 | C18: 8.1kg/min | D18: 대 | W18: 자재 14 | X18: 천원
A19: 5951847352013EF530BE556F16D2B1261FE57C | B19: 자갈 | C19: 도착도, #467 | D19: M3 | W19: 자재 15
A20: 5951847352013EF530BE556F16D2B1261FE8C8 | B20: 자갈 | C20: (별도), 40mm, #467 | D20: M3 | W20: 자재 16 | X20: 별도
A21: 5951847352013EF530B61906F9A1EE95233CFF | B21: 잡석 | C21: (별도) | D21: M3 | W21: 자재 17 | X21: 별도
A22: 5951847352013EF53146CC4ACD0A42BFCA3CA4 | B22: 모래 | C22: (별도) | D22: M3 | W22: 자재 18 | X22: 별도
A23: 5951847352013EF53146CC4ACD0A42BFCA3AF7 | B23: 모래 | C23: 도착도 | D23: M3 | W23: 자재 19
A24: 5951847352313A0529772202338B3D972A20AE | B24: 보통합판 | C24: 보통합판, 1급, 4.8*1220*2440mm | D24: M2 | W24: 자재 20
A25: 5951847352313A0529772202338B3D972A20AA | B25: 보통합판 | C25: 보통합판, 1급, 9.0*1220*2440mm | D25: M2 | W25: 자재 21
A26: 5951847352313A0529772050FC1091B44965AB | B26: 중밀도섬유판 | C26: 중밀도섬유판, 18*1220*2440mm | D26: M2 | W26: 자재 22
A27: 5951847352313A0529772050FC1091B44965A4 | B27: 중밀도섬유판 | C27: 중밀도섬유판, 20*1220*2440mm | D27: M2 | W27: 자재 23
A28: 59518473528132553EE6D16E30FFECAA2EEF8D | B28: 철강설 | C28: 철강설, 고철, 작업설부산물 | D28: kg | W28: 자재 24 | X28: 수집상차도
A29: 59518473528132553EE6D16E30FFECAA2EEFFE | B29: 철강설/철근 | C29: 철강설, 고철, 작업설부산물 | D29: kg | W29: 자재 25 | X29: 수집상차도
A30: 59518473528132553EE6D16E30FFECAA2EEEE8 | B30: 철강설 | C30: 철강설, 스텐레스, 작업설부산물 | D30: kg | W30: 자재 26 | X30: 수집상차도
A31: 59518473528132553EE6D16E318CD92B27106A | B31: 철강설 | C31: 철강설, 알루미늄, 작업설부산물 | D31: kg | W31: 자재 27 | X31: 수집상차도
A32: 5951B4C642E131957A1776DC8F2F9D8C00D563 | B32: 감수제 | C32: 감수제, 혼화제, 메도로스1000 | D32: g | W32: 자재 28
A33: 5951B4C642E13195748EC93CC3240EDD9B8D6F | B33: 발수방수제 | C33: 발수방수제, 아쿠아씰 | D33: L | W33: 자재 29
A34: 5951B4C642E13195748ECEA280779811BA0841 | B34: 우레탄도막방수재 | C34: 우레탄도막방수재, 프라이머 | D34: kg | W34: 자재 30
A35: 5951B4C642E13195748ECEA280779811BA0840 | B35: 우레탄도막방수재 | C35: 우레탄도막방수재, 희석재 | D35: kg | W35: 자재 31
A36: 5951B4C642E13195748ECEA280779811BA04EE | B36: 우레탄도막방수재 | C36: 우레탄도막방수제, 우레탄 | D36: kg | W36: 자재 32
A37: 5951A421C2C136C565B494BC49F05BE90A3674 | B37: 폴리에틸렌필름 | C37: 폴리에틸렌필름, 두께, 0.03mm | D37: M2 | W37: 자재 33
A38: 5951C4EC42B136D516DA85BCCE3BAC3C5B6F55 | B38: 경유 | C38: 경유, 저유황 | D38: L | W38: 자재 34
A39: 5951C4EC42B136D516DA86477B6A8D79AE3A0D | B39: 공업용휘발유 | C39: 공업용휘발유, 무연 | D39: L | W39: 자재 35
A40: 597C64ACC2E131A55490251CB70C8DFF3AE726 | B40: ㄱ형강 | C40: ㄱ형강, 등변, 25*25*3mm | D40: kg | W40: 자재 36
A41: 597C64ACC2E131A55490251CB70C8DFF3AE72D | B41: ㄱ형강 | C41: ㄱ형강, 등변, 50*50*4mm | D41: kg | W41: 자재 37
...

Sheet  공사설정 
A1: 이 Sheet는 수정하지 마십시요
A2: 공사구분 | B2: A | C2: 타이틀
A3: 확정내역 | B3: 원내역
A4: 자재단가적용 | B4: 5
A5: 경비단가적용 | B5: 5
A6: 품목코드형식 | B6: XXXX-XXXX-XXXXXXXXX
A7: 내역금액소수점처리 | B7: C | C7: T
A8: 일위대가내역소수점처리 | B8: C | C8: 2
A9: 단가명 | B9: 조달청가격 | C9: 거래가격 | D9: 유통물가 | E9: 물가자료 | F9: 조사가격 | G9: TTTTT
A10: 환율 | B10: 1466 | C10: 0 | D10: 0
A11: 시간당작업량 | B11: R | C11: 4
A12: 1회 사이클시간 | B12: R | C12: 4
A13: 시간당 작업사이클 | B13: R | C13: 3
A14: 일반변수 | B14: R | C14: 5
A15: 시간당 노임산출 계수 | B15: A | C15: 1/8*16/12*25/20 | D15: 1/8*16/12*25/20 | E15: 1/8*16/12*25/20 | F15: 1
A16: 재료비 할증 계수 | B16: 1.11 | C16: 1.12
A17: 노무비 할증 계수 | B17: 1 | C17: 1.5 | D17: 1.16 | E17: 1.6 | F17: 1.6 | G17: 1.6 | H17: 1.94 | I17: 1.94 | J17: 1.94 | K17: 1 | L17: 1 | M17: 1
A18: 경비 할증 계수 | B18: 1.25 | C18: 1.071
A19: 내역,일위대가 품명,규격,단위 따로적용
A20: 내역단가 소수점처리 | B20: C | C20: 1
A21: 코드 | B21: 공종구분명 | C21: 원가비목코드
A22: 1 | B22: 작 업 부 산 물 | C22: A3
A23: 2 | B23: 운 반 비 | C23: C1
A24: 3 | B24: 관 급 자 재 비 | C24: DJ
A25: 4 | B25: 도급자관급자재비 | C25: DK
A26: 5 | B26: 관급자관급자재비 | C26: DL
A27: 6 | B27: 건설폐기물처리비 | C27: D7
A28: 7 | B28: 지정폐기물처리비
A29: 8 | B29: 품 질 관 리 비
A30: 9 | B30: 작 업 부 산 물(철거) | C30: D8
A31: A | B31: 안 전 관 리 비
A32: B | B32: 시 설 분 담 금 | C32: DM
A33: C
A34: D
A35: E | B35: ....
A36: F | B36: ....
A37: G | B37: ....
A38: H | B38: ....
A39: I | B39: ....
A40: J | B40: ....
...

Sheet Sheet1
