Workbook

Sheet 원가계산서
B1: 공 사 원 가 계 산 서
B2: 공사명 : 한국문화예술위원회 나주청사 리모델링공사
B3: 비 목 | E3: 금 액 | F3: 구 성 비 | G3: 비 고
A4: A1 | B4: 순 공 사 원 가 | C4: 재 료 비 | D4: 직 접 재 료 비 | E4: =TRUNC(공종별집계표!F5, 0) -> 0
A5: A2 | D5: 간 접 재 료 비 | E5: 0
A6: A3 | D6: 작업설, 부산물(△) | E6: 0
A7: AS | D7: [ 소 계 ] | E7: =TRUNC(E4+E5-E6, 0) -> 0
A8: B1 | C8: 노 무 비 | D8: 직 접 노 무 비 | E8: =TRUNC(공종별집계표!H5, 0) -> 0
A9: B2 | D9: 간 접 노 무 비 | E9: =TRUNC(E8*0.15, 0) -> 0 | F9: 직접노무비 * 15% | G9: 10억미만/6개월이하
A10: BS | D10: [ 소 계 ] | E10: =TRUNC(E8+E9, 0) -> 0
A11: C2 | C11: 경 비 | D11: 경 비 | E11: =TRUNC(공종별집계표!J5, 0) -> 0
A12: C4 | D12: 산 재 보 험 료 | E12: =TRUNC(E10*0.0356, 0) -> 0 | F12: 노무비 * 3.56%
A13: C5 | D13: 고 용 보 험 료 | E13: =TRUNC(E10*0.0101, 0) -> 0 | F13: 노무비 * 1.01%
A14: C6 | D14: 국민 건강 보험료 | E14: =TRUNC(E8*0.03545, 0) -> 0 | F14: 직접노무비 * 3.545%
A15: C7 | D15: 국민 연금 보험료 | E15: =TRUNC(E8*0.045, 0) -> 0 | F15: 직접노무비 * 4.5%
A16: C8 | D16: 퇴직 공제 부금비 | E16: =TRUNC(E8*0.023, 0) -> 0 | F16: 직접노무비 * 2.3%
A17: CA | D17: 산업안전보건관리비 | E17: =TRUNC((E7+E8+(0/1.1))*0.0311, 0) -> 0 | F17: (재료비+직노+관급자재비) * 3.11%
A18: CB | D18: 노인장기요양보험료 | E18: =TRUNC(E14*0.1295, 0) -> 0 | F18: 건강보험료 * 12.95%
A19: CG | D19: 기 타 경 비 | E19: =TRUNC((E7+E10)*0.046, 0) -> 0 | F19: (재료비+노무비) * 4.6%
A20: CH | D20: 환 경 보 전 비 | E20: =TRUNC((E7+E8+E11)*0.003, 0) -> 0 | F20: (재료비+직노+경비) * 0.3%
A21: CK | D21: 하도급지급보증수수료 | E21: =TRUNC((E7+E8+E11)*0.00081, 0) -> 0 | F21: (재료비+직노+경비) * 0.081% | G21: 최저가대상공사
A22: CL | D22: 건설기계대여금지급보증서발급수수료 | E22: =TRUNC((E7+E8+E11)*0.0007, 0) -> 0 | F22: (재료비+직노+경비) * 0.07%
A23: CS | D23: [ 소 계 ] | E23: =TRUNC(E11+E12+E13+E14+E15+E16+E17+E18+E19+E20+E21+E22, 0) -> 0
A24: S1 | B24: 계 | E24: =TRUNC(E7+E10+E23, 0) -> 0
A25: D1 | B25: 일 반 관 리 비 | E25: =TRUNC(E24*0.06, 0) -> 0 | F25: 계 * 6%
A26: D2 | B26: 이 윤 | E26: =TRUNC((E10+E23+E25)*0.15, 0) -> 0 | F26: (노무비+경비+일반관리비) * 15%
A27: D7 | B27: 건설폐기물처리비 | E27: =TRUNC(공종별집계표!T25+공종별집계표!T31, 0) -> 0
A28: D8 | B28: 작 업 부 산 물(철거) | E28: =TRUNC(공종별집계표!T24, 0) -> 0
A29: D9 | B29: 공 급 가 액 | E29: =TRUNC(E24+E25+E26+E27+E28, 0) -> 0
A30: DB | B30: 부 가 가 치 세 | E30: =TRUNC(E29*0.1, 0) -> 0 | F30: 공급가액 * 10%
A31: DH | B31: 도 급 액 | E31: =TRUNC(E29+E30, 0) -> 0
A32: S2 | B32: 총 공 사 비 | E32: =TRUNC(E31+0, 0) -> 0

Sheet 공종별집계표
A1: 공 종 별 집 계 표
A2: [ 한국문화예술위원회 나주청사 리모델링공사 ]
A3: 품 명 | B3: 규 격 | C3: 단위 | D3: 수량 | E3: 재 료 비 | G3: 노 무 비 | I3: 경 비 | K3: 합 계 | M3: 비 고 | N3: 공종코드 | O3: 변수 | P3: 상위공종 | Q3: 공종구분 | R3: 공종레벨 | S3: 공종소계 | T3: 원가계산서 연결금액
E4: 단 가 | F4: 금 액 | G4: 단 가 | H4: 금 액 | I4: 단 가 | J4: 금 액 | K4: 단 가 | L4: 금 액
A5: 01 한국문화예술위원회 나주청사 리모델링공사 | D5: 1 | E5: =F6+F26 -> 0 | F5: =E5*D5 -> 0 | G5: =H6+H26 -> 0 | H5: =G5*D5 -> 0 | I5: =J6+J26 -> 0 | J5: =I5*D5 -> 0 | K5: =E5+G5+I5 -> 0 | L5: =F5+H5+J5 -> 0 | N5: 01 | R5: 1
A6: 0101 01.건축공사 | D6: 1 | E6: =F7+F8+F9+F10+F11+F12+F13+F14+F15+F16+F17+F18+F19+F20+F21+F22+F23 -> 0 | F6: =E6*D6 -> 0 | G6: =H7+H8+H9+H10+H11+H12+H13+H14+H15+H16+H17+H18+H19+H20+H21+H22+H23 -> 0 | H6: =G6*D6 -> 0 | I6: =J7+J8+J9+J10+J11+J12+J13+J14+J15+J16+J17+J18+J19+J20+J21+J22+J23 -> 0 | J6: =I6*D6 -> 0 | K6: =E6+G6+I6 -> 0 | L6: =F6+H6+J6 -> 0 | N6: 0101 | P6: 01 | R6: 2
A7: 010101 가 설 공 사 | D7: 1 | E7: =공종별내역서!F29 -> 0 | F7: =E7*D7 -> 0 | G7: =공종별내역서!H29 -> 0 | H7: =G7*D7 -> 0 | I7: =공종별내역서!J29 -> 0 | J7: =I7*D7 -> 0 | K7: =E7+G7+I7 -> 0 | L7: =F7+H7+J7 -> 0 | N7: 010101 | P7: 0101 | R7: 3
A8: 010102 토 및 지정공사 | D8: 1 | E8: =공종별내역서!F55 -> 0 | F8: =E8*D8 -> 0 | G8: =공종별내역서!H55 -> 0 | H8: =G8*D8 -> 0 | I8: =공종별내역서!J55 -> 0 | J8: =I8*D8 -> 0 | K8: =E8+G8+I8 -> 0 | L8: =F8+H8+J8 -> 0 | N8: 010102 | P8: 0101 | R8: 3
A9: 010103 철근콘크리트공사 | D9: 1 | E9: =공종별내역서!F81 -> 0 | F9: =E9*D9 -> 0 | G9: =공종별내역서!H81 -> 0 | H9: =G9*D9 -> 0 | I9: =공종별내역서!J81 -> 0 | J9: =I9*D9 -> 0 | K9: =E9+G9+I9 -> 0 | L9: =F9+H9+J9 -> 0 | N9: 010103 | P9: 0101 | R9: 3
A10: 010104 돌 공 사 | D10: 1 | E10: =공종별내역서!F107 -> 0 | F10: =E10*D10 -> 0 | G10: =공종별내역서!H107 -> 0 | H10: =G10*D10 -> 0 | I10: =공종별내역서!J107 -> 0 | J10: =I10*D10 -> 0 | K10: =E10+G10+I10 -> 0 | L10: =F10+H10+J10 -> 0 | N10: 010104 | P10: 0101 | R10: 3
A11: 010105 타 일 공 사 | D11: 1 | E11: =공종별내역서!F133 -> 0 | F11: =E11*D11 -> 0 | G11: =공종별내역서!H133 -> 0 | H11: =G11*D11 -> 0 | I11: =공종별내역서!J133 -> 0 | J11: =I11*D11 -> 0 | K11: =E11+G11+I11 -> 0 | L11: =F11+H11+J11 -> 0 | N11: 010105 | P11: 0101 | R11: 3
A12: 010106 목공사및수장공사 | D12: 1 | E12: =공종별내역서!F159 -> 0 | F12: =E12*D12 -> 0 | G12: =공종별내역서!H159 -> 0 | H12: =G12*D12 -> 0 | I12: =공종별내역서!J159 -> 0 | J12: =I12*D12 -> 0 | K12: =E12+G12+I12 -> 0 | L12: =F12+H12+J12 -> 0 | N12: 010106 | P12: 0101 | R12: 3
A13: 010107 방 수 공 사 | D13: 1 | E13: =공종별내역서!F185 -> 0 | F13: =E13*D13 -> 0 | G13: =공종별내역서!H185 -> 0 | H13: =G13*D13 -> 0 | I13: =공종별내역서!J185 -> 0 | J13: =I13*D13 -> 0 | K13: =E13+G13+I13 -> 0 | L13: =F13+H13+J13 -> 0 | N13: 010107 | P13: 0101 | R13: 3
A14: 010108 금 속 공 사 | D14: 1 | E14: =공종별내역서!F237 -> 0 | F14: =E14*D14 -> 0 | G14: =공종별내역서!H237 -> 0 | H14: =G14*D14 -> 0 | I14: =공종별내역서!J237 -> 0 | J14: =I14*D14 -> 0 | K14: =E14+G14+I14 -> 0 | L14: =F14+H14+J14 -> 0 | N14: 010108 | P14: 0101 | R14: 3
A15: 010109 미 장 공 사 | D15: 1 | E15: =공종별내역서!F263 -> 0 | F15: =E15*D15 -> 0 | G15: =공종별내역서!H263 -> 0 | H15: =G15*D15 -> 0 | I15: =공종별내역서!J263 -> 0 | J15: =I15*D15 -> 0 | K15: =E15+G15+I15 -> 0 | L15: =F15+H15+J15 -> 0 | N15: 010109 | P15: 0101 | R15: 3
A16: 010110 창호 및 유리공사 | D16: 1 | E16: =공종별내역서!F289 -> 0 | F16: =E16*D16 -> 0 | G16: =공종별내역서!H289 -> 0 | H16: =G16*D16 -> 0 | I16: =공종별내역서!J289 -> 0 | J16: =I16*D16 -> 0 | K16: =E16+G16+I16 -> 0 | L16: =F16+H16+J16 -> 0 | N16: 010110 | P16: 0101 | R16: 3
A17: 010111 칠 공 사 | D17: 1 | E17: =공종별내역서!F315 -> 0 | F17: =E17*D17 -> 0 | G17: =공종별내역서!H315 -> 0 | H17: =G17*D17 -> 0 | I17: =공종별내역서!J315 -> 0 | J17: =I17*D17 -> 0 | K17: =E17+G17+I17 -> 0 | L17: =F17+H17+J17 -> 0 | N17: 010111 | P17: 0101 | R17: 3
A18: 010112 가 구 공 사 | D18: 1 | E18: =공종별내역서!F341 -> 0 | F18: =E18*D18 -> 0 | G18: =공종별내역서!H341 -> 0 | H18: =G18*D18 -> 0 | I18: =공종별내역서!J341 -> 0 | J18: =I18*D18 -> 0 | K18: =E18+G18+I18 -> 0 | L18: =F18+H18+J18 -> 0 | N18: 010112 | P18: 0101 | R18: 3
A19: 010113 기 타 공 사 | D19: 1 | E19: =공종별내역서!F367 -> 0 | F19: =E19*D19 -> 0 | G19: =공종별내역서!H367 -> 0 | H19: =G19*D19 -> 0 | I19: =공종별내역서!J367 -> 0 | J19: =I19*D19 -> 0 | K19: =E19+G19+I19 -> 0 | L19: =F19+H19+J19 -> 0 | N19: 010113 | P19: 0101 | R19: 3
A20: 010114 조 경 공 사 | D20: 1 | E20: =공종별내역서!F393 -> 0 | F20: =E20*D20 -> 0 | G20: =공종별내역서!H393 -> 0 | H20: =G20*D20 -> 0 | I20: =공종별내역서!J393 -> 0 | J20: =I20*D20 -> 0 | K20: =E20+G20+I20 -> 0 | L20: =F20+H20+J20 -> 0 | N20: 010114 | P20: 0101 | R20: 3
A21: 010115 철 거 공 사 | D21: 1 | E21: =공종별내역서!F419 -> 0 | F21: =E21*D21 -> 0 | G21: =공종별내역서!H419 -> 0 | H21: =G21*D21 -> 0 | I21: =공종별내역서!J419 -> 0 | J21: =I21*D21 -> 0 | K21: =E21+G21+I21 -> 0 | L21: =F21+H21+J21 -> 0 | N21: 010115 | P21: 0101 | R21: 3
A22: 010116 골 재 비 | D22: 1 | E22: =공종별내역서!F445 -> 0 | F22: =E22*D22 -> 0 | G22: =공종별내역서!H445 -> 0 | H22: =G22*D22 -> 0 | I22: =공종별내역서!J445 -> 0 | J22: =I22*D22 -> 0 | K22: =E22+G22+I22 -> 0 | L22: =F22+H22+J22 -> 0 | N22: 010116 | P22: 0101 | R22: 3
A23: 010117 작 업 부 산 물(신축) | D23: 1 | E23: =공종별내역서!F471 -> 0 | F23: =E23*D23 -> 0 | G23: =공종별내역서!H471 -> 0 | H23: =G23*D23 -> 0 | I23: =공종별내역서!J471 -> 0 | J23: =I23*D23 -> 0 | K23: =E23+G23+I23 -> 0 | L23: =F23+H23+J23 -> 0 | N23: 010117 | P23: 0101 | R23: 3
A24: 010118 작 업 부 산 물(철거) | D24: 1 | E24: =공종별내역서!F497 -> 0 | F24: =E24*D24 -> 0 | G24: =공종별내역서!H497 -> 0 | H24: =G24*D24 -> 0 | I24: =공종별내역서!J497 -> 0 | J24: =I24*D24 -> 0 | K24: =E24+G24+I24 -> 0 | L24: =F24+H24+J24 -> 0 | N24: 010118 | Q24: 9 | R24: 3 | T24: =L24*1 -> 0
A25: 010119 건설폐기물처리비 | D25: 1 | E25: =공종별내역서!F523 -> 0 | F25: =E25*D25 -> 0 | G25: =공종별내역서!H523 -> 0 | H25: =G25*D25 -> 0 | I25: =공종별내역서!J523 -> 0 | J25: =I25*D25 -> 0 | K25: =E25+G25+I25 -> 0 | L25: =F25+H25+J25 -> 0 | N25: 010119 | Q25: 6 | R25: 3 | T25: =L25*1 -> 0
A26: 0102 02.2차공사 | D26: 1 | E26: =F27+F28+F29+F30 -> 0 | F26: =E26*D26 -> 0 | G26: =H27+H28+H29+H30 -> 0 | H26: =G26*D26 -> 0 | I26: =J27+J28+J29+J30 -> 0 | J26: =I26*D26 -> 0 | K26: =E26+G26+I26 -> 0 | L26: =F26+H26+J26 -> 0 | N26: 0102 | P26: 01 | R26: 2
A27: 010201 가 설 공 사 | D27: 1 | E27: =공종별내역서!F549 -> 0 | F27: =E27*D27 -> 0 | G27: =공종별내역서!H549 -> 0 | H27: =G27*D27 -> 0 | I27: =공종별내역서!J549 -> 0 | J27: =I27*D27 -> 0 | K27: =E27+G27+I27 -> 0 | L27: =F27+H27+J27 -> 0 | N27: 010201 | P27: 0102 | R27: 3
A28: 010202 돌 공 사 | D28: 1 | E28: =공종별내역서!F575 -> 0 | F28: =E28*D28 -> 0 | G28: =공종별내역서!H575 -> 0 | H28: =G28*D28 -> 0 | I28: =공종별내역서!J575 -> 0 | J28: =I28*D28 -> 0 | K28: =E28+G28+I28 -> 0 | L28: =F28+H28+J28 -> 0 | N28: 010202 | P28: 0102 | R28: 3
A29: 010203 철 거 공 사 | D29: 1 | E29: =공종별내역서!F601 -> 0 | F29: =E29*D29 -> 0 | G29: =공종별내역서!H601 -> 0 | H29: =G29*D29 -> 0 | I29: =공종별내역서!J601 -> 0 | J29: =I29*D29 -> 0 | K29: =E29+G29+I29 -> 0 | L29: =F29+H29+J29 -> 0 | N29: 010203 | P29: 0102 | R29: 3
A30: 010204 골 재 비 | D30: 1 | E30: =공종별내역서!F627 -> 0 | F30: =E30*D30 -> 0 | G30: =공종별내역서!H627 -> 0 | H30: =G30*D30 -> 0 | I30: =공종별내역서!J627 -> 0 | J30: =I30*D30 -> 0 | K30: =E30+G30+I30 -> 0 | L30: =F30+H30+J30 -> 0 | N30: 010204 | P30: 0102 | R30: 3
A31: 010205 건설폐기물처리비 | D31: 1 | E31: =공종별내역서!F653 -> 0 | F31: =E31*D31 -> 0 | G31: =공종별내역서!H653 -> 0 | H31: =G31*D31 -> 0 | I31: =공종별내역서!J653 -> 0 | J31: =I31*D31 -> 0 | K31: =E31+G31+I31 -> 0 | L31: =F31+H31+J31 -> 0 | N31: 010205 | Q31: 6 | R31: 3 | T31: =L31*1 -> 0
A52: [ 합 계 ] | F52: =F5 -> 0 | H52: =H5 -> 0 | J52: =J5 -> 0 | L52: =L5 -> 0

Sheet 공종별내역서
A1: [ 한국문화예술위원회 나주청사 리모델링공사 ]
A2: 품 명 | B2: 규 격 | C2: 단위 | D2: 수량 | E2: 재 료 비 | G2: 노 무 비 | I2: 경 비 | K2: 합 계 | M2: 비 고 | N2: 품목코드 | O2: 변수 | P2: 설정 | Q2: 공종코드 | R2: 일위 | S2: 단산 | T2: 자재 | U2: 손료적용 | V2: 손료저장 | W2: 적용율 | X2: JUK1 | Y2: JUK2 | Z2: JUK3 | AA2: JUK4 | AB2: JUK5 | AC2: JUK6 | AD2: JUK7 | AE2: JUK8 | AF2: JUK9 | AG2: JUK10 | AH2: JUK11 | AI2: JUK12 | AJ2: JUK13 | AK2: JUK14 | AL2: JUK15 | AM2: JUK16 | AN2: JUK17 | AO2: JUK18 | AP2: JUK19 | AQ2: JUK20 | AR2: 자재구분 | AS2: 공종구분 | AT2: 공종레벨 | AU2: 공종+자재 | AV2: 고유번호
E3: 단 가 | F3: 금 액 | G3: 단 가 | H3: 금 액 | I3: 단 가 | J3: 금 액 | K3: 단 가 | L3: 금 액
A4: 010101 가 설 공 사 | Q4: 010101
A5: RPP가설방음판 설치 및 해체 | B5: H:4100, 3개월 | C5: M | D5: 13 | E5: =TRUNC(일위대가목록!E20,0) -> 0 | F5: =TRUNC(E5*D5, 0) -> 0 | G5: =TRUNC(일위대가목록!F20,0) -> 0 | H5: =TRUNC(G5*D5, 0) -> 0 | I5: =TRUNC(일위대가목록!G20,0) -> 0 | J5: =TRUNC(I5*D5, 0) -> 0 | K5: =TRUNC(E5+G5+I5, 0) -> 0 | L5: =TRUNC(F5+H5+J5, 0) -> 0 | M5: 호표 17 | N5: 5E50444532D13305E022634A9AB92D | Q5: 010101 | R5: T | S5: F | T5: F | AU5: 0101015E50444532D13305E022634A9AB92D | AV5: 256
A6: RPP가설방음판 설치 및 해체 | B6: H:5000, 3개월 | C6: M | D6: 72 | E6: =TRUNC(일위대가목록!E21,0) -> 0 | F6: =TRUNC(E6*D6, 0) -> 0 | G6: =TRUNC(일위대가목록!F21,0) -> 0 | H6: =TRUNC(G6*D6, 0) -> 0 | I6: =TRUNC(일위대가목록!G21,0) -> 0 | J6: =TRUNC(I6*D6, 0) -> 0 | K6: =TRUNC(E6+G6+I6, 0) -> 0 | L6: =TRUNC(F6+H6+J6, 0) -> 0 | M6: 호표 18 | N6: 5E50444532D13305E022634A9AB92C | Q6: 010101 | R6: T | S6: F | T6: F | AU6: 0101015E50444532D13305E022634A9AB92C | AV6: 257
A7: 강관 조립말비계(이동식)설치 및 해체 | B7: 높이 2m, 3개월 | C7: 대 | D7: 2 | E7: =TRUNC(일위대가목록!E24,0) -> 0 | F7: =TRUNC(E7*D7, 0) -> 0 | G7: =TRUNC(일위대가목록!F24,0) -> 0 | H7: =TRUNC(G7*D7, 0) -> 0 | I7: =TRUNC(일위대가목록!G24,0) -> 0 | J7: =TRUNC(I7*D7, 0) -> 0 | K7: =TRUNC(E7+G7+I7, 0) -> 0 | L7: =TRUNC(F7+H7+J7, 0) -> 0 | M7: 호표 21 | N7: 5E50444532F13E25F8CFC829CEC12E | Q7: 010101 | R7: T | S7: F | T7: F | AU7: 0101015E50444532F13E25F8CFC829CEC12E | AV7: 258
A8: 강관 조립말비계(이동식)설치 및 해체 | B8: 높이 4m, 3개월 | C8: 대 | D8: 1 | E8: =TRUNC(일위대가목록!E25,0) -> 0 | F8: =TRUNC(E8*D8, 0) -> 0 | G8: =TRUNC(일위대가목록!F25,0) -> 0 | H8: =TRUNC(G8*D8, 0) -> 0 | I8: =TRUNC(일위대가목록!G25,0) -> 0 | J8: =TRUNC(I8*D8, 0) -> 0 | K8: =TRUNC(E8+G8+I8, 0) -> 0 | L8: =TRUNC(F8+H8+J8, 0) -> 0 | M8: 호표 22 | N8: 5E50444532F13E25F8CFC82AD53346 | Q8: 010101 | R8: T | S8: F | T8: F | AU8: 0101015E50444532F13E25F8CFC82AD53346 | AV8: 763
A9: 건축물 현장정리 | B9: 개보수공사 | C9: M2 | D9: 357 | E9: =TRUNC(일위대가목록!E27,0) -> 0 | F9: =TRUNC(E9*D9, 0) -> 0 | G9: =TRUNC(일위대가목록!F27,0) -> 0 | H9: =TRUNC(G9*D9, 0) -> 0 | I9: =TRUNC(일위대가목록!G27,0) -> 0 | J9: =TRUNC(I9*D9, 0) -> 0 | K9: =TRUNC(E9+G9+I9, 0) -> 0 | L9: =TRUNC(F9+H9+J9, 0) -> 0 | M9: 호표 24 | N9: 5E504440B2A13D258BF3A984016853 | Q9: 010101 | R9: T | S9: F | T9: F | AU9: 0101015E504440B2A13D258BF3A984016853 | AV9: 259
A10: 구조부 먹매김 | B10: 일반 | C10: M2 | D10: 357 | E10: =TRUNC(일위대가목록!E28,0) -> 0 | F10: =TRUNC(E10*D10, 0) -> 0 | G10: =TRUNC(일위대가목록!F28,0) -> 0 | H10: =TRUNC(G10*D10, 0) -> 0 | I10: =TRUNC(일위대가목록!G28,0) -> 0 | J10: =TRUNC(I10*D10, 0) -> 0 | K10: =TRUNC(E10+G10+I10, 0) -> 0 | L10: =TRUNC(F10+H10+J10, 0) -> 0 | M10: 호표 25 | N10: 5E504440B2913CE56F49773C51FAE7 | Q10: 010101 | R10: T | S10: F | T10: F | AU10: 0101015E504440B2913CE56F49773C51FAE7 | AV10: 260
Q11: 010101
Q12: 010101
Q13: 010101
Q14: 010101
Q15: 010101
Q16: 010101
Q17: 010101
Q18: 010101
Q19: 010101
Q20: 010101
Q21: 010101
Q22: 010101
... Q28: 010101
A29: [ 합 계 ] | F29: =SUMIF(Q5:Q28,"010101",F5:F28) -> 0 | H29: =SUMIF(Q5:Q28,"010101",H5:H28) -> 0 | J29: =SUMIF(Q5:Q28,"010101",J5:J28) -> 0 | L29: =SUMIF(Q5:Q28,"010101",L5:L28) -> 0 | N29: TOTAL
A30: 010102 토 및 지정공사 | Q30: 010102
A31: 터파기/토사 | B31: 보통, 굴착기 0.7m3 | C31: M3 | D31: 30 | E31: =TRUNC(단가산출목록!E4,0) -> 0 | F31: =TRUNC(E31*D31, 0) -> 0 | G31: =TRUNC(단가산출목록!F4,0) -> 0 | H31: =TRUNC(G31*D31, 0) -> 0 | I31: =TRUNC(단가산출목록!G4,0) -> 0 | J31: =TRUNC(I31*D31, 0) -> 0 | K31: =TRUNC(E31+G31+I31, 0) -> 0 | L31: =TRUNC(F31+H31+J31, 0) -> 0 | M31: 산근 1 | N31: 5E756437F25131250767FD84CBE32F | Q31: 010102 | R31: F | S31: T | T31: F | AU31: 0101025E756437F25131250767FD84CBE32F | AV31: 262
A32: 토사 운반/단지외 10km | B32: 보통, 덤프 15ton+굴착기 0.7m3(고르기 별도) | C32: M3 | D32: 26 | E32: =TRUNC(단가산출목록!E5,0) -> 0 | F32: =TRUNC(E32*D32, 0) -> 0 | G32: =TRUNC(단가산출목록!F5,0) -> 0 | H32: =TRUNC(G32*D32, 0) -> 0 | I32: =TRUNC(단가산출목록!G5,0) -> 0 | J32: =TRUNC(I32*D32, 0) -> 0 | K32: =TRUNC(E32+G32+I32, 0) -> 0 | L32: =TRUNC(F32+H32+J32, 0) -> 0 | M32: 산근 2 | N32: 5E75643432C132B5149A3F5D45135E | Q32: 010102 | R32: F | S32: T | T32: F | AU32: 0101025E75643432C132B5149A3F5D45135E | AV32: 263
A33: 되메우기 및 다짐 | B33: 대형장비 | C33: M3 | D33: 4 | E33: =TRUNC(일위대가목록!E186,0) -> 0 | F33: =TRUNC(E33*D33, 0) -> 0 | G33: =TRUNC(일위대가목록!F186,0) -> 0 | H33: =TRUNC(G33*D33, 0) -> 0 | I33: =TRUNC(일위대가목록!G186,0) -> 0 | J33: =TRUNC(I33*D33, 0) -> 0 | K33: =TRUNC(E33+G33+I33, 0) -> 0 | L33: =TRUNC(F33+H33+J33, 0) -> 0 | M33: 호표 183 | N33: 5E75643A42913505484C19D398A635 | Q33: 010102 | R33: T | S33: F | T33: F | AU33: 0101025E75643A42913505484C19D398A635 | AV33: 264
A34: 기초 지정 | B34: 잡석지정 | C34: M3 | D34: 13 | E34: =TRUNC(일위대가목록!E188,0) -> 0 | F34: =TRUNC(E34*D34, 0) -> 0 | G34: =TRUNC(일위대가목록!F188,0) -> 0 | H34: =TRUNC(G34*D34, 0) -> 0 | I34: =TRUNC(일위대가목록!G188,0) -> 0 | J34: =TRUNC(I34*D34, 0) -> 0 | K34: =TRUNC(E34+G34+I34, 0) -> 0 | L34: =TRUNC(F34+H34+J34, 0) -> 0 | M34: 호표 185 | N34: 5E75643B62913CC5A10717FE35453E | Q34: 010102 | R34: T | S34: F | T34: F | AU34: 0101025E75643B62913CC5A10717FE35453E | AV34: 265
Q35: 010102
Q36: 010102
Q37: 010102
Q38: 010102
Q39: 010102
Q40: 010102
Q41: 010102
Q42: 010102
Q43: 010102
Q44: 010102
Q45: 010102
Q46: 010102
... Q54: 010102
A55: [ 합 계 ] | F55: =SUMIF(Q31:Q54,"010102",F31:F54) -> 0 | H55: =SUMIF(Q31:Q54,"010102",H31:H54) -> 0 | J55: =SUMIF(Q31:Q54,"010102",J31:J54) -> 0 | L55: =SUMIF(Q31:Q54,"010102",L31:L54) -> 0 | N55: TOTAL
A56: 010103 철근콘크리트공사 | Q56: 010103
A57: 레미콘 | B57: 25-18-08 | C57: M3 | D57: 4 | E57: =TRUNC(단가대비표!O57,0) -> 0 | F57: =TRUNC(E57*D57, 0) -> 0 | G57: =TRUNC(단가대비표!P57,0) -> 0 | H57: =TRUNC(G57*D57, 0) -> 0 | I57: =TRUNC(단가대비표!V57,0) -> 0 | J57: =TRUNC(I57*D57, 0) -> 0 | K57: =TRUNC(E57+G57+I57, 0) -> 0 | L57: =TRUNC(F57+H57+J57, 0) -> 0 | M57: 자재 53 | N57: 597C64ACC2F132357509550BFC79CE82EE930C | Q57: 010103 | R57: F | S57: F | T57: T | AU57: 010103597C64ACC2F132357509550BFC79CE82EE930C | AV57: 684
A58: 레미콘 | B58: 25-27-15 | C58: M3 | D58: 21 | E58: =TRUNC(단가대비표!O58,0) -> 0 | F58: =TRUNC(E58*D58, 0) -> 0 | G58: =TRUNC(단가대비표!P58,0) -> 0 | H58: =TRUNC(G58*D58, 0) -> 0 | I58: =TRUNC(단가대비표!V58,0) -> 0 | J58: =TRUNC(I58*D58, 0) -> 0 | K58: =TRUNC(E58+G58+I58, 0) -> 0 | L58: =TRUNC(F58+H58+J58, 0) -> 0 | M58: 자재 54 | N58: 597C64ACC2F132357509550BFC79CE82EE915E | Q58: 010103 | R58: F | S58: F | T58: T | AU58: 010103597C64ACC2F132357509550BFC79CE82EE915E | AV58: 754
A59: 철근콘크리트용봉강 | B59: 이형봉강(SD400), HD-10, 지정장소도 | C59: TON | D59: 0.027 | E59: =TRUNC(단가대비표!O44,0) -> 0 | F59: =TRUNC(E59*D59, 0) -> 0 | G59: =TRUNC(단가대비표!P44,0) -> 0 | H59: =TRUNC(G59*D59, 0) -> 0 | I59: =TRUNC(단가대비표!V44,0) -> 0 | J59: =TRUNC(I59*D59, 0) -> 0 | K59: =TRUNC(E59+G59+I59, 0) -> 0 | L59: =TRUNC(F59+H59+J59, 0) -> 0 | M59: 자재 40 | N59: 597C64ACC2E131A55765AE396A829230FCFC85 | Q59: 010103 | R59: F | S59: F | T59: T | AU59: 010103597C64ACC2E131A55765AE396A829230FCFC85 | AV59: 759
A60: 철근콘크리트용봉강 | B60: 이형봉강(SD400), HD-13, 지정장소도 | C60: TON | D60: 1.761 | E60: =TRUNC(단가대비표!O45,0) -> 0 | F60: =TRUNC(E60*D60, 0) -> 0 | G60: =TRUNC(단가대비표!P45,0) -> 0 | H60: =TRUNC(G60*D60, 0) -> 0 | I60: =TRUNC(단가대비표!V45,0) -> 0 | J60: =TRUNC(I60*D60, 0) -> 0 | K60: =TRUNC(E60+G60+I60, 0) -> 0 | L60: =TRUNC(F60+H60+J60, 0) -> 0 | M60: 자재 41 | N60: 597C64ACC2E131A55765AE396A829230FFB04C | Q60: 010103 | R60: F | S60: F | T60: T | AU60: 010103597C64ACC2E131A55765AE396A829230FFB04C | AV60: 760
A61: 콘크리트 펌프차 타설(버림) | B61: slump 8~12cm, 매트기초 등, f2 : Type-Ⅰ, 36m | C61: M3 | D61: 4 | E61: =TRUNC(일위대가목록!E36,0) -> 0 | F61: =TRUNC(E61*D61, 0) -> 0 | G61: =TRUNC(일위대가목록!F36,0) -> 0 | H61: =TRUNC(G61*D61, 0) -> 0 | I61: =TRUNC(일위대가목록!G36,0) -> 0 | J61: =TRUNC(I61*D61, 0) -> 0 | K61: =TRUNC(E61+G61+I61, 0) -> 0 | L61: =TRUNC(F61+H61+J61, 0) -> 0 | M61: 호표 33 | N61: 5E501409821139E56400AEBDE84334 | Q61: 010103 | R61: T | S61: F | T61: F | AU61: 0101035E501409821139E56400AEBDE84334 | AV61: 685
A62: 콘크리트 펌프차 타설 | B62: slump 15cm, 매트기초 등, f2 : Type-Ⅰ, 36m | C62: M3 | D62: 15 | E62: =TRUNC(일위대가목록!E37,0) -> 0 | F62: =TRUNC(E62*D62, 0) -> 0 | G62: =TRUNC(일위대가목록!F37,0) -> 0 | H62: =TRUNC(G62*D62, 0) -> 0 | I62: =TRUNC(일위대가목록!G37,0) -> 0 | J62: =TRUNC(I62*D62, 0) -> 0 | K62: =TRUNC(E62+G62+I62, 0) -> 0 | L62: =TRUNC(F62+H62+J62, 0) -> 0 | M62: 호표 34 | N62: 5E50140982213A15FE7D2FFC557ACE | Q62: 010103 | R62: T | S62: F | T62: F | AU62: 0101035E50140982213A15FE7D2FFC557ACE | AV62: 755
A63: 콘크리트 펌프차 타설 | B63: slump 15cm, 벽,기둥,슬래브 등, f2 : Type-Ⅰ, 36m | C63: M3 | D63: 6 | E63: =TRUNC(일위대가목록!E38,0) -> 0 | F63: =TRUNC(E63*D63, 0) -> 0 | G63: =TRUNC(일위대가목록!F38,0) -> 0 | H63: =TRUNC(G63*D63, 0) -> 0 | I63: =TRUNC(일위대가목록!G38,0) -> 0 | J63: =TRUNC(I63*D63, 0) -> 0 | K63: =TRUNC(E63+G63+I63, 0) -> 0 | L63: =TRUNC(F63+H63+J63, 0) -> 0 | M63: 호표 35 | N63: 5E50140982213A25815256CADF3B17 | Q63: 010103 | R63: T | S63: F | T63: F | AU63: 0101035E50140982213A25815256CADF3B17 | AV63: 756
A64: 철근 현장가공 및 현장조립 | B64: Type-Ⅰ | C64: TON | D64: 1.736 | E64: =TRUNC(일위대가목록!E34,0) -> 0 | F64: =TRUNC(E64*D64, 0) -> 0 | G64: =TRUNC(일위대가목록!F34,0) -> 0 | H64: =TRUNC(G64*D64, 0) -> 0 | I64: =TRUNC(일위대가목록!G34,0) -> 0 | J64: =TRUNC(I64*D64, 0) -> 0 | K64: =TRUNC(E64+G64+I64, 0) -> 0 | L64: =TRUNC(F64+H64+J64, 0) -> 0 | M64: 호표 31 | N64: 5E50140D72B137F5D66F9F0A173BB8 | Q64: 010103 | R64: T | S64: F | T64: F | AU64: 0101035E50140D72B137F5D66F9F0A173BB8 | AV64: 757
A65: 유로폼 설치 및 해체 | B65: 간단, 수직고 7m까지 | C65: M2 | D65: 14 | E65: =TRUNC(일위대가목록!E31,0) -> 0 | F65: =TRUNC(E65*D65, 0) -> 0 | G65: =TRUNC(일위대가목록!F31,0) -> 0 | H65: =TRUNC(G65*D65, 0) -> 0 | I65: =TRUNC(일위대가목록!G31,0) -> 0 | J65: =TRUNC(I65*D65, 0) -> 0 | K65: =TRUNC(E65+G65+I65, 0) -> 0 | L65: =TRUNC(F65+H65+J65, 0) -> 0 | M65: 호표 28 | N65: 5E50140E02613AC5A462A1FFBF719E | Q65: 010103 | R65: T | S65: F | T65: F | AU65: 0101035E50140E02613AC5A462A1FFBF719E | AV65: 765
Q66: 010103
Q67: 010103
Q68: 010103
Q69: 010103
Q70: 010103
Q71: 010103
Q72: 010103
Q73: 010103
Q74: 010103
Q75: 010103
Q76: 010103
Q77: 010103
... Q80: 010103
A81: [ 합 계 ] | F81: =SUMIF(Q57:Q80,"010103",F57:F80) -> 0 | H81: =SUMIF(Q57:Q80,"010103",H57:H80) -> 0 | J81: =SUMIF(Q57:Q80,"010103",J57:J80) -> 0 | L81: =SUMIF(Q57:Q80,"010103",L57:L80) -> 0 | N81: TOTAL
A82: 010104 돌 공 사 | Q82: 010104
A83: 화강석붙임(습식, 물갈기) | B83: 바닥, 포천석 30mm, 모르타르 10mm | C83: M2 | D83: 10 | E83: =TRUNC(일위대가목록!E113,0) -> 0 | F83: =TRUNC(E83*D83, 0) -> 0 | G83: =TRUNC(일위대가목록!F113,0) -> 0 | H83: =TRUNC(G83*D83, 0) -> 0 | I83: =TRUNC(일위대가목록!G113,0) -> 0 | J83: =TRUNC(I83*D83, 0) -> 0 | K83: =TRUNC(E83+G83+I83, 0) -> 0 | L83: =TRUNC(F83+H83+J83, 0) -> 0 | M83: 호표 110 | N83: 5E5084DD22B1368509383A657D23A1 | Q83: 010104 | R83: T | S83: F | T83: F | AU83: 0101045E5084DD22B1368509383A657D23A1 | AV83: 269
Q84: 010104
Q85: 010104
Q86: 010104
Q87: 010104
Q88: 010104
Q89: 010104
Q90: 010104
Q91: 010104
Q92: 010104
Q93: 010104
Q94: 010104
Q95: 010104
... Q106: 010104
A107: [ 합 계 ] | F107: =SUMIF(Q83:Q106,"010104",F83:F106) -> 0 | H107: =SUMIF(Q83:Q106,"010104",H83:H106) -> 0 | J107: =SUMIF(Q83:Q106,"010104",J83:J106) -> 0 | L107: =SUMIF(Q83:Q106,"010104",L83:L106) -> 0 | N107: TOTAL
A108: 010105 타 일 공 사 | Q108: 010105
A109: 자기질타일 | B109: 벽, 600*1200*12mm | C109: M2 | D109: 96 | E109: =TRUNC(단가대비표!O66,0) -> 0 | F109: =TRUNC(E109*D109, 0) -> 0 | G109: =TRUNC(단가대비표!P66,0) -> 0 | H109: =TRUNC(G109*D109, 0) -> 0 | I109: =TRUNC(단가대비표!V66,0) -> 0 | J109: =TRUNC(I109*D109, 0) -> 0 | K109: =TRUNC(E109+G109+I109, 0) -> 0 | L109: =TRUNC(F109+H109+J109, 0) -> 0 | M109: 자재 62 | N109: 597C64ACC2D1374589F25095330C997FF7136D | Q109: 010105 | R109: F | S109: F | T109: T | AU109: 010105597C64ACC2D1374589F25095330C997FF7136D | AV109: 271
A110: 타일 접착제 붙임 | B110: 벽, 600*1200(타일C, 백색줄눈) | C110: M2 | D110: 93 | E110: =TRUNC(일위대가목록!E107,0) -> 0 | F110: =TRUNC(E110*D110, 0) -> 0 | G110: =TRUNC(일위대가목록!F107,0) -> 0 | H110: =TRUNC(G110*D110, 0) -> 0 | I110: =TRUNC(일위대가목록!G107,0) -> 0 | J110: =TRUNC(I110*D110, 0) -> 0 | K110: =TRUNC(E110+G110+I110, 0) -> 0 | L110: =TRUNC(F110+H110+J110, 0) -> 0 | M110: 호표 104 | N110: 5E5084DEC2E133A5AF1D50F4DB9273 | Q110: 010105 | R110: T | S110: F | T110: F | AU110: 0101055E5084DEC2E133A5AF1D50F4DB9273 | AV110: 272
Q111: 010105
Q112: 010105
Q113: 010105
Q114: 010105
Q115: 010105
Q116: 010105
Q117: 010105
Q118: 010105
Q119: 010105
Q120: 010105
Q121: 010105
Q122: 010105
... Q132: 010105
A133: [ 합 계 ] | F133: =SUMIF(Q109:Q132,"010105",F109:F132) -> 0 | H133: =SUMIF(Q109:Q132,"010105",H109:H132) -> 0 | J133: =SUMIF(Q109:Q132,"010105",J109:J132) -> 0 | L133: =SUMIF(Q109:Q132,"010105",L109:L132) -> 0 | N133: TOTAL
...

Sheet 일위대가목록
B1: 일 위 대 가 목 록
B2: [ 한국문화예술위원회 나주청사 리모델링공사 ]
A3: 코 드 | B3: 품 명 | C3: 규 격 | D3: 단위 | E3: 재 료 비 | F3: 노 무 비 | G3: 경 비 | H3: 합 계 | I3: 번 호 | J3: 비 고 | K3: 노임계수 | L3: 할증 | M3: 품셈개요 | N3: 장비일위
A4: 594724AFE23139D51FD15B589FC389F030299A3A | B4: 굴착기(무한궤도) | C4: 0.2㎥ | D4: HR | E4: =일위대가!F9 -> 0 | F4: =일위대가!H9 -> 0 | G4: =일위대가!J9 -> 0 | H4: =E4+F4+G4 -> 0 | I4: 호표 1 | K4: A | M4: 공통 8-3,4(0201) | N4: T
A5: 594724AFE23139D51FD15B589FC5B6E57F0BEBE7 | B5: 굴착기(무한궤도) | C5: 0.4㎥ | D5: HR | E5: =일위대가!F16 -> 0 | F5: =일위대가!H16 -> 0 | G5: =일위대가!J16 -> 0 | H5: =E5+F5+G5 -> 0 | I5: 호표 2 | K5: A | M5: 공통 8-3,4(0201) | N5: T
A6: 594724AFE23139D51FD15B589FC7644108BCDC6F | B6: 굴착기(무한궤도) | C6: 0.6㎥ | D6: HR | E6: =일위대가!F23 -> 0 | F6: =일위대가!H23 -> 0 | G6: =일위대가!J23 -> 0 | H6: =E6+F6+G6 -> 0 | I6: 호표 3 | K6: A | M6: 공통 8-3,4(0201) | N6: T
A7: 594724AFE23139D51FD15B589FC65D6F693AC01B | B7: 굴착기(무한궤도) | C7: 0.7㎥ | D7: HR | E7: =일위대가!F30 -> 0 | F7: =일위대가!H30 -> 0 | G7: =일위대가!J30 -> 0 | H7: =E7+F7+G7 -> 0 | I7: 호표 4 | K7: A | M7: 공통 8-3,4(0201) | N7: T
A8: 594724AFE23139D51B7668DB3CD38D4D869554B1 | B8: 덤프트럭 | C8: 15ton | D8: HR | E8: =일위대가!F37 -> 0 | F8: =일위대가!H37 -> 0 | G8: =일위대가!J37 -> 0 | H8: =E8+F8+G8 -> 0 | I8: 호표 5 | K8: A | M8: 공통 8-3,4(0602) | N8: T
A9: 594724AFE23139D51B7770D3DE8BE588D79B4F03 | B9: 덤프트럭 자동덮개시설 | C9: 15ton | D9: HR | E9: =일위대가!F41 -> 0 | F9: =일위대가!H41 -> 0 | G9: =일위대가!J41 -> 0 | H9: =E9+F9+G9 -> 0 | I9: 호표 6 | K9: A | M9: 공통 8-3(0610) | N9: T
A10: 594724AFE23139C57593EF6BB7BFDE0FC5B0D5C9 | B10: 진동롤러(핸드가이드식) | C10: 0.7ton | D10: HR | E10: =일위대가!F48 -> 0 | F10: =일위대가!H48 -> 0 | G10: =일위대가!J48 -> 0 | H10: =E10+F10+G10 -> 0 | I10: 호표 7 | K10: A | M10: 공통 8-3,4(1305) | N10: T
A11: 594724AFE23139C57593EC97D89FBFF19F88EE99 | B11: 진동롤러(자주식) | C11: 10ton | D11: HR | E11: =일위대가!F55 -> 0 | F11: =일위대가!H55 -> 0 | G11: =일위대가!J55 -> 0 | H11: =E11+F11+G11 -> 0 | I11: 호표 8 | K11: A | M11: 공통 8-3,4(1306) | N11: T
A12: 594724AFE23139C5713B4F0654817F4CD57DD27E | B12: 플레이트 콤팩터 | C12: 1.5ton | D12: HR | E12: =일위대가!F62 -> 0 | F12: =일위대가!H62 -> 0 | G12: =일위대가!J62 -> 0 | H12: =E12+F12+G12 -> 0 | I12: 호표 9 | K12: A | M12: 공통 8-3,4(1730) | N12: T
A13: 594724AFE2313995A6B59E9F48C667F96D4262F5 | B13: 커터(콘크리트 및 아스팔트용) | C13: 320∼400mm | D13: HR | E13: =일위대가!F69 -> 0 | F13: =일위대가!H69 -> 0 | G13: =일위대가!J69 -> 0 | H13: =E13+F13+G13 -> 0 | I13: 호표 10 | K13: A | M13: 공통 8-3,4(4430) | N13: T
A14: 594724AFE2313995A75D2B1F3C15481CCF22F80D | B14: 콘크리트 펌프차 | C14: 36m(80∼95㎥/hr) | D14: HR | E14: =일위대가!F76 -> 0 | F14: =일위대가!H76 -> 0 | G14: =일위대가!J76 -> 0 | H14: =E14+F14+G14 -> 0 | I14: 호표 11 | K14: A | M14: 공통 8-3,4(4504) | N14: T
A15: 594724AFE2313985993EB6DBC03BD51AA24EA752 | B15: 소형브레이커(전기식) | C15: 1.5kw | D15: HR | E15: =일위대가!F80 -> 0 | F15: =일위대가!H80 -> 0 | G15: =일위대가!J80 -> 0 | H15: =E15+F15+G15 -> 0 | I15: 호표 12 | M15: 공통 8-3(5220) | N15: T
A16: 594724AFE23139A54A6CCB36D7B9A3D9951F1477 | B16: 물탱크(살수차) | C16: 5500L | D16: HR | E16: =일위대가!F87 -> 0 | F16: =일위대가!H87 -> 0 | G16: =일위대가!J87 -> 0 | H16: =E16+F16+G16 -> 0 | I16: 호표 13 | K16: A | M16: 공통 8-3,4(7204) | N16: T
A17: 594724AFE23139A5406B4F64419F68BBC5C35010 | B17: 우레탄폼 분사용기구 | C17: 8.1kg/min | D17: HR | E17: =일위대가!F91 -> 0 | F17: =일위대가!H91 -> 0 | G17: =일위대가!J91 -> 0 | H17: =E17+F17+G17 -> 0 | I17: 호표 14 | K17: A | M17: 공통 8-3(7830) | N17: T
A18: 5E50444532D13305E0230A37D883DC | B18: 세로형 가설방음판 설치 | C18: 설치높이 6m 이하 | D18: M | E18: =일위대가!F98 -> 0 | F18: =일위대가!H98 -> 0 | G18: =일위대가!J98 -> 0 | H18: =E18+F18+G18 -> 0 | I18: 호표 15 | M18: 공통 2-4-4
A19: 5E50444532D13305E0230A37D88235 | B19: 세로형 가설방음판 해체 | C19: 설치높이 6m 이하 | D19: M | E19: =일위대가!F105 -> 0 | F19: =일위대가!H105 -> 0 | G19: =일위대가!J105 -> 0 | H19: =E19+F19+G19 -> 0 | I19: 호표 16 | M19: 공통 2-4-4
A20: 5E50444532D13305E022634A9AB92D | B20: RPP가설방음판 설치 및 해체 | C20: H:4100, 3개월 | D20: M | E20: =일위대가!F118 -> 0 | F20: =일위대가!H118 -> 0 | G20: =일위대가!J118 -> 0 | H20: =E20+F20+G20 -> 0 | I20: 호표 17
A21: 5E50444532D13305E022634A9AB92C | B21: RPP가설방음판 설치 및 해체 | C21: H:5000, 3개월 | D21: M | E21: =일위대가!F131 -> 0 | F21: =일위대가!H131 -> 0 | G21: =일위대가!J131 -> 0 | H21: =E21+F21+G21 -> 0 | I21: 호표 18
A22: 5E50444532F13E25F8CFC828279646 | B22: 강관 조립말비계(이동식)설치 및 해체 | C22: 높이 2m, 노무비 | D22: 대 | E22: =일위대가!F136 -> 0 | F22: =일위대가!H136 -> 0 | G22: =일위대가!J136 -> 0 | H22: =E22+F22+G22 -> 0 | I22: 호표 19 | M22: 공통 2-7-4
A23: 5E50444532F13E25F8CFC8282795BF | B23: 강관 조립말비계(이동식)설치 및 해체 | C23: 높이 4m, 노무비 | D23: 대 | E23: =일위대가!F141 -> 0 | F23: =일위대가!H141 -> 0 | G23: =일위대가!J141 -> 0 | H23: =E23+F23+G23 -> 0 | I23: 호표 20 | M23: 공통 2-7-4
A24: 5E50444532F13E25F8CFC829CEC12E | B24: 강관 조립말비계(이동식)설치 및 해체 | C24: 높이 2m, 3개월 | D24: 대 | E24: =일위대가!F154 -> 0 | F24: =일위대가!H154 -> 0 | G24: =일위대가!J154 -> 0 | H24: =E24+F24+G24 -> 0 | I24: 호표 21 | M24: 공통 2-7-4, 2-2-5
A25: 5E50444532F13E25F8CFC82AD53346 | B25: 강관 조립말비계(이동식)설치 및 해체 | C25: 높이 4m, 3개월 | D25: 대 | E25: =일위대가!F168 -> 0 | F25: =일위대가!H168 -> 0 | G25: =일위대가!J168 -> 0 | H25: =E25+F25+G25 -> 0 | I25: 호표 22 | M25: 공통 2-7-4, 2-2-5
A26: 5E504446C2113FA50D62B3A6B076B1 | B26: CONC인력비빔타설 / 가설 | C26: 무근울타리기초 | D26: M3 | E26: =일위대가!F175 -> 0 | F26: =일위대가!H175 -> 0 | G26: =일위대가!J175 -> 0 | H26: =E26+F26+G26 -> 0 | I26: 호표 23
A27: 5E504440B2A13D258BF3A984016853 | B27: 건축물 현장정리 | C27: 개보수공사 | D27: M2 | E27: =일위대가!F179 -> 0 | F27: =일위대가!H179 -> 0 | G27: =일위대가!J179 -> 0 | H27: =E27+F27+G27 -> 0 | I27: 호표 24 | M27: 공통 2-11-2 준용
A28: 5E504440B2913CE56F49773C51FAE7 | B28: 구조부 먹매김 | C28: 일반 | D28: M2 | E28: =일위대가!F183 -> 0 | F28: =일위대가!H183 -> 0 | G28: =일위대가!J183 -> 0 | H28: =E28+F28+G28 -> 0 | I28: 호표 25 | M28: 건축 4-1-1
A29: 5E50140E02613AC5A4634970E24704 | B29: 유로폼 - 주자재비 | D29: 10M2 | E29: =일위대가!F188 -> 0 | F29: =일위대가!H188 -> 0 | G29: =일위대가!J188 -> 0 | H29: =E29+F29+G29 -> 0 | I29: 호표 26 | M29: 공통 6-3-3.2
A30: 5E50140E02613AC5A4634A176CB27A | B30: 유로폼 - 인력투입 | C30: 간단, 수직고 7m까지 | D30: M2 | E30: =일위대가!F194 -> 0 | F30: =일위대가!H194 -> 0 | G30: =일위대가!J194 -> 0 | H30: =E30+F30+G30 -> 0 | I30: 호표 27 | M30: 공통 6-3-3.3
A31: 5E50140E02613AC5A462A1FFBF719E | B31: 유로폼 설치 및 해체 | C31: 간단, 수직고 7m까지 | D31: M2 | E31: =일위대가!F201 -> 0 | F31: =일위대가!H201 -> 0 | G31: =일위대가!J201 -> 0 | H31: =E31+F31+G31 -> 0 | I31: 호표 28 | M31: 공통 6-3-3
A32: 5E50140D72B137F5D66F9F0A1615B5 | B32: 철근 현장가공 | C32: Type-Ⅰ | D32: TON | E32: =일위대가!F207 -> 0 | F32: =일위대가!H207 -> 0 | G32: =일위대가!J207 -> 0 | H32: =E32+F32+G32 -> 0 | I32: 호표 29 | M32: 공통 6-2-2
A33: 5E50140D72B137F5D66F9F0A16165C | B33: 철근 현장조립 | C33: Type-Ⅰ | D33: TON | E33: =일위대가!F214 -> 0 | F33: =일위대가!H214 -> 0 | G33: =일위대가!J214 -> 0 | H33: =E33+F33+G33 -> 0 | I33: 호표 30 | M33: 공통 6-2-3
A34: 5E50140D72B137F5D66F9F0A173BB8 | B34: 철근 현장가공 및 현장조립 | C34: Type-Ⅰ | D34: TON | E34: =일위대가!F219 -> 0 | F34: =일위대가!H219 -> 0 | G34: =일위대가!J219 -> 0 | H34: =E34+F34+G34 -> 0 | I34: 호표 31 | M34: 공통 6-2-2, 3
A35: 5E50140982013F75FBD30DEC39583F | B35: 콘크리트 인력비빔 타설 | C35: 소형구조물 | D35: M3 | E35: =일위대가!F224 -> 0 | F35: =일위대가!H224 -> 0 | G35: =일위대가!J224 -> 0 | H35: =E35+F35+G35 -> 0 | I35: 호표 32 | M35: 공통 6-1-2
A36: 5E501409821139E56400AEBDE84334 | B36: 콘크리트 펌프차 타설(버림) | C36: slump 8~12cm, 매트기초 등, f2 : Type-Ⅰ, 36m | D36: M3 | E36: =일위대가!F232 -> 0 | F36: =일위대가!H232 -> 0 | G36: =일위대가!J232 -> 0 | H36: =E36+F36+G36 -> 0 | I36: 호표 33 | M36: 공통 6-1-4
A37: 5E50140982213A15FE7D2FFC557ACE | B37: 콘크리트 펌프차 타설 | C37: slump 15cm, 매트기초 등, f2 : Type-Ⅰ, 36m | D37: M3 | E37: =일위대가!F240 -> 0 | F37: =일위대가!H240 -> 0 | G37: =일위대가!J240 -> 0 | H37: =E37+F37+G37 -> 0 | I37: 호표 34 | M37: 공통 6-1-4
A38: 5E50140982213A25815256CADF3B17 | B38: 콘크리트 펌프차 타설 | C38: slump 15cm, 벽,기둥,슬래브 등, f2 : Type-Ⅰ, 36m | D38: M3 | E38: =일위대가!F248 -> 0 | F38: =일위대가!H248 -> 0 | G38: =일위대가!J248 -> 0 | H38: =E38+F38+G38 -> 0 | I38: 호표 35 | M38: 공통 6-1-4
A39: 5E502477A28135C5228CAD0FC0677F | B39: 모르타르 배합 | C39: 모래채가름 포함 | D39: M3 | E39: =일위대가!F252 -> 0 | F39: =일위대가!H252 -> 0 | G39: =일위대가!J252 -> 0 | H39: =E39+F39+G39 -> 0 | I39: 호표 36 | M39: 건축 9-1-1
A40: 5E502477A28135C5228CAD0C0CE147 | B40: 모르타르 배합(배합품 포함) | C40: 배합용적비 1:3, 시멘트, 모래 별도 | D40: M3 | E40: =일위대가!F258 -> 0 | F40: =일위대가!H258 -> 0 | G40: =일위대가!J258 -> 0 | H40: =E40+F40+G40 -> 0 | I40: 호표 37 | M40: 건축 9-1-1
A41: 5E502477A28135F5F5072937B660D0 | B41: 모르타르 바름 | C41: 바닥, 26mm | D41: M2 | E41: =일위대가!F263 -> 0 | F41: =일위대가!H263 -> 0 | G41: =일위대가!J263 -> 0 | H41: =E41+F41+G41 -> 0 | I41: 호표 38
A42: 5E502477A28135F5F5072937B70B37 | B42: 모르타르 바름 | C42: 바닥, 37mm | D42: M2 | E42: =일위대가!F268 -> 0 | F42: =일위대가!H268 -> 0 | G42: =일위대가!J268 -> 0 | H42: =E42+F42+G42 -> 0 | I42: 호표 39
A43: 5E502477A2B13105E8B26B22CCA883 | B43: 기존콘크리트면처리 | C43: 벽 | D43: M2 | E43: =일위대가!F275 -> 0 | F43: =일위대가!H275 -> 0 | G43: =일위대가!J275 -> 0 | H43: =E43+F43+G43 -> 0 | I43: 호표 40 | M43: 건축 9-2-3 준용
A44: 5E50247C22A13975A931A64A3021E3 | B44: 코너비드 설치 | C44: 재료비 별도 | D44: M | E44: =일위대가!F279 -> 0 | F44: =일위대가!H279 -> 0 | G44: =일위대가!J279 -> 0 | H44: =E44+F44+G44 -> 0 | I44: 호표 41 | M44: 건축 8-1-2
A45: 5E50247C22A13975A82B5FD924094C | B45: 걸레받이몰딩 설치 | C45: AL, H=10mm | D45: M | E45: =일위대가!F284 -> 0 | F45: =일위대가!H284 -> 0 | G45: =일위대가!J284 -> 0 | H45: =E45+F45+G45 -> 0 | I45: 호표 42 | M45: 건축 8-1-2
A46: 5E50247C22A13975ADA8D185D70DFF | B46: 앵글코너가드 | C46: L-50*50*5t. 도장 | D46: M | E46: =일위대가!F294 -> 0 | F46: =일위대가!H294 -> 0 | G46: =일위대가!J294 -> 0 | H46: =E46+F46+G46 -> 0 | I46: 호표 43
A47: 5E50D46112113F95C62C3296FCEC48 | B47: 방수프라이머 바름 | C47: 롤러 1층(회) 바름 기준 | D47: M2 | E47: =일위대가!F300 -> 0 | F47: =일위대가!H300 -> 0 | G47: =일위대가!J300 -> 0 | H47: =E47+F47+G47 -> 0 | I47: 호표 44 | M47: 건축 6-1-2
A48: 5E50D463D2F13CC5C16E0E694A1BEB | B48: 도막바름 | C48: 수직부, 도막 1층(회) 형성 기준 | D48: M2 | E48: =일위대가!F306 -> 0 | F48: =일위대가!H306 -> 0 | G48: =일위대가!J306 -> 0 | H48: =E48+F48+G48 -> 0 | I48: 호표 45 | M48: 건축 6-2-1
A49: 5E50D463D2F13CC5C16E0CBBEE719C | B49: 우레탄도막방수 | C49: 비노출, 수직 3mm | D49: M2 | E49: =일위대가!F315 -> 0 | F49: =일위대가!H315 -> 0 | G49: =일위대가!J315 -> 0 | H49: =E49+F49+G49 -> 0 | I49: 호표 46
A50: 5E50D464E26133E579477F7FA8E737 | B50: 액상형 흡수방지방수 도포 | C50: 뿜칠 2층(회) | D50: M2 | E50: =일위대가!F321 -> 0 | F50: =일위대가!H321 -> 0 | G50: =일위대가!J321 -> 0 | H50: =E50+F50+G50 -> 0 | I50: 호표 47 | M50: 건축 6-5-2
A51: 5E50D464E26133E5794656A4F7817A | B51: 발수제 도포 | C51: 벽, 2회 | D51: M2 | E51: =일위대가!F327 -> 0 | F51: =일위대가!H327 -> 0 | G51: =일위대가!J327 -> 0 | H51: =E51+F51+G51 -> 0 | I51: 호표 48 | M51: 건축 6-5-2
A52: 5E50D46692213EC565FB6C4D97B59A | B52: 수밀코킹 | C52: 재료비 별도 | D52: M | E52: =일위대가!F331 -> 0 | F52: =일위대가!H331 -> 0 | G52: =일위대가!J331 -> 0 | H52: =E52+F52+G52 -> 0 | I52: 호표 49 | M52: 건축 6-6-1
A53: 5E50D466920133E5CB4E4FDAE7CFF6 | B53: 유리주위 코킹 | C53: 5*5, 실리콘 | D53: M | E53: =일위대가!F335 -> 0 | F53: =일위대가!H335 -> 0 | G53: =일위대가!J335 -> 0 | H53: =E53+F53+G53 -> 0 | I53: 호표 50 | M53: 건축 6-6-1
A54: 5E50D466920133E5CB4E4FDAE7CFF7 | B54: 접합 코킹 | C54: 5*5, 실리콘 | D54: M | E54: =일위대가!F339 -> 0 | F54: =일위대가!H339 -> 0 | G54: =일위대가!J339 -> 0 | H54: =E54+F54+G54 -> 0 | I54: 호표 51
A55: 5E50D46692113C750A93286084E8D0 | B55: 수밀코킹(실리콘) | C55: 삼각, 10mm, 창호주위 | D55: M | E55: =일위대가!F344 -> 0 | F55: =일위대가!H344 -> 0 | G55: =일위대가!J344 -> 0 | H55: =E55+F55+G55 -> 0 | I55: 호표 52 | M55: 건축 6-6-1
A56: 5E50D47362813D05567FEC0315D5D0 | B56: 바탕처리 | C56: 보통, 수직부 | D56: M2 | E56: =일위대가!F350 -> 0 | F56: =일위대가!H350 -> 0 | G56: =일위대가!J350 -> 0 | H56: =E56+F56+G56 -> 0 | I56: 호표 53 | M56: 건축 6-1-1
A57: 5E50C47BF291396597B1C981B4CDBF | B57: 플로어링 마루 설치 | D57: M2 | E57: =일위대가!F356 -> 0 | F57: =일위대가!H356 -> 0 | G57: =일위대가!J356 -> 0 | H57: =E57+F57+G57 -> 0 | I57: 호표 54 | M57: 건축 5-1-3
A58: 5E50C47BF291396597B1C9852F1F8F | B58: 지정 원목마루 설치 | C58: 14*190*1900mm | D58: M2 | E58: =일위대가!F361 -> 0 | F58: =일위대가!H361 -> 0 | G58: =일위대가!J361 -> 0 | H58: =E58+F58+G58 -> 0 | I58: 호표 55 | M58: 건축 5-1-3
A59: 5E50C47822B139E57CB4101EB564ED | B59: 벽체틀 설치 | C59: 자재 별도 | D59: M2 | E59: =일위대가!F367 -> 0 | F59: =일위대가!H367 -> 0 | G59: =일위대가!J367 -> 0 | H59: =E59+F59+G59 -> 0 | I59: 호표 56 | M59: 건축 4-2-1
A60: 5E50C47822B139F50305484525F034 | B60: 벽체틀 설치 | C60: 30*30, @450*600 | D60: M2 | E60: =일위대가!F372 -> 0 | F60: =일위대가!H372 -> 0 | G60: =일위대가!J372 -> 0 | H60: =E60+F60+G60 -> 0 | I60: 호표 57 | M60: 건축 4-2-1
A61: 5E50F4A782C13EF528F55BB34D4FBF | B61: 경량천장철골틀 설치 | C61: M-BAR | D61: M2 | E61: =일위대가!F384 -> 0 | F61: =일위대가!H384 -> 0 | G61: =일위대가!J384 -> 0 | H61: =E61+F61+G61 -> 0 | I61: 호표 58
A62: 5E50F4A782C13EF528F55BB34D4FBA | B62: 경량천장철골틀 설치 | C62: T-BAR | D62: M2 | E62: =일위대가!F388 -> 0 | F62: =일위대가!H388 -> 0 | G62: =일위대가!J388 -> 0 | H62: =E62+F62+G62 -> 0 | I62: 호표 59
A63: 5E50F4A782C13EF528F55BB34D4FB7 | B63: 경량벽체철골틀 설치 | C63: CLIP-BAR@2000 | D63: M2 | E63: =일위대가!F393 -> 0 | F63: =일위대가!H393 -> 0 | G63: =일위대가!J393 -> 0 | H63: =E63+F63+G63 -> 0 | I63: 호표 60
A64: 5E50F4A782C13EF528F55BB34F7DDB | B64: 경량천장철골틀 설치 | C64: BAR 간격 600mm | D64: M2 | E64: =일위대가!F399 -> 0 | F64: =일위대가!H399 -> 0 | G64: =일위대가!J399 -> 0 | H64: =E64+F64+G64 -> 0 | I64: 호표 61 | M64: 건축 8-2-4
A65: 5E50F4A782B13C851F337CE0BF2FA6 | B65: 천장점검구 설치 | C65: AL 백색, 450*450mm | D65: 개소 | E65: =일위대가!F407 -> 0 | F65: =일위대가!H407 -> 0 | G65: =일위대가!J407 -> 0 | H65: =E65+F65+G65 -> 0 | I65: 호표 62 | M65: 건축 8-1-6
A66: 5E50F4A202913CF593D52E11BCF975 | B66: 보도용블록설치 | D66: M2 | E66: =일위대가!F416 -> 0 | F66: =일위대가!H416 -> 0 | G66: =일위대가!J416 -> 0 | H66: =E66+F66+G66 -> 0 | I66: 호표 63 | M66: 토목 1-7-1
A67: 5E50F4A3120132050C2E53D0BBEDF3 | B67: 잡철물 제작 및 설치 | C67: 규격철물 설치, 일반철재 | D67: kg | E67: =일위대가!F425 -> 0 | F67: =일위대가!H425 -> 0 | G67: =일위대가!J425 -> 0 | H67: =E67+F67+G67 -> 0 | I67: 호표 64 | M67: 건축 8-3-1
A68: 5E50F4A3120132050C2E53D6C4B610 | B68: 잡철물 제작 및 설치 | C68: 규격철물 설치, 경량철재 | D68: kg | E68: =일위대가!F434 -> 0 | F68: =일위대가!H434 -> 0 | G68: =일위대가!J434 -> 0 | H68: =E68+F68+G68 -> 0 | I68: 호표 65 | M68: 건축 8-3-1
A69: 5E50F4A3120132050C2D4D871B7F66 | B69: 잡철물 제작 및 설치 | C69: 현장제작 설치, 일반철재 | D69: kg | E69: =일위대가!F443 -> 0 | F69: =일위대가!H443 -> 0 | G69: =일위대가!J443 -> 0 | H69: =E69+F69+G69 -> 0 | I69: 호표 66 | M69: 건축 8-3-1
A70: 5E50F4A3126134A5975AC88114D438 | B70: 아연도금강판 설치 | C70: 아연도금강판 1.2t+분체도장 | D70: M2 | E70: =일위대가!F451 -> 0 | F70: =일위대가!H451 -> 0 | G70: =일위대가!J451 -> 0 | H70: =E70+F70+G70 -> 0 | I70: 호표 67
A71: 5E50F4A3126134A5975AC88114D437 | B71: 갈바륨강판 설치 | C71: 갈바륨강판 1.6t+분체도장 | D71: M2 | E71: =일위대가!F459 -> 0 | F71: =일위대가!H459 -> 0 | G71: =일위대가!J459 -> 0 | H71: =E71+F71+G71 -> 0 | I71: 호표 68
A72: 5E50F4A3126134A5975AC88114D44F | B72: 아연도금강판 설치/가구 | C72: 아연도금강판 1.2t+분체도장, 틀ㅁ20*20 | D72: M2 | E72: =일위대가!F468 -> 0 | F72: =일위대가!H468 -> 0 | G72: =일위대가!J468 -> 0 | H72: =E72+F72+G72 -> 0 | I72: 호표 69
A73: 5E50F4A3126134A5975AC88114D448 | B73: 싱크볼/가구 | D73: EA | E73: =일위대가!F473 -> 0 | F73: =일위대가!H473 -> 0 | G73: =일위대가!J473 -> 0 | H73: =E73+F73+G73 -> 0 | I73: 호표 70
A74: 5E50F4A3126134A5975AC88114D449 | B74: 수전/가구 | D74: EA | E74: =일위대가!F478 -> 0 | F74: =일위대가!H478 -> 0 | G74: =일위대가!J478 -> 0 | H74: =E74+F74+G74 -> 0 | I74: 호표 71
A75: 5E50F4A3126134A5975AC88114D7F3 | B75: 커튼월하부후레싱 설치 | C75: 아연도금강판. W120*1.6t+분체도장 | D75: M | E75: =일위대가!F482 -> 0 | F75: =일위대가!H482 -> 0 | G75: =일위대가!J482 -> 0 | H75: =E75+F75+G75 -> 0 | I75: 호표 72
A76: 5E50F4A3126134A5975AC88114D7F2 | B76: 커튼월하부후레싱틀 설치 | C76: STL.ㅁ40*20*1.6t | D76: M | E76: =일위대가!F489 -> 0 | F76: =일위대가!H489 -> 0 | G76: =일위대가!J489 -> 0 | H76: =E76+F76+G76 -> 0 | I76: 호표 73
A77: 5E50F4A3126134A5975AC88114D7F1 | B77: 커튼월하부브라켓 설치 | C77: STL.ㄱ100*70*7t+M12앵커 | D77: M | E77: =일위대가!F497 -> 0 | F77: =일위대가!H497 -> 0 | G77: =일위대가!J497 -> 0 | H77: =E77+F77+G77 -> 0 | I77: 호표 74
A78: 5E50F4A3126134A5975AC88114D7F0 | B78: 캐노피브라켓 설치 | C78: STL.ㄱ100*70*7t | D78: M | E78: =일위대가!F504 -> 0 | F78: =일위대가!H504 -> 0 | G78: =일위대가!J504 -> 0 | H78: =E78+F78+G78 -> 0 | I78: 호표 75
A79: 5E50F4A3126134A5975AC88114D7F7 | B79: 라인펜던트등지지대 설치 | C79: L1500, 아연도.ㅁ40*20*1.6t*2줄+평철L70*D20*9t+금속PL.200*200*4.5t+합판보강9t+분체도장 | D79: EA | E79: =일위대가!F511 -> 0 | F79: =일위대가!H511 -> 0 | G79: =일위대가!J511 -> 0 | H79: =E79+F79+G79 -> 0 | I79: 호표 76
A80: 5E50F4A3126134A5975AC88114D7F6 | B80: 금속틀 설치 | C80: 아연도.ㅁ40*20*1.6t+분체도장 | D80: M | E80: =일위대가!F519 -> 0 | F80: =일위대가!H519 -> 0 | G80: =일위대가!J519 -> 0 | H80: =E80+F80+G80 -> 0 | I80: 호표 77
A81: 5E50F4A3126134A5975AC88114D7F4 | B81: 데크마구리후레싱 설치 | C81: STL. W350*6t+도장 | D81: M | E81: =일위대가!F523 -> 0 | F81: =일위대가!H523 -> 0 | G81: =일위대가!J523 -> 0 | H81: =E81+F81+G81 -> 0 | I81: 호표 78
A82: 5E50F4A3126134A5975AC88114D7FB | B82: 설비커버 설치 | C82: 갈바 W160*1.2t(양면2줄), 분체도장 | D82: M | E82: =일위대가!F527 -> 0 | F82: =일위대가!H527 -> 0 | G82: =일위대가!J527 -> 0 | H82: =E82+F82+G82 -> 0 | I82: 호표 79
A83: 5E50F4A3126134A5975AC88114D6EC | B83: 창호후레임 제작 | C83: 갈바 ㅁ100*15*1.6t, 분체도장 | D83: M | E83: =일위대가!F531 -> 0 | F83: =일위대가!H531 -> 0 | G83: =일위대가!J531 -> 0 | H83: =E83+F83+G83 -> 0 | I83: 호표 80
A84: 5E50F4A3126134A5975AC88114D047 | B84: 금속틀 설치 | C84: STL.ㅁ20*40*1.6t@500 | D84: M2 | E84: =일위대가!F535 -> 0 | F84: =일위대가!H535 -> 0 | G84: =일위대가!J535 -> 0 | H84: =E84+F84+G84 -> 0 | I84: 호표 81
A85: 5E50F4A3126134A5975AC88114D046 | B85: 금속틀 설치 | C85: STL.ㅁ50*50*2.3t@300*600 | D85: M2 | E85: =일위대가!F539 -> 0 | F85: =일위대가!H539 -> 0 | G85: =일위대가!J539 -> 0 | H85: =E85+F85+G85 -> 0 | I85: 호표 82
A86: 5E50F4A3126134A5975AC88114D31B | B86: 금속천장틀(수평틀) 설치 | C86: STL.ㅁ40*40*1.6t@600*600 | D86: M2 | E86: =일위대가!F543 -> 0 | F86: =일위대가!H543 -> 0 | G86: =일위대가!J543 -> 0 | H86: =E86+F86+G86 -> 0 | I86: 호표 83
A87: 5E50F4A3126134A5975AC88114D31F | B87: 금속천장틀(수직틀) 설치 | C87: STL.ㅁ40*40*1.6t@600*600 | D87: M2 | E87: =일위대가!F547 -> 0 | F87: =일위대가!H547 -> 0 | G87: =일위대가!J547 -> 0 | H87: =E87+F87+G87 -> 0 | I87: 호표 84
A88: 5E50F4A3126134A5975AC88114D310 | B88: 금속바닥틀(데크) 설치 | C88: STL.ㅁ50*50*2.3t@300*1000+L50*50*3t@300+앵커 | D88: M2 | E88: =일위대가!F553 -> 0 | F88: =일위대가!H553 -> 0 | G88: =일위대가!J553 -> 0 | H88: =E88+F88+G88 -> 0 | I88: 호표 85
A89: 5E50F4A3126134A5975AC88114DD1A | B89: 금속틀 설치/가구 | C89: STL.ㅁ30*30*1.6t | D89: M | E89: =일위대가!F560 -> 0 | F89: =일위대가!H560 -> 0 | G89: =일위대가!J560 -> 0 | H89: =E89+F89+G89 -> 0 | I89: 호표 86
A90: 5E5094C462213C35535D5DDC9FE1CC | B90: SW01[갈바W15*1.6t] | C90: 0.600 x 2.400 = 1.440 | D90: EA | E90: =일위대가!F565 -> 0 | F90: =일위대가!H565 -> 0 | G90: =일위대가!J565 -> 0 | H90: =E90+F90+G90 -> 0 | I90: 호표 87
A91: 5E5094C462213C35535D5DDC9FE1C2 | B91: WD01[갈바W15*1.6t/합판4.8] | C91: 1.200 x 2.400 = 2.880 | D91: EA | E91: =일위대가!F571 -> 0 | F91: =일위대가!H571 -> 0 | G91: =일위대가!J571 -> 0 | H91: =E91+F91+G91 -> 0 | I91: 호표 88
A92: 5E5094C462213C35535D5DDC9FE025 | B92: WD02[갈바W15*1.6t/합판4.8] | C92: 1.400 x 2.400 = 3.360 | D92: EA | E92: =일위대가!F577 -> 0 | F92: =일위대가!H577 -> 0 | G92: =일위대가!J577 -> 0 | H92: =E92+F92+G92 -> 0 | I92: 호표 89
A93: 5E5094C462213C35535D5DDC9FE027 | B93: WD03[갈바W15*1.6t/합판4.8] | C93: 1.200 x 2.400 = 2.880 | D93: EA | E93: =일위대가!F585 -> 0 | F93: =일위대가!H585 -> 0 | G93: =일위대가!J585 -> 0 | H93: =E93+F93+G93 -> 0 | I93: 호표 90
A94: 5E5094C462313E9556353D45431186 | B94: 강재창호 설치 / 여닫이 | C94: 창호면적 m2, 1.0 이하 | D94: 개소 | E94: =일위대가!F591 -> 0 | F94: =일위대가!H591 -> 0 | G94: =일위대가!J591 -> 0 | H94: =E94+F94+G94 -> 0 | I94: 호표 91 | M94: 건축 10-1-2
A95: 5E5094C4621133D5E9FDAEA2E7C9F4 | B95: 목재창호 설치 / 여닫이 | C95: 창호면적 m2, 1.0 ~ 3.0 이하 | D95: 개소 | E95: =일위대가!F597 -> 0 | F95: =일위대가!H597 -> 0 | G95: =일위대가!J597 -> 0 | H95: =E95+F95+G95 -> 0 | I95: 호표 92 | M95: 건축 10-1-1
A96: 5E5094C4621133D5E9FDAEA2E7C8ED | B96: 목재창호 설치 / 여닫이 | C96: 창호면적 m2, 3.0 ~ 6.0 이하 | D96: 개소 | E96: =일위대가!F603 -> 0 | F96: =일위대가!H603 -> 0 | G96: =일위대가!J603 -> 0 | H96: =E96+F96+G96 -> 0 | I96: 호표 93 | M96: 건축 10-1-1
A97: 5E5094C4621133D5E9FDAEA1C020FA | B97: 목재창호 설치 / 미서기(단창) | C97: 창호면적 m2, 1.0 ~ 3.0 이하 | D97: 개소 | E97: =일위대가!F609 -> 0 | F97: =일위대가!H609 -> 0 | G97: =일위대가!J609 -> 0 | H97: =E97+F97+G97 -> 0 | I97: 호표 94 | M97: 건축 10-1-1
A98: 5E5094C732413F55BF7E7D08FDEF39 | B98: 알루미늄창호 설치 | C98: 창호면적 m2, 1.0 이하 | D98: 개소 | E98: =일위대가!F615 -> 0 | F98: =일위대가!H615 -> 0 | G98: =일위대가!J615 -> 0 | H98: =E98+F98+G98 -> 0 | I98: 호표 95 | M98: 건축 10-1-3
A99: 5E5094C732413F55BF7E7D08FDEC65 | B99: 알루미늄창호 설치 | C99: 창호면적 m2, 1.0 ~ 3.0 이하 | D99: 개소 | E99: =일위대가!F621 -> 0 | F99: =일위대가!H621 -> 0 | G99: =일위대가!J621 -> 0 | H99: =E99+F99+G99 -> 0 | I99: 호표 96 | M99: 건축 10-1-3
A100: 5E5094C352A13C958242ED2BE473B3 | B100: 도어록 설치 / 일반도어록 목재창호 | C100: 재료비 별도 | D100: 개소 | E100: =일위대가!F626 -> 0 | F100: =일위대가!H626 -> 0 | G100: =일위대가!J626 -> 0 | H100: =E100+F100+G100 -> 0 | I100: 호표 97 | M100: 건축 10-2-3
...

Sheet 일위대가
A1: [ 한국문화예술위원회 나주청사 리모델링공사 ]
A2: 품 명 | B2: 규 격 | C2: 단위 | D2: 수량 | E2: 재 료 비 | G2: 노 무 비 | I2: 경 비 | K2: 합 계 | M2: 비 고 | N2: 일위대가 | O2: 품목코드 | P2: 일위 | Q2: 단산 | R2: 자재 | S2: 손료적용 | T2: 손료저장 | U2: 적용율 | V2: JUK1 | W2: JUK2 | X2: JUK3 | Y2: JUK4 | Z2: JUK5 | AA2: JUK6 | AB2: JUK7 | AC2: JUK8 | AD2: JUK9 | AE2: JUK10 | AF2: JUK11 | AG2: JUK12 | AH2: JUK13 | AI2: JUK14 | AJ2: JUK15 | AK2: JUK16 | AL2: JUK17 | AM2: JUK18 | AN2: JUK19 | AO2: JUK20 | AP2: 할증적용 | AQ2: 할증저장 | AR2: 할증율 | AS2: HAL1 | AT2: HAL2 | AU2: HAL3 | AV2: 자재구분 | AW2: 일위대가+자재 | AX2: 장비일위 | AY2: 설정 | AZ2: 할증체크
E3: 단 가 | F3: 금 액 | G3: 단 가 | H3: 금 액 | I3: 단 가 | J3: 금 액 | K3: 단 가 | L3: 금 액
A4: 굴착기(무한궤도) 0.2㎥ HR 공통 8-3,4(0201) ( 호표 1 ) | N4: 594724AFE23139D51FD15B589FC389F030299A3A
A5: 굴착기(무한궤도) | B5: 0.2㎥ | C5: 대 | D5: 0.2085 | E5: =단가대비표!O5 -> 0 | F5: =TRUNC(E5*D5,1) -> 0 | G5: =단가대비표!P5 -> 0 | H5: =TRUNC(G5*D5,1) -> 0 | I5: =단가대비표!V5 -> 0 | J5: =TRUNC(I5*D5,1) -> 0 | K5: =TRUNC(E5+G5+I5,1) -> 0 | L5: =TRUNC(F5+H5+J5,1) -> 0 | M5: 자재 1 | N5: 594724AFE23139D51FD15B589FC389F030299A3A | O5: 594724AFE23139D51FD15B589FC389F030299A | P5: F | Q5: F | R5: T | AW5: 594724AFE23139D51FD15B589FC389F030299A3A594724AFE23139D51FD15B589FC389F030299A
A6: 경유 | B6: 경유, 저유황 | C6: L | D6: 5 | E6: =단가대비표!O38 -> 0 | F6: =TRUNC(E6*D6,1) -> 0 | G6: =단가대비표!P38 -> 0 | H6: =TRUNC(G6*D6,1) -> 0 | I6: =단가대비표!V38 -> 0 | J6: =TRUNC(I6*D6,1) -> 0 | K6: =TRUNC(E6+G6+I6,1) -> 0 | L6: =TRUNC(F6+H6+J6,1) -> 0 | M6: 자재 34 | N6: 594724AFE23139D51FD15B589FC389F030299A3A | O6: 5951C4EC42B136D516DA85BCCE3BAC3C5B6F55 | P6: F | Q6: F | R6: T | V6: 1 | AW6: 594724AFE23139D51FD15B589FC389F030299A3A5951C4EC42B136D516DA85BCCE3BAC3C5B6F55
A7: 잡재료 | B7: 주연료비의 21% | C7: 식 | D7: 1 | E7: =TRUNC(SUMIF(V5:V8, RIGHTB(O7, 1), F5:F8)*U7, 2) -> 0 | F7: =TRUNC(E7*D7,1) -> 0 | G7: 0 | H7: =TRUNC(G7*D7,1) -> 0 | I7: 0 | J7: =TRUNC(I7*D7,1) -> 0 | K7: =TRUNC(E7+G7+I7,1) -> 0 | L7: =TRUNC(F7+H7+J7,1) -> 0 | N7: 594724AFE23139D51FD15B589FC389F030299A3A | O7: 5F49A4CEF20134C5CE0C82457C7C001 | P7: F | Q7: F | R7: F | S7: 0 | T7: 0 | U7: 0.21 | AW7: 594724AFE23139D51FD15B589FC389F030299A3A5F49A4CEF20134C5CE0C82457C7C001
A8: 건설기계운전사 | B8: 일반공사 직종 | C8: 인 | D8: 1 | E8: =TRUNC(단가대비표!O178*1/8*16/12*25/20, 1) -> 0 | F8: =TRUNC(E8*D8,1) -> 0 | G8: =TRUNC(단가대비표!P178*1/8*16/12*25/20, 1) -> 0 | H8: =TRUNC(G8*D8,1) -> 0 | I8: =TRUNC(단가대비표!V178*1/8*16/12*25/20, 1) -> 0 | J8: =TRUNC(I8*D8,1) -> 0 | K8: =TRUNC(E8+G8+I8,1) -> 0 | L8: =TRUNC(F8+H8+J8,1) -> 0 | M8: 노임 22 | N8: 594724AFE23139D51FD15B589FC389F030299A3A | O8: 5E8C94EC72C13745CED1B71BF1C5BDC347102B | P8: F | Q8: F | R8: T | AW8: 594724AFE23139D51FD15B589FC389F030299A3A5E8C94EC72C13745CED1B71BF1C5BDC347102B | AX8: T
A9: [ 합 계 ] | F9: =TRUNC(SUMIF(N5:N8, N4, F5:F8),0) -> 0 | H9: =TRUNC(SUMIF(N5:N8, N4, H5:H8),0) -> 0 | J9: =TRUNC(SUMIF(N5:N8, N4, J5:J8),0) -> 0 | L9: =F9+H9+J9 -> 0 | N9: TOTAL | O9: TOTAL
A11: 굴착기(무한궤도) 0.4㎥ HR 공통 8-3,4(0201) ( 호표 2 ) | N11: 594724AFE23139D51FD15B589FC5B6E57F0BEBE7
A12: 굴착기(무한궤도) | B12: 0.4㎥ | C12: 대 | D12: 0.2085 | E12: =단가대비표!O6 -> 0 | F12: =TRUNC(E12*D12,1) -> 0 | G12: =단가대비표!P6 -> 0 | H12: =TRUNC(G12*D12,1) -> 0 | I12: =단가대비표!V6 -> 0 | J12: =TRUNC(I12*D12,1) -> 0 | K12: =TRUNC(E12+G12+I12,1) -> 0 | L12: =TRUNC(F12+H12+J12,1) -> 0 | M12: 자재 2 | N12: 594724AFE23139D51FD15B589FC5B6E57F0BEBE7 | O12: 594724AFE23139D51FD15B589FC5B6E57F0BEB | P12: F | Q12: F | R12: T | AW12: 594724AFE23139D51FD15B589FC5B6E57F0BEBE7594724AFE23139D51FD15B589FC5B6E57F0BEB
A13: 경유 | B13: 경유, 저유황 | C13: L | D13: 9.9 | E13: =단가대비표!O38 -> 0 | F13: =TRUNC(E13*D13,1) -> 0 | G13: =단가대비표!P38 -> 0 | H13: =TRUNC(G13*D13,1) -> 0 | I13: =단가대비표!V38 -> 0 | J13: =TRUNC(I13*D13,1) -> 0 | K13: =TRUNC(E13+G13+I13,1) -> 0 | L13: =TRUNC(F13+H13+J13,1) -> 0 | M13: 자재 34 | N13: 594724AFE23139D51FD15B589FC5B6E57F0BEBE7 | O13: 5951C4EC42B136D516DA85BCCE3BAC3C5B6F55 | P13: F | Q13: F | R13: T | V13: 1 | AW13: 594724AFE23139D51FD15B589FC5B6E57F0BEBE75951C4EC42B136D516DA85BCCE3BAC3C5B6F55
A14: 잡재료 | B14: 주연료비의 22% | C14: 식 | D14: 1 | E14: =TRUNC(SUMIF(V12:V15, RIGHTB(O14, 1), F12:F15)*U14, 2) -> 0 | F14: =TRUNC(E14*D14,1) -> 0 | G14: 0 | H14: =TRUNC(G14*D14,1) -> 0 | I14: 0 | J14: =TRUNC(I14*D14,1) -> 0 | K14: =TRUNC(E14+G14+I14,1) -> 0 | L14: =TRUNC(F14+H14+J14,1) -> 0 | N14: 594724AFE23139D51FD15B589FC5B6E57F0BEBE7 | O14: 5F49A4CEF20134C5CE0C82457C7C001 | P14: F | Q14: F | R14: F | S14: 0 | T14: 0 | U14: 0.22 | AW14: 594724AFE23139D51FD15B589FC5B6E57F0BEBE75F49A4CEF20134C5CE0C82457C7C001
A15: 건설기계운전사 | B15: 일반공사 직종 | C15: 인 | D15: 1 | E15: =TRUNC(단가대비표!O178*1/8*16/12*25/20, 1) -> 0 | F15: =TRUNC(E15*D15,1) -> 0 | G15: =TRUNC(단가대비표!P178*1/8*16/12*25/20, 1) -> 0 | H15: =TRUNC(G15*D15,1) -> 0 | I15: =TRUNC(단가대비표!V178*1/8*16/12*25/20, 1) -> 0 | J15: =TRUNC(I15*D15,1) -> 0 | K15: =TRUNC(E15+G15+I15,1) -> 0 | L15: =TRUNC(F15+H15+J15,1) -> 0 | M15: 노임 22 | N15: 594724AFE23139D51FD15B589FC5B6E57F0BEBE7 | O15: 5E8C94EC72C13745CED1B71BF1C5BDC347102B | P15: F | Q15: F | R15: T | AW15: 594724AFE23139D51FD15B589FC5B6E57F0BEBE75E8C94EC72C13745CED1B71BF1C5BDC347102B | AX15: T
A16: [ 합 계 ] | F16: =TRUNC(SUMIF(N12:N15, N11, F12:F15),0) -> 0 | H16: =TRUNC(SUMIF(N12:N15, N11, H12:H15),0) -> 0 | J16: =TRUNC(SUMIF(N12:N15, N11, J12:J15),0) -> 0 | L16: =F16+H16+J16 -> 0 | N16: TOTAL | O16: TOTAL
A18: 굴착기(무한궤도) 0.6㎥ HR 공통 8-3,4(0201) ( 호표 3 ) | N18: 594724AFE23139D51FD15B589FC7644108BCDC6F
A19: 굴착기(무한궤도) | B19: 0.6㎥ | C19: 대 | D19: 0.2085 | E19: =단가대비표!O7 -> 0 | F19: =TRUNC(E19*D19,1) -> 0 | G19: =단가대비표!P7 -> 0 | H19: =TRUNC(G19*D19,1) -> 0 | I19: =단가대비표!V7 -> 0 | J19: =TRUNC(I19*D19,1) -> 0 | K19: =TRUNC(E19+G19+I19,1) -> 0 | L19: =TRUNC(F19+H19+J19,1) -> 0 | M19: 자재 3 | N19: 594724AFE23139D51FD15B589FC7644108BCDC6F | O19: 594724AFE23139D51FD15B589FC7644108BCDC | P19: F | Q19: F | R19: T | AW19: 594724AFE23139D51FD15B589FC7644108BCDC6F594724AFE23139D51FD15B589FC7644108BCDC
A20: 경유 | B20: 경유, 저유황 | C20: L | D20: 10.2 | E20: =단가대비표!O38 -> 0 | F20: =TRUNC(E20*D20,1) -> 0 | G20: =단가대비표!P38 -> 0 | H20: =TRUNC(G20*D20,1) -> 0 | I20: =단가대비표!V38 -> 0 | J20: =TRUNC(I20*D20,1) -> 0 | K20: =TRUNC(E20+G20+I20,1) -> 0 | L20: =TRUNC(F20+H20+J20,1) -> 0 | M20: 자재 34 | N20: 594724AFE23139D51FD15B589FC7644108BCDC6F | O20: 5951C4EC42B136D516DA85BCCE3BAC3C5B6F55 | P20: F | Q20: F | R20: T | V20: 1 | AW20: 594724AFE23139D51FD15B589FC7644108BCDC6F5951C4EC42B136D516DA85BCCE3BAC3C5B6F55
A21: 잡재료 | B21: 주연료비의 22% | C21: 식 | D21: 1 | E21: =TRUNC(SUMIF(V19:V22, RIGHTB(O21, 1), F19:F22)*U21, 2) -> 0 | F21: =TRUNC(E21*D21,1) -> 0 | G21: 0 | H21: =TRUNC(G21*D21,1) -> 0 | I21: 0 | J21: =TRUNC(I21*D21,1) -> 0 | K21: =TRUNC(E21+G21+I21,1) -> 0 | L21: =TRUNC(F21+H21+J21,1) -> 0 | N21: 594724AFE23139D51FD15B589FC7644108BCDC6F | O21: 5F49A4CEF20134C5CE0C82457C7C001 | P21: F | Q21: F | R21: F | S21: 0 | T21: 0 | U21: 0.22 | AW21: 594724AFE23139D51FD15B589FC7644108BCDC6F5F49A4CEF20134C5CE0C82457C7C001
A22: 건설기계운전사 | B22: 일반공사 직종 | C22: 인 | D22: 1 | E22: =TRUNC(단가대비표!O178*1/8*16/12*25/20, 1) -> 0 | F22: =TRUNC(E22*D22,1) -> 0 | G22: =TRUNC(단가대비표!P178*1/8*16/12*25/20, 1) -> 0 | H22: =TRUNC(G22*D22,1) -> 0 | I22: =TRUNC(단가대비표!V178*1/8*16/12*25/20, 1) -> 0 | J22: =TRUNC(I22*D22,1) -> 0 | K22: =TRUNC(E22+G22+I22,1) -> 0 | L22: =TRUNC(F22+H22+J22,1) -> 0 | M22: 노임 22 | N22: 594724AFE23139D51FD15B589FC7644108BCDC6F | O22: 5E8C94EC72C13745CED1B71BF1C5BDC347102B | P22: F | Q22: F | R22: T | AW22: 594724AFE23139D51FD15B589FC7644108BCDC6F5E8C94EC72C13745CED1B71BF1C5BDC347102B | AX22: T
A23: [ 합 계 ] | F23: =TRUNC(SUMIF(N19:N22, N18, F19:F22),0) -> 0 | H23: =TRUNC(SUMIF(N19:N22, N18, H19:H22),0) -> 0 | J23: =TRUNC(SUMIF(N19:N22, N18, J19:J22),0) -> 0 | L23: =F23+H23+J23 -> 0 | N23: TOTAL | O23: TOTAL
A25: 굴착기(무한궤도) 0.7㎥ HR 공통 8-3,4(0201) ( 호표 4 ) | N25: 594724AFE23139D51FD15B589FC65D6F693AC01B
A26: 굴착기(무한궤도) | B26: 0.7㎥ | C26: 대 | D26: 0.2085 | E26: =단가대비표!O8 -> 0 | F26: =TRUNC(E26*D26,1) -> 0 | G26: =단가대비표!P8 -> 0 | H26: =TRUNC(G26*D26,1) -> 0 | I26: =단가대비표!V8 -> 0 | J26: =TRUNC(I26*D26,1) -> 0 | K26: =TRUNC(E26+G26+I26,1) -> 0 | L26: =TRUNC(F26+H26+J26,1) -> 0 | M26: 자재 4 | N26: 594724AFE23139D51FD15B589FC65D6F693AC01B | O26: 594724AFE23139D51FD15B589FC65D6F693AC0 | P26: F | Q26: F | R26: T | AW26: 594724AFE23139D51FD15B589FC65D6F693AC01B594724AFE23139D51FD15B589FC65D6F693AC0
A27: 경유 | B27: 경유, 저유황 | C27: L | D27: 11.6 | E27: =단가대비표!O38 -> 0 | F27: =TRUNC(E27*D27,1) -> 0 | G27: =단가대비표!P38 -> 0 | H27: =TRUNC(G27*D27,1) -> 0 | I27: =단가대비표!V38 -> 0 | J27: =TRUNC(I27*D27,1) -> 0 | K27: =TRUNC(E27+G27+I27,1) -> 0 | L27: =TRUNC(F27+H27+J27,1) -> 0 | M27: 자재 34 | N27: 594724AFE23139D51FD15B589FC65D6F693AC01B | O27: 5951C4EC42B136D516DA85BCCE3BAC3C5B6F55 | P27: F | Q27: F | R27: T | V27: 1 | AW27: 594724AFE23139D51FD15B589FC65D6F693AC01B5951C4EC42B136D516DA85BCCE3BAC3C5B6F55
A28: 잡재료 | B28: 주연료비의 22% | C28: 식 | D28: 1 | E28: =TRUNC(SUMIF(V26:V29, RIGHTB(O28, 1), F26:F29)*U28, 2) -> 0 | F28: =TRUNC(E28*D28,1) -> 0 | G28: 0 | H28: =TRUNC(G28*D28,1) -> 0 | I28: 0 | J28: =TRUNC(I28*D28,1) -> 0 | K28: =TRUNC(E28+G28+I28,1) -> 0 | L28: =TRUNC(F28+H28+J28,1) -> 0 | N28: 594724AFE23139D51FD15B589FC65D6F693AC01B | O28: 5F49A4CEF20134C5CE0C82457C7C001 | P28: F | Q28: F | R28: F | S28: 0 | T28: 0 | U28: 0.22 | AW28: 594724AFE23139D51FD15B589FC65D6F693AC01B5F49A4CEF20134C5CE0C82457C7C001
A29: 건설기계운전사 | B29: 일반공사 직종 | C29: 인 | D29: 1 | E29: =TRUNC(단가대비표!O178*1/8*16/12*25/20, 1) -> 0 | F29: =TRUNC(E29*D29,1) -> 0 | G29: =TRUNC(단가대비표!P178*1/8*16/12*25/20, 1) -> 0 | H29: =TRUNC(G29*D29,1) -> 0 | I29: =TRUNC(단가대비표!V178*1/8*16/12*25/20, 1) -> 0 | J29: =TRUNC(I29*D29,1) -> 0 | K29: =TRUNC(E29+G29+I29,1) -> 0 | L29: =TRUNC(F29+H29+J29,1) -> 0 | M29: 노임 22 | N29: 594724AFE23139D51FD15B589FC65D6F693AC01B | O29: 5E8C94EC72C13745CED1B71BF1C5BDC347102B | P29: F | Q29: F | R29: T | AW29: 594724AFE23139D51FD15B589FC65D6F693AC01B5E8C94EC72C13745CED1B71BF1C5BDC347102B | AX29: T
A30: [ 합 계 ] | F30: =TRUNC(SUMIF(N26:N29, N25, F26:F29),0) -> 0 | H30: =TRUNC(SUMIF(N26:N29, N25, H26:H29),0) -> 0 | J30: =TRUNC(SUMIF(N26:N29, N25, J26:J29),0) -> 0 | L30: =F30+H30+J30 -> 0 | N30: TOTAL | O30: TOTAL
A32: 덤프트럭 15ton HR 공통 8-3,4(0602) ( 호표 5 ) | N32: 594724AFE23139D51B7668DB3CD38D4D869554B1
A33: 덤프트럭 | B33: 15ton | C33: 대 | D33: 0.2279 | E33: =단가대비표!O9 -> 0 | F33: =TRUNC(E33*D33,1) -> 0 | G33: =단가대비표!P9 -> 0 | H33: =TRUNC(G33*D33,1) -> 0 | I33: =단가대비표!V9 -> 0 | J33: =TRUNC(I33*D33,1) -> 0 | K33: =TRUNC(E33+G33+I33,1) -> 0 | L33: =TRUNC(F33+H33+J33,1) -> 0 | M33: 자재 5 | N33: 594724AFE23139D51B7668DB3CD38D4D869554B1 | O33: 594724AFE23139D51B7668DB3CD38D4D869554 | P33: F | Q33: F | R33: T | AW33: 594724AFE23139D51B7668DB3CD38D4D869554B1594724AFE23139D51B7668DB3CD38D4D869554
A34: 경유 | B34: 경유, 저유황 | C34: L | D34: 15.9 | E34: =단가대비표!O38 -> 0 | F34: =TRUNC(E34*D34,1) -> 0 | G34: =단가대비표!P38 -> 0 | H34: =TRUNC(G34*D34,1) -> 0 | I34: =단가대비표!V38 -> 0 | J34: =TRUNC(I34*D34,1) -> 0 | K34: =TRUNC(E34+G34+I34,1) -> 0 | L34: =TRUNC(F34+H34+J34,1) -> 0 | M34: 자재 34 | N34: 594724AFE23139D51B7668DB3CD38D4D869554B1 | O34: 5951C4EC42B136D516DA85BCCE3BAC3C5B6F55 | P34: F | Q34: F | R34: T | V34: 1 | AW34: 594724AFE23139D51B7668DB3CD38D4D869554B15951C4EC42B136D516DA85BCCE3BAC3C5B6F55
A35: 잡재료 | B35: 주연료비의 38% | C35: 식 | D35: 1 | E35: =TRUNC(SUMIF(V33:V36, RIGHTB(O35, 1), F33:F36)*U35, 2) -> 0 | F35: =TRUNC(E35*D35,1) -> 0 | G35: 0 | H35: =TRUNC(G35*D35,1) -> 0 | I35: 0 | J35: =TRUNC(I35*D35,1) -> 0 | K35: =TRUNC(E35+G35+I35,1) -> 0 | L35: =TRUNC(F35+H35+J35,1) -> 0 | N35: 594724AFE23139D51B7668DB3CD38D4D869554B1 | O35: 5F49A4CEF20134C5CE0C82457C7C001 | P35: F | Q35: F | R35: F | S35: 0 | T35: 0 | U35: 0.38 | AW35: 594724AFE23139D51B7668DB3CD38D4D869554B15F49A4CEF20134C5CE0C82457C7C001
A36: 건설기계운전사 | B36: 일반공사 직종 | C36: 인 | D36: 1 | E36: =TRUNC(단가대비표!O178*1/8*16/12*25/20, 1) -> 0 | F36: =TRUNC(E36*D36,1) -> 0 | G36: =TRUNC(단가대비표!P178*1/8*16/12*25/20, 1) -> 0 | H36: =TRUNC(G36*D36,1) -> 0 | I36: =TRUNC(단가대비표!V178*1/8*16/12*25/20, 1) -> 0 | J36: =TRUNC(I36*D36,1) -> 0 | K36: =TRUNC(E36+G36+I36,1) -> 0 | L36: =TRUNC(F36+H36+J36,1) -> 0 | M36: 노임 22 | N36: 594724AFE23139D51B7668DB3CD38D4D869554B1 | O36: 5E8C94EC72C13745CED1B71BF1C5BDC347102B | P36: F | Q36: F | R36: T | AW36: 594724AFE23139D51B7668DB3CD38D4D869554B15E8C94EC72C13745CED1B71BF1C5BDC347102B | AX36: T
A37: [ 합 계 ] | F37: =TRUNC(SUMIF(N33:N36, N32, F33:F36),0) -> 0 | H37: =TRUNC(SUMIF(N33:N36, N32, H33:H36),0) -> 0 | J37: =TRUNC(SUMIF(N33:N36, N32, J33:J36),0) -> 0 | L37: =F37+H37+J37 -> 0 | N37: TOTAL | O37: TOTAL
A39: 덤프트럭 자동덮개시설 15ton HR 공통 8-3(0610) ( 호표 6 ) | N39: 594724AFE23139D51B7770D3DE8BE588D79B4F03
A40: 덤프트럭 자동덮개시설 | B40: 15ton | C40: 대 | D40: 0.2684 | E40: =단가대비표!O10 -> 0 | F40: =TRUNC(E40*D40,1) -> 0 | G40: =단가대비표!P10 -> 0 | H40: =TRUNC(G40*D40,1) -> 0 | I40: =단가대비표!V10 -> 0 | J40: =TRUNC(I40*D40,1) -> 0 | K40: =TRUNC(E40+G40+I40,1) -> 0 | L40: =TRUNC(F40+H40+J40,1) -> 0 | M40: 자재 6 | N40: 594724AFE23139D51B7770D3DE8BE588D79B4F03 | O40: 594724AFE23139D51B7770D3DE8BE588D79B4F | P40: F | Q40: F | R40: T | AW40: 594724AFE23139D51B7770D3DE8BE588D79B4F03594724AFE23139D51B7770D3DE8BE588D79B4F
A41: [ 합 계 ] | F41: =TRUNC(SUMIF(N40:N40, N39, F40:F40),0) -> 0 | H41: =TRUNC(SUMIF(N40:N40, N39, H40:H40),0) -> 0 | J41: =TRUNC(SUMIF(N40:N40, N39, J40:J40),0) -> 0 | L41: =F41+H41+J41 -> 0 | N41: TOTAL | O41: TOTAL
A43: 진동롤러(핸드가이드식) 0.7ton HR 공통 8-3,4(1305) ( 호표 7 ) | N43: 594724AFE23139C57593EF6BB7BFDE0FC5B0D5C9
A44: 진동롤러(핸드가이드식) | B44: 0.7ton | C44: 대 | D44: 0.2825 | E44: =단가대비표!O11 -> 0 | F44: =TRUNC(E44*D44,1) -> 0 | G44: =단가대비표!P11 -> 0 | H44: =TRUNC(G44*D44,1) -> 0 | I44: =단가대비표!V11 -> 0 | J44: =TRUNC(I44*D44,1) -> 0 | K44: =TRUNC(E44+G44+I44,1) -> 0 | L44: =TRUNC(F44+H44+J44,1) -> 0 | M44: 자재 7 | N44: 594724AFE23139C57593EF6BB7BFDE0FC5B0D5C9 | O44: 594724AFE23139C57593EF6BB7BFDE0FC5B0D5 | P44: F | Q44: F | R44: T | AW44: 594724AFE23139C57593EF6BB7BFDE0FC5B0D5C9594724AFE23139C57593EF6BB7BFDE0FC5B0D5
A45: 경유 | B45: 경유, 저유황 | C45: L | D45: 2.2 | E45: =단가대비표!O38 -> 0 | F45: =TRUNC(E45*D45,1) -> 0 | G45: =단가대비표!P38 -> 0 | H45: =TRUNC(G45*D45,1) -> 0 | I45: =단가대비표!V38 -> 0 | J45: =TRUNC(I45*D45,1) -> 0 | K45: =TRUNC(E45+G45+I45,1) -> 0 | L45: =TRUNC(F45+H45+J45,1) -> 0 | M45: 자재 34 | N45: 594724AFE23139C57593EF6BB7BFDE0FC5B0D5C9 | O45: 5951C4EC42B136D516DA85BCCE3BAC3C5B6F55 | P45: F | Q45: F | R45: T | V45: 1 | AW45: 594724AFE23139C57593EF6BB7BFDE0FC5B0D5C95951C4EC42B136D516DA85BCCE3BAC3C5B6F55
A46: 잡재료 | B46: 주연료비의 13% | C46: 식 | D46: 1 | E46: =TRUNC(SUMIF(V44:V47, RIGHTB(O46, 1), F44:F47)*U46, 2) -> 0 | F46: =TRUNC(E46*D46,1) -> 0 | G46: 0 | H46: =TRUNC(G46*D46,1) -> 0 | I46: 0 | J46: =TRUNC(I46*D46,1) -> 0 | K46: =TRUNC(E46+G46+I46,1) -> 0 | L46: =TRUNC(F46+H46+J46,1) -> 0 | N46: 594724AFE23139C57593EF6BB7BFDE0FC5B0D5C9 | O46: 5F49A4CEF20134C5CE0C82457C7C001 | P46: F | Q46: F | R46: F | S46: 0 | T46: 0 | U46: 0.13 | AW46: 594724AFE23139C57593EF6BB7BFDE0FC5B0D5C95F49A4CEF20134C5CE0C82457C7C001
A47: 일반기계운전사 | B47: 일반공사 직종 | C47: 인 | D47: 1 | E47: =TRUNC(단가대비표!O180*1/8*16/12*25/20, 1) -> 0 | F47: =TRUNC(E47*D47,1) -> 0 | G47: =TRUNC(단가대비표!P180*1/8*16/12*25/20, 1) -> 0 | H47: =TRUNC(G47*D47,1) -> 0 | I47: =TRUNC(단가대비표!V180*1/8*16/12*25/20, 1) -> 0 | J47: =TRUNC(I47*D47,1) -> 0 | K47: =TRUNC(E47+G47+I47,1) -> 0 | L47: =TRUNC(F47+H47+J47,1) -> 0 | M47: 노임 24 | N47: 594724AFE23139C57593EF6BB7BFDE0FC5B0D5C9 | O47: 5E8C94EC72C13745CED1B71BF1C5BDC34711CA | P47: F | Q47: F | R47: T | AW47: 594724AFE23139C57593EF6BB7BFDE0FC5B0D5C95E8C94EC72C13745CED1B71BF1C5BDC34711CA | AX47: T
A48: [ 합 계 ] | F48: =TRUNC(SUMIF(N44:N47, N43, F44:F47),0) -> 0 | H48: =TRUNC(SUMIF(N44:N47, N43, H44:H47),0) -> 0 | J48: =TRUNC(SUMIF(N44:N47, N43, J44:J47),0) -> 0 | L48: =F48+H48+J48 -> 0 | N48: TOTAL | O48: TOTAL
A50: 진동롤러(자주식) 10ton HR 공통 8-3,4(1306) ( 호표 8 ) | N50: 594724AFE23139C57593EC97D89FBFF19F88EE99
A51: 진동롤러(자주식) | B51: 10ton | C51: 대 | D51: 0.2825 | E51: =단가대비표!O12 -> 0 | F51: =TRUNC(E51*D51,1) -> 0 | G51: =단가대비표!P12 -> 0 | H51: =TRUNC(G51*D51,1) -> 0 | I51: =단가대비표!V12 -> 0 | J51: =TRUNC(I51*D51,1) -> 0 | K51: =TRUNC(E51+G51+I51,1) -> 0 | L51: =TRUNC(F51+H51+J51,1) -> 0 | M51: 자재 8 | N51: 594724AFE23139C57593EC97D89FBFF19F88EE99 | O51: 594724AFE23139C57593EC97D89FBFF19F88EE | P51: F | Q51: F | R51: T | AW51: 594724AFE23139C57593EC97D89FBFF19F88EE99594724AFE23139C57593EC97D89FBFF19F88EE
A52: 경유 | B52: 경유, 저유황 | C52: L | D52: 14.4 | E52: =단가대비표!O38 -> 0 | F52: =TRUNC(E52*D52,1) -> 0 | G52: =단가대비표!P38 -> 0 | H52: =TRUNC(G52*D52,1) -> 0 | I52: =단가대비표!V38 -> 0 | J52: =TRUNC(I52*D52,1) -> 0 | K52: =TRUNC(E52+G52+I52,1) -> 0 | L52: =TRUNC(F52+H52+J52,1) -> 0 | M52: 자재 34 | N52: 594724AFE23139C57593EC97D89FBFF19F88EE99 | O52: 5951C4EC42B136D516DA85BCCE3BAC3C5B6F55 | P52: F | Q52: F | R52: T | V52: 1 | AW52: 594724AFE23139C57593EC97D89FBFF19F88EE995951C4EC42B136D516DA85BCCE3BAC3C5B6F55
A53: 잡재료 | B53: 주연료비의 30% | C53: 식 | D53: 1 | E53: =TRUNC(SUMIF(V51:V54, RIGHTB(O53, 1), F51:F54)*U53, 2) -> 0 | F53: =TRUNC(E53*D53,1) -> 0 | G53: 0 | H53: =TRUNC(G53*D53,1) -> 0 | I53: 0 | J53: =TRUNC(I53*D53,1) -> 0 | K53: =TRUNC(E53+G53+I53,1) -> 0 | L53: =TRUNC(F53+H53+J53,1) -> 0 | N53: 594724AFE23139C57593EC97D89FBFF19F88EE99 | O53: 5F49A4CEF20134C5CE0C82457C7C001 | P53: F | Q53: F | R53: F | S53: 0 | T53: 0 | U53: 0.3 | AW53: 594724AFE23139C57593EC97D89FBFF19F88EE995F49A4CEF20134C5CE0C82457C7C001
A54: 건설기계운전사 | B54: 일반공사 직종 | C54: 인 | D54: 1 | E54: =TRUNC(단가대비표!O178*1/8*16/12*25/20, 1) -> 0 | F54: =TRUNC(E54*D54,1) -> 0 | G54: =TRUNC(단가대비표!P178*1/8*16/12*25/20, 1) -> 0 | H54: =TRUNC(G54*D54,1) -> 0 | I54: =TRUNC(단가대비표!V178*1/8*16/12*25/20, 1) -> 0 | J54: =TRUNC(I54*D54,1) -> 0 | K54: =TRUNC(E54+G54+I54,1) -> 0 | L54: =TRUNC(F54+H54+J54,1) -> 0 | M54: 노임 22 | N54: 594724AFE23139C57593EC97D89FBFF19F88EE99 | O54: 5E8C94EC72C13745CED1B71BF1C5BDC347102B | P54: F | Q54: F | R54: T | AW54: 594724AFE23139C57593EC97D89FBFF19F88EE995E8C94EC72C13745CED1B71BF1C5BDC347102B | AX54: T
A55: [ 합 계 ] | F55: =TRUNC(SUMIF(N51:N54, N50, F51:F54),0) -> 0 | H55: =TRUNC(SUMIF(N51:N54, N50, H51:H54),0) -> 0 | J55: =TRUNC(SUMIF(N51:N54, N50, J51:J54),0) -> 0 | L55: =F55+H55+J55 -> 0 | N55: TOTAL | O55: TOTAL
A57: 플레이트 콤팩터 1.5ton HR 공통 8-3,4(1730) ( 호표 9 ) | N57: 594724AFE23139C5713B4F0654817F4CD57DD27E
A58: 플레이트 콤팩터 | B58: 1.5ton | C58: 대 | D58: 0.3708 | E58: =단가대비표!O13 -> 0 | F58: =TRUNC(E58*D58,1) -> 0 | G58: =단가대비표!P13 -> 0 | H58: =TRUNC(G58*D58,1) -> 0 | I58: =단가대비표!V13 -> 0 | J58: =TRUNC(I58*D58,1) -> 0 | K58: =TRUNC(E58+G58+I58,1) -> 0 | L58: =TRUNC(F58+H58+J58,1) -> 0 | M58: 자재 9 | N58: 594724AFE23139C5713B4F0654817F4CD57DD27E | O58: 594724AFE23139C5713B4F0654817F4CD57DD2 | P58: F | Q58: F | R58: T | AW58: 594724AFE23139C5713B4F0654817F4CD57DD27E594724AFE23139C5713B4F0654817F4CD57DD2
A59: 공업용휘발유 | B59: 공업용휘발유, 무연 | C59: L | D59: 1 | E59: =단가대비표!O39 -> 0 | F59: =TRUNC(E59*D59,1) -> 0 | G59: =단가대비표!P39 -> 0 | H59: =TRUNC(G59*D59,1) -> 0 | I59: =단가대비표!V39 -> 0 | J59: =TRUNC(I59*D59,1) -> 0 | K59: =TRUNC(E59+G59+I59,1) -> 0 | L59: =TRUNC(F59+H59+J59,1) -> 0 | M59: 자재 35 | N59: 594724AFE23139C5713B4F0654817F4CD57DD27E | O59: 5951C4EC42B136D516DA86477B6A8D79AE3A0D | P59: F | Q59: F | R59: T | V59: 1 | AW59: 594724AFE23139C5713B4F0654817F4CD57DD27E5951C4EC42B136D516DA86477B6A8D79AE3A0D
A60: 잡재료 | B60: 주연료비의 20% | C60: 식 | D60: 1 | E60: =TRUNC(SUMIF(V58:V61, RIGHTB(O60, 1), F58:F61)*U60, 2) -> 0 | F60: =TRUNC(E60*D60,1) -> 0 | G60: 0 | H60: =TRUNC(G60*D60,1) -> 0 | I60: 0 | J60: =TRUNC(I60*D60,1) -> 0 | K60: =TRUNC(E60+G60+I60,1) -> 0 | L60: =TRUNC(F60+H60+J60,1) -> 0 | N60: 594724AFE23139C5713B4F0654817F4CD57DD27E | O60: 5F49A4CEF20134C5CE0C82457C7C001 | P60: F | Q60: F | R60: F | S60: 0 | T60: 0 | U60: 0.2 | AW60: 594724AFE23139C5713B4F0654817F4CD57DD27E5F49A4CEF20134C5CE0C82457C7C001
A61: 일반기계운전사 | B61: 일반공사 직종 | C61: 인 | D61: 1 | E61: =TRUNC(단가대비표!O180*1/8*16/12*25/20, 1) -> 0 | F61: =TRUNC(E61*D61,1) -> 0 | G61: =TRUNC(단가대비표!P180*1/8*16/12*25/20, 1) -> 0 | H61: =TRUNC(G61*D61,1) -> 0 | I61: =TRUNC(단가대비표!V180*1/8*16/12*25/20, 1) -> 0 | J61: =TRUNC(I61*D61,1) -> 0 | K61: =TRUNC(E61+G61+I61,1) -> 0 | L61: =TRUNC(F61+H61+J61,1) -> 0 | M61: 노임 24 | N61: 594724AFE23139C5713B4F0654817F4CD57DD27E | O61: 5E8C94EC72C13745CED1B71BF1C5BDC34711CA | P61: F | Q61: F | R61: T | AW61: 594724AFE23139C5713B4F0654817F4CD57DD27E5E8C94EC72C13745CED1B71BF1C5BDC34711CA | AX61: T
A62: [ 합 계 ] | F62: =TRUNC(SUMIF(N58:N61, N57, F58:F61),0) -> 0 | H62: =TRUNC(SUMIF(N58:N61, N57, H58:H61),0) -> 0 | J62: =TRUNC(SUMIF(N58:N61, N57, J58:J61),0) -> 0 | L62: =F62+H62+J62 -> 0 | N62: TOTAL | O62: TOTAL
A64: 커터(콘크리트 및 아스팔트용) 320∼400mm HR 공통 8-3,4(4430) ( 호표 10 ) | N64: 594724AFE2313995A6B59E9F48C667F96D4262F5
A65: 커터(콘크리트 및 아스팔트용) | B65: 320∼400mm | C65: 대 | D65: 0.6354 | E65: =단가대비표!O14 -> 0 | F65: =TRUNC(E65*D65,1) -> 0 | G65: =단가대비표!P14 -> 0 | H65: =TRUNC(G65*D65,1) -> 0 | I65: =단가대비표!V14 -> 0 | J65: =TRUNC(I65*D65,1) -> 0 | K65: =TRUNC(E65+G65+I65,1) -> 0 | L65: =TRUNC(F65+H65+J65,1) -> 0 | M65: 자재 10 | N65: 594724AFE2313995A6B59E9F48C667F96D4262F5 | O65: 594724AFE2313995A6B59E9F48C667F96D4262 | P65: F | Q65: F | R65: T | AW65: 594724AFE2313995A6B59E9F48C667F96D4262F5594724AFE2313995A6B59E9F48C667F96D4262
A66: 공업용휘발유 | B66: 공업용휘발유, 무연 | C66: L | D66: 5.6 | E66: =단가대비표!O39 -> 0 | F66: =TRUNC(E66*D66,1) -> 0 | G66: =단가대비표!P39 -> 0 | H66: =TRUNC(G66*D66,1) -> 0 | I66: =단가대비표!V39 -> 0 | J66: =TRUNC(I66*D66,1) -> 0 | K66: =TRUNC(E66+G66+I66,1) -> 0 | L66: =TRUNC(F66+H66+J66,1) -> 0 | M66: 자재 35 | N66: 594724AFE2313995A6B59E9F48C667F96D4262F5 | O66: 5951C4EC42B136D516DA86477B6A8D79AE3A0D | P66: F | Q66: F | R66: T | V66: 1 | AW66: 594724AFE2313995A6B59E9F48C667F96D4262F55951C4EC42B136D516DA86477B6A8D79AE3A0D
A67: 잡재료 | B67: 주연료비의 20% | C67: 식 | D67: 1 | E67: =TRUNC(SUMIF(V65:V68, RIGHTB(O67, 1), F65:F68)*U67, 2) -> 0 | F67: =TRUNC(E67*D67,1) -> 0 | G67: 0 | H67: =TRUNC(G67*D67,1) -> 0 | I67: 0 | J67: =TRUNC(I67*D67,1) -> 0 | K67: =TRUNC(E67+G67+I67,1) -> 0 | L67: =TRUNC(F67+H67+J67,1) -> 0 | N67: 594724AFE2313995A6B59E9F48C667F96D4262F5 | O67: 5F49A4CEF20134C5CE0C82457C7C001 | P67: F | Q67: F | R67: F | S67: 0 | T67: 0 | U67: 0.2 | AW67: 594724AFE2313995A6B59E9F48C667F96D4262F55F49A4CEF20134C5CE0C82457C7C001
A68: 일반기계운전사 | B68: 일반공사 직종 | C68: 인 | D68: 1 | E68: =TRUNC(단가대비표!O180*1/8*16/12*25/20, 1) -> 0 | F68: =TRUNC(E68*D68,1) -> 0 | G68: =TRUNC(단가대비표!P180*1/8*16/12*25/20, 1) -> 0 | H68: =TRUNC(G68*D68,1) -> 0 | I68: =TRUNC(단가대비표!V180*1/8*16/12*25/20, 1) -> 0 | J68: =TRUNC(I68*D68,1) -> 0 | K68: =TRUNC(E68+G68+I68,1) -> 0 | L68: =TRUNC(F68+H68+J68,1) -> 0 | M68: 노임 24 | N68: 594724AFE2313995A6B59E9F48C667F96D4262F5 | O68: 5E8C94EC72C13745CED1B71BF1C5BDC34711CA | P68: F | Q68: F | R68: T | AW68: 594724AFE2313995A6B59E9F48C667F96D4262F55E8C94EC72C13745CED1B71BF1C5BDC34711CA | AX68: T
A69: [ 합 계 ] | F69: =TRUNC(SUMIF(N65:N68, N64, F65:F68),0) -> 0 | H69: =TRUNC(SUMIF(N65:N68, N64, H65:H68),0) -> 0 | J69: =TRUNC(SUMIF(N65:N68, N64, J65:J68),0) -> 0 | L69: =F69+H69+J69 -> 0 | N69: TOTAL | O69: TOTAL
A71: 콘크리트 펌프차 36m(80∼95㎥/hr) HR 공통 8-3,4(4504) ( 호표 11 ) | N71: 594724AFE2313995A75D2B1F3C15481CCF22F80D
A72: 콘크리트 펌프차 | B72: 36m(80∼95㎥/hr) | C72: 대 | D72: 0.264 | E72: =단가대비표!O15 -> 0 | F72: =TRUNC(E72*D72,1) -> 0 | G72: =단가대비표!P15 -> 0 | H72: =TRUNC(G72*D72,1) -> 0 | I72: =단가대비표!V15 -> 0 | J72: =TRUNC(I72*D72,1) -> 0 | K72: =TRUNC(E72+G72+I72,1) -> 0 | L72: =TRUNC(F72+H72+J72,1) -> 0 | M72: 자재 11 | N72: 594724AFE2313995A75D2B1F3C15481CCF22F80D | O72: 594724AFE2313995A75D2B1F3C15481CCF22F8 | P72: F | Q72: F | R72: T | AW72: 594724AFE2313995A75D2B1F3C15481CCF22F80D594724AFE2313995A75D2B1F3C15481CCF22F8
A73: 경유 | B73: 경유, 저유황 | C73: L | D73: 17.7 | E73: =단가대비표!O38 -> 0 | F73: =TRUNC(E73*D73,1) -> 0 | G73: =단가대비표!P38 -> 0 | H73: =TRUNC(G73*D73,1) -> 0 | I73: =단가대비표!V38 -> 0 | J73: =TRUNC(I73*D73,1) -> 0 | K73: =TRUNC(E73+G73+I73,1) -> 0 | L73: =TRUNC(F73+H73+J73,1) -> 0 | M73: 자재 34 | N73: 594724AFE2313995A75D2B1F3C15481CCF22F80D | O73: 5951C4EC42B136D516DA85BCCE3BAC3C5B6F55 | P73: F | Q73: F | R73: T | V73: 1 | AW73: 594724AFE2313995A75D2B1F3C15481CCF22F80D5951C4EC42B136D516DA85BCCE3BAC3C5B6F55
A74: 잡재료 | B74: 주연료비의 35% | C74: 식 | D74: 1 | E74: =TRUNC(SUMIF(V72:V75, RIGHTB(O74, 1), F72:F75)*U74, 2) -> 0 | F74: =TRUNC(E74*D74,1) -> 0 | G74: 0 | H74: =TRUNC(G74*D74,1) -> 0 | I74: 0 | J74: =TRUNC(I74*D74,1) -> 0 | K74: =TRUNC(E74+G74+I74,1) -> 0 | L74: =TRUNC(F74+H74+J74,1) -> 0 | N74: 594724AFE2313995A75D2B1F3C15481CCF22F80D | O74: 5F49A4CEF20134C5CE0C82457C7C001 | P74: F | Q74: F | R74: F | S74: 0 | T74: 0 | U74: 0.35 | AW74: 594724AFE2313995A75D2B1F3C15481CCF22F80D5F49A4CEF20134C5CE0C82457C7C001
A75: 건설기계운전사 | B75: 일반공사 직종 | C75: 인 | D75: 1 | E75: =TRUNC(단가대비표!O178*1/8*16/12*25/20, 1) -> 0 | F75: =TRUNC(E75*D75,1) -> 0 | G75: =TRUNC(단가대비표!P178*1/8*16/12*25/20, 1) -> 0 | H75: =TRUNC(G75*D75,1) -> 0 | I75: =TRUNC(단가대비표!V178*1/8*16/12*25/20, 1) -> 0 | J75: =TRUNC(I75*D75,1) -> 0 | K75: =TRUNC(E75+G75+I75,1) -> 0 | L75: =TRUNC(F75+H75+J75,1) -> 0 | M75: 노임 22 | N75: 594724AFE2313995A75D2B1F3C15481CCF22F80D | O75: 5E8C94EC72C13745CED1B71BF1C5BDC347102B | P75: F | Q75: F | R75: T | AW75: 594724AFE2313995A75D2B1F3C15481CCF22F80D5E8C94EC72C13745CED1B71BF1C5BDC347102B | AX75: T
A76: [ 합 계 ] | F76: =TRUNC(SUMIF(N72:N75, N71, F72:F75),0) -> 0 | H76: =TRUNC(SUMIF(N72:N75, N71, H72:H75),0) -> 0 | J76: =TRUNC(SUMIF(N72:N75, N71, J72:J75),0) -> 0 | L76: =F76+H76+J76 -> 0 | N76: TOTAL | O76: TOTAL
A78: 소형브레이커(전기식) 1.5kw HR 공통 8-3(5220) ( 호표 12 ) | N78: 594724AFE2313985993EB6DBC03BD51AA24EA752
A79: 소형브레이커(전기식) | B79: 1.5kw | C79: 대 | D79: 0.25 | E79: =단가대비표!O16 -> 0 | F79: =TRUNC(E79*D79,1) -> 0 | G79: =단가대비표!P16 -> 0 | H79: =TRUNC(G79*D79,1) -> 0 | I79: =단가대비표!V16 -> 0 | J79: =TRUNC(I79*D79,1) -> 0 | K79: =TRUNC(E79+G79+I79,1) -> 0 | L79: =TRUNC(F79+H79+J79,1) -> 0 | M79: 자재 12 | N79: 594724AFE2313985993EB6DBC03BD51AA24EA752 | O79: 594724AFE2313985993EB6DBC03BD51AA24EA7 | P79: F | Q79: F | R79: T | AW79: 594724AFE2313985993EB6DBC03BD51AA24EA752594724AFE2313985993EB6DBC03BD51AA24EA7
A80: [ 합 계 ] | F80: =TRUNC(SUMIF(N79:N79, N78, F79:F79),0) -> 0 | H80: =TRUNC(SUMIF(N79:N79, N78, H79:H79),0) -> 0 | J80: =TRUNC(SUMIF(N79:N79, N78, J79:J79),0) -> 0 | L80: =F80+H80+J80 -> 0 | N80: TOTAL | O80: TOTAL
A82: 물탱크(살수차) 5500L HR 공통 8-3,4(7204) ( 호표 13 ) | N82: 594724AFE23139A54A6CCB36D7B9A3D9951F1477
A83: 물탱크(살수차) | B83: 5500L | C83: 대 | D83: 0.2113 | E83: =단가대비표!O17 -> 0 | F83: =TRUNC(E83*D83,1) -> 0 | G83: =단가대비표!P17 -> 0 | H83: =TRUNC(G83*D83,1) -> 0 | I83: =단가대비표!V17 -> 0 | J83: =TRUNC(I83*D83,1) -> 0 | K83: =TRUNC(E83+G83+I83,1) -> 0 | L83: =TRUNC(F83+H83+J83,1) -> 0 | M83: 자재 13 | N83: 594724AFE23139A54A6CCB36D7B9A3D9951F1477 | O83: 594724AFE23139A54A6CCB36D7B9A3D9951F14 | P83: F | Q83: F | R83: T | AW83: 594724AFE23139A54A6CCB36D7B9A3D9951F1477594724AFE23139A54A6CCB36D7B9A3D9951F14
A84: 경유 | B84: 경유, 저유황 | C84: L | D84: 9.3 | E84: =단가대비표!O38 -> 0 | F84: =TRUNC(E84*D84,1) -> 0 | G84: =단가대비표!P38 -> 0 | H84: =TRUNC(G84*D84,1) -> 0 | I84: =단가대비표!V38 -> 0 | J84: =TRUNC(I84*D84,1) -> 0 | K84: =TRUNC(E84+G84+I84,1) -> 0 | L84: =TRUNC(F84+H84+J84,1) -> 0 | M84: 자재 34 | N84: 594724AFE23139A54A6CCB36D7B9A3D9951F1477 | O84: 5951C4EC42B136D516DA85BCCE3BAC3C5B6F55 | P84: F | Q84: F | R84: T | V84: 1 | AW84: 594724AFE23139A54A6CCB36D7B9A3D9951F14775951C4EC42B136D516DA85BCCE3BAC3C5B6F55
A85: 잡재료 | B85: 주연료비의 30% | C85: 식 | D85: 1 | E85: =TRUNC(SUMIF(V83:V86, RIGHTB(O85, 1), F83:F86)*U85, 2) -> 0 | F85: =TRUNC(E85*D85,1) -> 0 | G85: 0 | H85: =TRUNC(G85*D85,1) -> 0 | I85: 0 | J85: =TRUNC(I85*D85,1) -> 0 | K85: =TRUNC(E85+G85+I85,1) -> 0 | L85: =TRUNC(F85+H85+J85,1) -> 0 | N85: 594724AFE23139A54A6CCB36D7B9A3D9951F1477 | O85: 5F49A4CEF20134C5CE0C82457C7C001 | P85: F | Q85: F | R85: F | S85: 0 | T85: 0 | U85: 0.3 | AW85: 594724AFE23139A54A6CCB36D7B9A3D9951F14775F49A4CEF20134C5CE0C82457C7C001
A86: 화물차운전사 | B86: 일반공사 직종 | C86: 인 | D86: 1 | E86: =TRUNC(단가대비표!O179*1/8*16/12*25/20, 1) -> 0 | F86: =TRUNC(E86*D86,1) -> 0 | G86: =TRUNC(단가대비표!P179*1/8*16/12*25/20, 1) -> 0 | H86: =TRUNC(G86*D86,1) -> 0 | I86: =TRUNC(단가대비표!V179*1/8*16/12*25/20, 1) -> 0 | J86: =TRUNC(I86*D86,1) -> 0 | K86: =TRUNC(E86+G86+I86,1) -> 0 | L86: =TRUNC(F86+H86+J86,1) -> 0 | M86: 노임 23 | N86: 594724AFE23139A54A6CCB36D7B9A3D9951F1477 | O86: 5E8C94EC72C13745CED1B71BF1C5BDC347102A | P86: F | Q86: F | R86: T | AW86: 594724AFE23139A54A6CCB36D7B9A3D9951F14775E8C94EC72C13745CED1B71BF1C5BDC347102A | AX86: T
A87: [ 합 계 ] | F87: =TRUNC(SUMIF(N83:N86, N82, F83:F86),0) -> 0 | H87: =TRUNC(SUMIF(N83:N86, N82, H83:H86),0) -> 0 | J87: =TRUNC(SUMIF(N83:N86, N82, J83:J86),0) -> 0 | L87: =F87+H87+J87 -> 0 | N87: TOTAL | O87: TOTAL
A89: 우레탄폼 분사용기구 8.1kg/min HR 공통 8-3(7830) ( 호표 14 ) | N89: 594724AFE23139A5406B4F64419F68BBC5C35010
A90: 우레탄폼 분사용기구 | B90: 8.1kg/min | C90: 대 | D90: 0.3026 | E90: =단가대비표!O18 -> 0 | F90: =TRUNC(E90*D90,1) -> 0 | G90: =단가대비표!P18 -> 0 | H90: =TRUNC(G90*D90,1) -> 0 | I90: =단가대비표!V18 -> 0 | J90: =TRUNC(I90*D90,1) -> 0 | K90: =TRUNC(E90+G90+I90,1) -> 0 | L90: =TRUNC(F90+H90+J90,1) -> 0 | M90: 자재 14 | N90: 594724AFE23139A5406B4F64419F68BBC5C35010 | O90: 594724AFE23139A5406B4F64419F68BBC5C350 | P90: F | Q90: F | R90: T | AW90: 594724AFE23139A5406B4F64419F68BBC5C35010594724AFE23139A5406B4F64419F68BBC5C350
A91: [ 합 계 ] | F91: =TRUNC(SUMIF(N90:N90, N89, F90:F90),0) -> 0 | H91: =TRUNC(SUMIF(N90:N90, N89, H90:H90),0) -> 0 | J91: =TRUNC(SUMIF(N90:N90, N89, J90:J90),0) -> 0 | L91: =F91+H91+J91 -> 0 | N91: TOTAL | O91: TOTAL | AX91: T
A93: 세로형 가설방음판 설치 설치높이 6m 이하 M 공통 2-4-4 ( 호표 15 ) | N93: 5E50444532D13305E0230A37D883DC
A94: 비계공 | B94: 일반공사 직종 | C94: 인 | D94: 0.028 | E94: =단가대비표!O159 -> 0 | F94: =TRUNC(E94*D94,1) -> 0 | G94: =단가대비표!P159 -> 0 | H94: =TRUNC(G94*D94,1) -> 0 | I94: =단가대비표!V159 -> 0 | J94: =TRUNC(I94*D94,1) -> 0 | K94: =TRUNC(E94+G94+I94,1) -> 0 | L94: =TRUNC(F94+H94+J94,1) -> 0 | M94: 금액제외 | O94: 5E8C94EC72C13745CED1B71BF1C5BDC3471498 | P94: F | Q94: F | R94: T | V94: 1 | W94: 2 | AW94: 5E50444532D13305E0230A37D883DC5E8C94EC72C13745CED1B71BF1C5BDC3471498 | AY94: -
A95: 보통인부 | B95: 일반공사 직종 | C95: 인 | D95: 0.01 | E95: =단가대비표!O157 -> 0 | F95: =TRUNC(E95*D95,1) -> 0 | G95: =단가대비표!P157 -> 0 | H95: =TRUNC(G95*D95,1) -> 0 | I95: =단가대비표!V157 -> 0 | J95: =TRUNC(I95*D95,1) -> 0 | K95: =TRUNC(E95+G95+I95,1) -> 0 | L95: =TRUNC(F95+H95+J95,1) -> 0 | M95: 금액제외 | O95: 5E8C94EC72C13745CED1B71BF1C5BDC347149C | P95: F | Q95: F | R95: T | V95: 1 | W95: 2 | AW95: 5E50444532D13305E0230A37D883DC5E8C94EC72C13745CED1B71BF1C5BDC347149C | AY95: -
A96: 공구손료 | B96: 인력품의 3% | C96: 식 | D96: 1 | E96: 0 | F96: =TRUNC(E96*D96,1) -> 0 | G96: 0 | H96: =TRUNC(G96*D96,1) -> 0 | I96: =TRUNC(SUMIF(V94:V97, RIGHTB(O96, 1), H94:H97)*U96, 2) -> 0 | J96: =TRUNC(I96*D96,1) -> 0 | K96: =TRUNC(E96+G96+I96,1) -> 0 | L96: =TRUNC(F96+H96+J96,1) -> 0 | M96: 금액제외 | O96: 5F49A4CEF20134C5CE0C82457C7C001 | P96: F | Q96: F | R96: F | S96: 1 | T96: 2 | U96: 0.03 | W96: 2 | AW96: 5E50444532D13305E0230A37D883DC5F49A4CEF20134C5CE0C82457C7C001 | AY96: -
A97: 경비로 적용 | B97: 합계의 100% | C97: 식 | D97: 1 | E97: 0 | F97: =TRUNC(E97*D97,1) -> 0 | G97: 0 | H97: =TRUNC(G97*D97,1) -> 0 | I97: =TRUNC(SUMIF(W94:W97, RIGHTB(O97, 1), L94:L97)*U97, 2) -> 0 | J97: =TRUNC(I97*D97,1) -> 0 | K97: =TRUNC(E97+G97+I97,1) -> 0 | L97: =TRUNC(F97+H97+J97,1) -> 0 | N97: 5E50444532D13305E0230A37D883DC | O97: 5F49A4CEF20134C5CE0C82457C7F002 | P97: F | Q97: F | R97: F | S97: 3 | T97: 2 | U97: 1 | AW97: 5E50444532D13305E0230A37D883DC5F49A4CEF20134C5CE0C82457C7F002
A98: [ 합 계 ] | F98: =TRUNC(SUMIF(N94:N97, N93, F94:F97),0) -> 0 | H98: =TRUNC(SUMIF(N94:N97, N93, H94:H97),0) -> 0 | J98: =TRUNC(SUMIF(N94:N97, N93, J94:J97),0) -> 0 | L98: =F98+H98+J98 -> 0 | N98: TOTAL | O98: TOTAL
A100: 세로형 가설방음판 해체 설치높이 6m 이하 M 공통 2-4-4 ( 호표 16 ) | N100: 5E50444532D13305E0230A37D88235
A101: 비계공 | B101: 일반공사 직종 | C101: 인 | D101: 0.011 | E101: =단가대비표!O159 -> 0 | F101: =TRUNC(E101*D101,1) -> 0 | G101: =단가대비표!P159 -> 0 | H101: =TRUNC(G101*D101,1) -> 0 | I101: =단가대비표!V159 -> 0 | J101: =TRUNC(I101*D101,1) -> 0 | K101: =TRUNC(E101+G101+I101,1) -> 0 | L101: =TRUNC(F101+H101+J101,1) -> 0 | M101: 금액제외 | O101: 5E8C94EC72C13745CED1B71BF1C5BDC3471498 | P101: F | Q101: F | R101: T | V101: 1 | W101: 2 | AW101: 5E50444532D13305E0230A37D882355E8C94EC72C13745CED1B71BF1C5BDC3471498 | AY101: -
A102: 보통인부 | B102: 일반공사 직종 | C102: 인 | D102: 0.004 | E102: =단가대비표!O157 -> 0 | F102: =TRUNC(E102*D102,1) -> 0 | G102: =단가대비표!P157 -> 0 | H102: =TRUNC(G102*D102,1) -> 0 | I102: =단가대비표!V157 -> 0 | J102: =TRUNC(I102*D102,1) -> 0 | K102: =TRUNC(E102+G102+I102,1) -> 0 | L102: =TRUNC(F102+H102+J102,1) -> 0 | M102: 금액제외 | O102: 5E8C94EC72C13745CED1B71BF1C5BDC347149C | P102: F | Q102: F | R102: T | V102: 1 | W102: 2 | AW102: 5E50444532D13305E0230A37D882355E8C94EC72C13745CED1B71BF1C5BDC347149C | AY102: -
A103: 공구손료 | B103: 인력품의 3% | C103: 식 | D103: 1 | E103: 0 | F103: =TRUNC(E103*D103,1) -> 0 | G103: 0 | H103: =TRUNC(G103*D103,1) -> 0 | I103: =TRUNC(SUMIF(V101:V104, RIGHTB(O103, 1), H101:H104)*U103, 2) -> 0 | J103: =TRUNC(I103*D103,1) -> 0 | K103: =TRUNC(E103+G103+I103,1) -> 0 | L103: =TRUNC(F103+H103+J103,1) -> 0 | M103: 금액제외 | O103: 5F49A4CEF20134C5CE0C82457C7C001 | P103: F | Q103: F | R103: F | S103: 1 | T103: 2 | U103: 0.03 | W103: 2 | AW103: 5E50444532D13305E0230A37D882355F49A4CEF20134C5CE0C82457C7C001 | AY103: -
A104: 경비로 적용 | B104: 합계의 100% | C104: 식 | D104: 1 | E104: 0 | F104: =TRUNC(E104*D104,1) -> 0 | G104: 0 | H104: =TRUNC(G104*D104,1) -> 0 | I104: =TRUNC(SUMIF(W101:W104, RIGHTB(O104, 1), L101:L104)*U104, 2) -> 0 | J104: =TRUNC(I104*D104,1) -> 0 | K104: =TRUNC(E104+G104+I104,1) -> 0 | L104: =TRUNC(F104+H104+J104,1) -> 0 | N104: 5E50444532D13305E0230A37D88235 | O104: 5F49A4CEF20134C5CE0C82457C7F002 | P104: F | Q104: F | R104: F | S104: 3 | T104: 2 | U104: 1 | AW104: 5E50444532D13305E0230A37D882355F49A4CEF20134C5CE0C82457C7F002
A105: [ 합 계 ] | F105: =TRUNC(SUMIF(N101:N104, N100, F101:F104),0) -> 0 | H105: =TRUNC(SUMIF(N101:N104, N100, H101:H104),0) -> 0 | J105: =TRUNC(SUMIF(N101:N104, N100, J101:J104),0) -> 0 | L105: =F105+H105+J105 -> 0 | N105: TOTAL | O105: TOTAL
A107: RPP가설방음판 설치 및 해체 H:4100, 3개월 M ( 호표 17 ) | N107: 5E50444532D13305E022634A9AB92D
A108: 가설방음판 | B108: 가설방음판, 플라스틱, 1980-2000*500*30mm | C108: 매 | D108: 4.1 | E108: =단가대비표!O64 -> 0 | F108: =TRUNC(E108*D108,1) -> 0 | G108: =단가대비표!P64 -> 0 | H108: =TRUNC(G108*D108,1) -> 0 | I108: =단가대비표!V64 -> 0 | J108: =TRUNC(I108*D108,1) -> 0 | K108: =TRUNC(E108+G108+I108,1) -> 0 | L108: =TRUNC(F108+H108+J108,1) -> 0 | M108: 금액제외 | O108: 597C64ACC2C136F54DE50BE94A3F1805C58FB1 | P108: F | Q108: F | R108: T | V108: 1 | AW108: 5E50444532D13305E022634A9AB92D597C64ACC2C136F54DE50BE94A3F1805C58FB1 | AY108: -
A109: 강관비계 | B109: 강관비계, 비계파이프, 48.6*2.3mm | C109: M | D109: 13.5 | E109: =단가대비표!O98 -> 0 | F109: =TRUNC(E109*D109,1) -> 0 | G109: =단가대비표!P98 -> 0 | H109: =TRUNC(G109*D109,1) -> 0 | I109: =단가대비표!V98 -> 0 | J109: =TRUNC(I109*D109,1) -> 0 | K109: =TRUNC(E109+G109+I109,1) -> 0 | L109: =TRUNC(F109+H109+J109,1) -> 0 | M109: 금액제외 | O109: 597C64ACC2713ED50A2FB46B80EF7CCD29C06E | P109: F | Q109: F | R109: T | V109: 1 | AW109: 5E50444532D13305E022634A9AB92D597C64ACC2713ED50A2FB46B80EF7CCD29C06E | AY109: -
A110: 강관비계 부속철물 | B110: 클램프 고정, 자동 | C110: 개 | D110: 5 | E110: =단가대비표!O100 -> 0 | F110: =TRUNC(E110*D110,1) -> 0 | G110: =단가대비표!P100 -> 0 | H110: =TRUNC(G110*D110,1) -> 0 | I110: =단가대비표!V100 -> 0 | J110: =TRUNC(I110*D110,1) -> 0 | K110: =TRUNC(E110+G110+I110,1) -> 0 | L110: =TRUNC(F110+H110+J110,1) -> 0 | M110: 금액제외 | O110: 597C64ACC2713ED50A2FB46B80EF7CCD28217F | P110: F | Q110: F | R110: T | V110: 1 | AW110: 5E50444532D13305E022634A9AB92D597C64ACC2713ED50A2FB46B80EF7CCD28217F | AY110: -
A111: 강관비계 부속철물 | B111: 이음철물, 연결핀 | C111: 개 | D111: 1 | E111: =단가대비표!O99 -> 0 | F111: =TRUNC(E111*D111,1) -> 0 | G111: =단가대비표!P99 -> 0 | H111: =TRUNC(G111*D111,1) -> 0 | I111: =단가대비표!V99 -> 0 | J111: =TRUNC(I111*D111,1) -> 0 | K111: =TRUNC(E111+G111+I111,1) -> 0 | L111: =TRUNC(F111+H111+J111,1) -> 0 | M111: 금액제외 | O111: 597C64ACC2713ED50A2FB46B80EF7CCD282178 | P111: F | Q111: F | R111: T | V111: 1 | AW111: 5E50444532D13305E022634A9AB92D597C64ACC2713ED50A2FB46B80EF7CCD282178 | AY111: -
A112: 조립식 가설울타리 부재 | B112: 볼트/넛트 | C112: 개 | D112: 24 | E112: =단가대비표!O111 -> 0 | F112: =TRUNC(E112*D112,1) -> 0 | G112: =단가대비표!P111 -> 0 | H112: =TRUNC(G112*D112,1) -> 0 | I112: =단가대비표!V111 -> 0 | J112: =TRUNC(I112*D112,1) -> 0 | K112: =TRUNC(E112+G112+I112,1) -> 0 | L112: =TRUNC(F112+H112+J112,1) -> 0 | M112: 금액제외 | O112: 597C64ACC2713ED50908ABA4FFAB20FB6F4042 | P112: F | Q112: F | R112: T | V112: 1 | AW112: 5E50444532D13305E022634A9AB92D597C64ACC2713ED50908ABA4FFAB20FB6F4042 | AY112: -
A113: 6개월 손율 | B113: 합계의 36% | C113: 식 | D113: 1 | E113: 0 | F113: =TRUNC(E113*D113,1) -> 0 | G113: 0 | H113: =TRUNC(G113*D113,1) -> 0 | I113: =TRUNC(SUMIF(V108:V117, RIGHTB(O113, 1), L108:L117)*U113, 2) -> 0 | J113: =TRUNC(I113*D113,1) -> 0 | K113: =TRUNC(E113+G113+I113,1) -> 0 | L113: =TRUNC(F113+H113+J113,1) -> 0 | N113: 5E50444532D13305E022634A9AB92D | O113: 5F49A4CEF20134C5CE0C82457C7C001 | P113: F | Q113: F | R113: F | S113: 3 | T113: 2 | U113: 0.36 | AW113: 5E50444532D13305E022634A9AB92D5F49A4CEF20134C5CE0C82457C79004
A114: CONC인력비빔타설 / 가설 | B114: 무근울타리기초 | C114: M3 | D114: 0.038 | E114: =일위대가목록!E26 -> 0 | F114: =TRUNC(E114*D114,1) -> 0 | G114: =일위대가목록!F26 -> 0 | H114: =TRUNC(G114*D114,1) -> 0 | I114: =일위대가목록!G26 -> 0 | J114: =TRUNC(I114*D114,1) -> 0 | K114: =TRUNC(E114+G114+I114,1) -> 0 | L114: =TRUNC(F114+H114+J114,1) -> 0 | M114: 금액제외 | O114: 5E504446C2113FA50D62B3A6B076B1 | P114: T | Q114: F | R114: F | W114: 2 | AW114: 5E50444532D13305E022634A9AB92D5E504446C2113FA50D62B3A6B076B1 | AY114: -
A115: 세로형 가설방음판 설치 | B115: 설치높이 6m 이하 | C115: M | D115: 1 | E115: =일위대가목록!E18 -> 0 | F115: =TRUNC(E115*D115,1) -> 0 | G115: =일위대가목록!F18 -> 0 | H115: =TRUNC(G115*D115,1) -> 0 | I115: =일위대가목록!G18 -> 0 | J115: =TRUNC(I115*D115,1) -> 0 | K115: =TRUNC(E115+G115+I115,1) -> 0 | L115: =TRUNC(F115+H115+J115,1) -> 0 | M115: 금액제외 | O115: 5E50444532D13305E0230A37D883DC | P115: T | Q115: F | R115: F | W115: 2 | AW115: 5E50444532D13305E022634A9AB92D5E50444532D13305E0230A37D883DC | AY115: -
A116: 세로형 가설방음판 해체 | B116: 설치높이 6m 이하 | C116: M | D116: 1 | E116: =일위대가목록!E19 -> 0 | F116: =TRUNC(E116*D116,1) -> 0 | G116: =일위대가목록!F19 -> 0 | H116: =TRUNC(G116*D116,1) -> 0 | I116: =일위대가목록!G19 -> 0 | J116: =TRUNC(I116*D116,1) -> 0 | K116: =TRUNC(E116+G116+I116,1) -> 0 | L116: =TRUNC(F116+H116+J116,1) -> 0 | M116: 금액제외 | O116: 5E50444532D13305E0230A37D88235 | P116: T | Q116: F | R116: F | W116: 2 | AW116: 5E50444532D13305E022634A9AB92D5E50444532D13305E0230A37D88235 | AY116: -
...

Sheet 단가산출목록
B1: 단 가 산 출 목 록
B2: [ 한국문화예술위원회 나주청사 리모델링공사 ]
A3: 코 드 | B3: 품 명 | C3: 규 격 | D3: 단위 | E3: 재 료 비 | F3: 노 무 비 | G3: 경 비 | H3: 합 계 | I3: 번 호 | J3: 비 고 | K3: START | L3: 품셈개요
A4: 5E756437F25131250767FD84CBE32F | B4: 터파기/토사 | C4: 보통, 굴착기 0.7m3 | D4: M3 | H4: =단가산출서!E20 -> 0 | I4: 산근 1 | K4: 5E756437F25131250767FD84CBE32F | L4: 공통 8-2-3
A5: 5E75643432C132B5149A3F5D45135E | B5: 토사 운반/단지외 10km | C5: 보통, 덤프 15ton+굴착기 0.7m3(고르기 별도) | D5: M3 | H5: =단가산출서!E69 -> 0 | I5: 산근 2 | K5: 5E75643432C132B5149A3F5D45135E | L5: 공통 8-2-8

Sheet 단가산출서
A1: 단 가 산 출 서
A2: [ 한국문화예술위원회 나주청사 리모델링공사 ]
A3: 산 출 내 역 | B3: 재 료 비 | C3: 노 무 비 | D3: 경 비 | E3: 합 계 | F3: 비 고 | G3: START | H3: 코드 | I3: 품명 | J3: 규격 | K3: 단위 | L3: 수량 | M3: 변수 | N3: 값 | O3: 소계 | P3: 소계 | Q3: 소계 | R3: 소계 | S3: 소계 | T3: 총계
A4: 터파기/토사 보통, 굴착기 0.7m3 M3 공통 8-2-3 ( 산근 1 ) | G4: 5E756437F25131250767FD84CBE32F | I4: 터파기/토사 | J4: 보통, 굴착기 0.7m3 | K4: M3
G5: 5E756437F25131250767FD84CBE32F | H5: C | L5: 1
A6: 굴삭기(무한궤도),0.7㎥ M3 | B6: 0 | C6: 0 | D6: 0 | E6: 0 | G6: 5E756437F25131250767FD84CBE32F | H6: C! | I6: '굴삭기(무한궤도),0.7㎥ M3'
B7: 0 | C7: 0 | D7: 0 | E7: 0 | G7: 5E756437F25131250767FD84CBE32F | H7: C!
A8: Q1 바켓용량(M3) =0.70 | B8: 0 | C8: 0 | D8: 0 | E8: 0 | G8: 5E756437F25131250767FD84CBE32F | H8: C! | I8: q1 '바켓용량(M3)' =0.70
A9: K 바켓계수(양호1.1,보통0.90,불량0.70,파쇄암0.55) = 0.90 | B9: 0 | C9: 0 | D9: 0 | E9: 0 | G9: 5E756437F25131250767FD84CBE32F | H9: C! | I9: k '바켓계수(양호1.1,보통0.90,불량0.70,파쇄암0.55)'= 0.90
A10: F 토량환산계수(1/L) = 1/1.25= 0.8 | B10: 0 | C10: 0 | D10: 0 | E10: 0 | G10: 5E756437F25131250767FD84CBE32F | H10: C! | I10: f '토량환산계수(1/L)'= 1/1.25=?
A11: E1 터파기에 대하여 -0.05 =0.05 | B11: 0 | C11: 0 | D11: 0 | E11: 0 | G11: 5E756437F25131250767FD84CBE32F | H11: C! | I11: E1 '터파기에 대하여 -0.05'=0.05
A12: E 작업효율사질토(양호0.85,보통0.70,불량0.55) = 0.70-E1= 0.65 | B12: 0 | C12: 0 | D12: 0 | E12: 0 | G12: 5E756437F25131250767FD84CBE32F | H12: C! | I12: E '작업효율사질토(양호0.85,보통0.70,불량0.55)'= 0.70-E1=?
A13: CM 1회 싸이클시간(135˚SEC) =20 | B13: 0 | C13: 0 | D13: 0 | E13: 0 | G13: 5E756437F25131250767FD84CBE32F | H13: C! | I13: Cm '1회 싸이클시간(135˚SEC)'=20
A14: Q 시간당 작업량 (M3/HR) = 3600*Q1*K*F*E/CM= 58.968 | B14: 0 | C14: 0 | D14: 0 | E14: 0 | G14: 5E756437F25131250767FD84CBE32F | H14: C! | I14: Q '시간당 작업량 (M3/Hr)'= 3600*q1*k*f*E/Cm=?
G15: 5E756437F25131250767FD84CBE32F | H15: C!
A16: 재료비: 20185 / 58.968 = 342.3 | G16: 5E756437F25131250767FD84CBE32F | H16: C! | I16: '재료비:' ~00000201007000000.M~ / {Q} =?MA+
A17: 노무비: 57077 / 58.968 = 967.9 | G17: 5E756437F25131250767FD84CBE32F | H17: C! | I17: '노무비:' ~00000201007000000.L~ / {Q} =?LA+
A18: 경 비: 24001 / 58.968 = 407 | G18: 5E756437F25131250767FD84CBE32F | H18: C! | I18: '경 비:' ~00000201007000000.E~ / {Q} =?EQ+
A19: 소 계 | G19: 5E756437F25131250767FD84CBE32F | H19: C! | I19: >'소 계'
A20: 총 계
A22: 토사 운반/단지외 10km 보통, 덤프 15ton+굴착기 0.7m3(고르기 별도) M3 공통 8-2-8 ( 산근 2 ) | G22: 5E75643432C132B5149A3F5D45135E | I22: 토사 운반/단지외 10km | J22: 보통, 덤프 15ton+굴착기 0.7m3(고르기 별도) | K22: M3
G23: 5E75643432C132B5149A3F5D45135E | H23: C | K23: M3 | L23: 1
A24: 운반거리 L=10KN,(적재,고르기별도) M3 | G24: 5E75643432C132B5149A3F5D45135E | H24: C! | I24: '운반거리 L=10KN,(적재,고르기별도) M3'
A25: 차량속도= 30KM/V1,35KM/V2,35KM/V3,35KM/V4,30KM/V5,35KM/V6 | G25: 5E75643432C132B5149A3F5D45135E | H25: C! | I25: '차량속도= 30KM/V1,35KM/V2,35KM/V3,35KM/V4,30KM/V5,35KM/V6 '
A26: ○------------------0------------0----------------○10KM | G26: 5E75643432C132B5149A3F5D45135E | H26: C! | I26: ' ○------------------0------------0----------------○10KM '
A27: 운반거리=단지대L1=0.5KM,시내외L2=9.0KM,사토장L3=0.5KM | G27: 5E75643432C132B5149A3F5D45135E | H27: C! | I27: '운반거리=단지대L1=0.5KM,시내외L2=9.0KM,사토장L3=0.5KM'
G28: 5E75643432C132B5149A3F5D45135E | H28: C!
A29: 1.덤프트럭,15톤 | G29: 5E75643432C132B5149A3F5D45135E | H29: C! | I29: '1.덤프트럭,15톤'
A30: T 적재용량(톤) =15 | G30: 5E75643432C132B5149A3F5D45135E | H30: C! | I30: T '적재용량(톤)' =15
A31: R1 토석의 단위중량(톤) =1.7 | G31: 5E75643432C132B5149A3F5D45135E | H31: C! | I31: r1 '토석의 단위중량(톤)' =1.7
A32: L 토량 변화율 =1.25 | G32: 5E75643432C132B5149A3F5D45135E | H32: C! | I32: L '토량 변화율' =1.25
A33: Q1 1회 적재량(M3) =T/R1*L= 11.0294 | G33: 5E75643432C132B5149A3F5D45135E | H33: C! | I33: q1 '1회 적재량(M3)' =T/r1*L=?
A34: F 토량 환산계수(1/L) =1/L= 0.8 | G34: 5E75643432C132B5149A3F5D45135E | H34: C! | I34: f '토량 환산계수(1/L)' =1/L=?
A35: E 작업효율 =0.9 | G35: 5E75643432C132B5149A3F5D45135E | H35: C! | I35: E '작업효율' =0.9
A36: CMS 적재기계 1회 싸이클시간(SEC) =20 | G36: 5E75643432C132B5149A3F5D45135E | H36: C! | I36: Cms '적재기계 1회 싸이클시간(SEC)' =20
A37: V1 단지내적재운반속도(KM/HR) =15 | G37: 5E75643432C132B5149A3F5D45135E | H37: C! | I37: V1 '단지내적재운반속도(KM/HR)' =15
A38: V2 단지내공차운반속도(KM/HR) =20 | G38: 5E75643432C132B5149A3F5D45135E | H38: C! | I38: V2 '단지내공차운반속도(KM/HR)' =20
A39: V3 시내외포장적재운반속도(KM/HR) =35 | G39: 5E75643432C132B5149A3F5D45135E | H39: C! | I39: V3 '시내외포장적재운반속도(KM/HR)' =35
A40: V4 시내외포장공차운반속도(KM/HR) =35 | G40: 5E75643432C132B5149A3F5D45135E | H40: C! | I40: V4 '시내외포장공차운반속도(KM/HR)' =35
... A45: L3 사토장비포장(KM) =0.5 | G45: 5E75643432C132B5149A3F5D45135E | H45: C! | I45: L3 '사토장비포장(KM)' =0.5
G46: 5E75643432C132B5149A3F5D45135E | H46: C!
A47: T2 왕복시간(MIN) =((L1/V1)+(L1/V2)+(L2/V3)+(L2/V4)+(L3/V5)+(L3/V6))*60= 37.8571 | G47: 5E75643432C132B5149A3F5D45135E | H47: C! | I47: t2 '왕복시간(MIN)' =((L1/V1)+(L1/V2)+(L2/V3)+(L2/V4)+(L3/V5)+(L3/V6))*60=?
A48: T3 적하시간(MIN)양호0.5,보통0.8,불량1.1 =0.8 | G48: 5E75643432C132B5149A3F5D45135E | H48: C! | I48: t3 '적하시간(MIN)양호0.5,보통0.8,불량1.1'=0.8
A49: T4 적재대기(MIN)양호0.15,보통0.42,불량0.7 =0.42 | G49: 5E75643432C132B5149A3F5D45135E | H49: C! | I49: t4 '적재대기(MIN)양호0.15,보통0.42,불량0.7 '=0.42
A50: T5 적재합자동덮개설치및해체(MIN) =0.5 | G50: 5E75643432C132B5149A3F5D45135E | H50: C! | I50: t5 '적재합자동덮개설치및해체(MIN)' =0.5
A51: T6 세륜시간 (MIN) =1.5 | G51: 5E75643432C132B5149A3F5D45135E | H51: C! | I51: t6 '세륜시간 (MIN)' =1.5
G52: 5E75643432C132B5149A3F5D45135E | H52: C!
A53: k 백호바켓계수 =1.1 | G53: 5E75643432C132B5149A3F5D45135E | H53: C! | I53: k '백호바켓계수' =1.1
A54: ES 작업효율(양호0.9,보통0.75,불량0.6) = 0.75 | G54: 5E75643432C132B5149A3F5D45135E | H54: C! | I54: Es '작업효율(양호0.9,보통0.75,불량0.6)'= 0.75
A55: N 덤프트럭 소요 백호 적재회수 =Q1/(0.7*K)= 14.32 | G55: 5E75643432C132B5149A3F5D45135E | H55: C! | I55: n '덤프트럭 소요 백호 적재회수' =q1/(0.7*k)=?
A56: CM 1회 싸이클 시간(MIN) =CMS*N/(60*ES)+T2+T3+T4+T5+T6= 47.442 | G56: 5E75643432C132B5149A3F5D45135E | H56: C! | I56: Cm '1회 싸이클 시간(MIN)' =Cms*n/(60*Es)+t2+t3+t4+t5+t6=?
A57: Q 시간당 작업량(M3/HR) =60*Q1*F*E/CM= 10.043 | G57: 5E75643432C132B5149A3F5D45135E | H57: C! | I57: Q '시간당 작업량(M3/HR)' =60*q1*f*E/Cm=?
A58: 재료비: 31297 / 10.043 = 3116.2 | G58: 5E75643432C132B5149A3F5D45135E | H58: C! | I58: '재료비:' ~00000602015000000.M~ / {Q} =?MA+
A59: 노무비: 57077 / 10.043 = 5683.2 | G59: 5E75643432C132B5149A3F5D45135E | H59: C! | I59: '노무비:' ~00000602015000000.L~ / {Q} =?LA+
A60: 경 비: 20276 / 10.043 = 2018.9 | G60: 5E75643432C132B5149A3F5D45135E | H60: C! | I60: '경 비:' ~00000602015000000.E~ / {Q} =?EQ+
A61: 소계 | G61: 5E75643432C132B5149A3F5D45135E | H61: C! | I61: >'소계'
G62: 5E75643432C132B5149A3F5D45135E | H62: C!
A63: 2.자동덮개시설,덤프15톤용 M3 | G63: 5E75643432C132B5149A3F5D45135E | H63: C! | I63: '2.자동덮개시설,덤프15톤용 M3'
A64: 재료비: 0 / 10.043 = 0 | G64: 5E75643432C132B5149A3F5D45135E | H64: C! | I64: '재료비:' ~00000610015000000.M~ / {Q} =?MA+
A65: 노무비: 0 / 10.043 = 0 | G65: 5E75643432C132B5149A3F5D45135E | H65: C! | I65: '노무비:' ~00000610015000000.L~ / {Q} =?LA+
A66: 경 비: 430 / 10.043 = 42.8 | G66: 5E75643432C132B5149A3F5D45135E | H66: C! | I66: '경 비:' ~00000610015000000.E~ / {Q} =?EQ+
A67: 소계 | G67: 5E75643432C132B5149A3F5D45135E | H67: C! | I67: >'소계'
G68: 5E75643432C132B5149A3F5D45135E | H68: C!
A69: 총 계

Sheet 단가대비표
A1: 단 가 대 비 표
A2: [ 한국문화예술위원회 나주청사 리모델링공사 ]
A3: 코 드 | B3: 품 명 | C3: 규격 | D3: 단위 | E3: 재 료 비 | P3: 노 무 비 | Q3: 경 비 | W3: 번 호 | X3: 비 고 | Y3: 품목구분 | Z3: 노임구분 | AA3: 소수점처리 | AB3: 자재구분
E4: 조달청가격 | F4: PAGE | G4: 거래가격 | H4: PAGE | I4: 유통물가 | J4: PAGE | K4: 물가자료 | L4: PAGE | M4: 조사가격 | N4: PAGE | O4: 적용단가 | Q4: 조달청가격 | R4: 거래가격 | S4: 유통물가 | T4: 물가자료 | U4: 조사가격 | V4: 적용단가
A5: 594724AFE23139D51FD15B589FC389F030299A | B5: 굴착기(무한궤도) | C5: 0.2㎥ | D5: 대 | W5: 자재 1 | X5: 천원
A6: 594724AFE23139D51FD15B589FC5B6E57F0BEB | B6: 굴착기(무한궤도) | C6: 0.4㎥ | D6: 대 | W6: 자재 2 | X6: 천원
A7: 594724AFE23139D51FD15B589FC7644108BCDC | B7: 굴착기(무한궤도) | C7: 0.6㎥ | D7: 대 | W7: 자재 3 | X7: 천원
A8: 594724AFE23139D51FD15B589FC65D6F693AC0 | B8: 굴착기(무한궤도) | C8: 0.7㎥ | D8: 대 | W8: 자재 4 | X8: 천원
A9: 594724AFE23139D51B7668DB3CD38D4D869554 | B9: 덤프트럭 | C9: 15ton | D9: 대 | W9: 자재 5 | X9: 천원
A10: 594724AFE23139D51B7770D3DE8BE588D79B4F | B10: 덤프트럭 자동덮개시설 | C10: 15ton | D10: 대 | W10: 자재 6 | X10: 천원
A11: 594724AFE23139C57593EF6BB7BFDE0FC5B0D5 | B11: 진동롤러(핸드가이드식) | C11: 0.7ton | D11: 대 | W11: 자재 7 | X11: 천원
A12: 594724AFE23139C57593EC97D89FBFF19F88EE | B12: 진동롤러(자주식) | C12: 10ton | D12: 대 | W12: 자재 8 | X12: 천원
A13: 594724AFE23139C5713B4F0654817F4CD57DD2 | B13: 플레이트 콤팩터 | C13: 1.5ton | D13: 대 | W13: 자재 9 | X13: 천원
A14: 594724AFE2313995A6B59E9F48C667F96D4262 | B14: 커터(콘크리트 및 아스팔트용) | C14: 320∼400mm | D14: 대 | W14: 자재 10 | X14: 천원
A15: 594724AFE2313995A75D2B1F3C15481CCF22F8 | B15: 콘크리트 펌프차 | C15: 36m(80∼95㎥/hr) | D15: 대 | W15: 자재 11 | X15: 천원
A16: 594724AFE2313985993EB6DBC03BD51AA24EA7 | B16: 소형브레이커(전기식) | C16: 1.5kw | D16: 대 | W16: 자재 12 | X16: 천원
... A18: 594724AFE23139A5406B4F64419F68BBC5C350 | B18: 우레탄폼 분사용기구 | C18: 8.1kg/min | D18: 대 | W18: 자재 14 | X18: 천원
A19: 5951847352013EF530BE556F16D2B1261FE57C | B19: 자갈 | C19: 도착도, #467 | D19: M3 | W19: 자재 15
A20: 5951847352013EF530BE556F16D2B1261FE8C8 | B20: 자갈 | C20: (별도), 40mm, #467 | D20: M3 | W20: 자재 16 | X20: 별도
A21: 5951847352013EF530B61906F9A1EE95233CFF | B21: 잡석 | C21: (별도) | D21: M3 | W21: 자재 17 | X21: 별도
A22: 5951847352013EF53146CC4ACD0A42BFCA3CA4 | B22: 모래 | C22: (별도) | D22: M3 | W22: 자재 18 | X22: 별도
A23: 5951847352013EF53146CC4ACD0A42BFCA3AF7 | B23: 모래 | C23: 도착도 | D23: M3 | W23: 자재 19
A24: 5951847352313A0529772202338B3D972A20AE | B24: 보통합판 | C24: 보통합판, 1급, 4.8*1220*2440mm | D24: M2 | W24: 자재 20
A25: 5951847352313A0529772202338B3D972A20AA | B25: 보통합판 | C25: 보통합판, 1급, 9.0*1220*2440mm | D25: M2 | W25: 자재 21
A26: 5951847352313A0529772050FC1091B44965AB | B26: 중밀도섬유판 | C26: 중밀도섬유판, 18*1220*2440mm | D26: M2 | W26: 자재 22
A27: 5951847352313A0529772050FC1091B44965A4 | B27: 중밀도섬유판 | C27: 중밀도섬유판, 20*1220*2440mm | D27: M2 | W27: 자재 23
A28: 59518473528132553EE6D16E30FFECAA2EEF8D | B28: 철강설 | C28: 철강설, 고철, 작업설부산물 | D28: kg | W28: 자재 24 | X28: 수집상차도
A29: 59518473528132553EE6D16E30FFECAA2EEFFE | B29: 철강설/철근 | C29: 철강설, 고철, 작업설부산물 | D29: kg | W29: 자재 25 | X29: 수집상차도
A30: 59518473528132553EE6D16E30FFECAA2EEEE8 | B30: 철강설 | C30: 철강설, 스텐레스, 작업설부산물 | D30: kg | W30: 자재 26 | X30: 수집상차도
A31: 59518473528132553EE6D16E318CD92B27106A | B31: 철강설 | C31: 철강설, 알루미늄, 작업설부산물 | D31: kg | W31: 자재 27 | X31: 수집상차도
A32: 5951B4C642E131957A1776DC8F2F9D8C00D563 | B32: 감수제 | C32: 감수제, 혼화제, 메도로스1000 | D32: g | W32: 자재 28
A33: 5951B4C642E13195748EC93CC3240EDD9B8D6F | B33: 발수방수제 | C33: 발수방수제, 아쿠아씰 | D33: L | W33: 자재 29
A34: 5951B4C642E13195748ECEA280779811BA0841 | B34: 우레탄도막방수재 | C34: 우레탄도막방수재, 프라이머 | D34: kg | W34: 자재 30
A35: 5951B4C642E13195748ECEA280779811BA0840 | B35: 우레탄도막방수재 | C35: 우레탄도막방수재, 희석재 | D35: kg | W35: 자재 31
A36: 5951B4C642E13195748ECEA280779811BA04EE | B36: 우레탄도막방수재 | C36: 우레탄도막방수제, 우레탄 | D36: kg | W36: 자재 32
A37: 5951A421C2C136C565B494BC49F05BE90A3674 | B37: 폴리에틸렌필름 | C37: 폴리에틸렌필름, 두께, 0.03mm | D37: M2 | W37: 자재 33
A38: 5951C4EC42B136D516DA85BCCE3BAC3C5B6F55 | B38: 경유 | C38: 경유, 저유황 | D38: L | W38: 자재 34
A39: 5951C4EC42B136D516DA86477B6A8D79AE3A0D | B39: 공업용휘발유 | C39: 공업용휘발유, 무연 | D39: L | W39: 자재 35
A40: 597C64ACC2E131A55490251CB70C8DFF3AE726 | B40: ㄱ형강 | C40: ㄱ형강, 등변, 25*25*3mm | D40: kg | W40: 자재 36
A41: 597C64ACC2E131A55490251CB70C8DFF3AE72D | B41: ㄱ형강 | C41: ㄱ형강, 등변, 50*50*4mm | D41: kg | W41: 자재 37
A42: 597C64ACC2E131A55490251CB70C8DFF3AE72C | B42: ㄱ형강 | C42: ㄱ형강, 등변, 50*50*5mm | D42: kg | W42: 자재 38
A43: 597C64ACC2E131A55490251CB70C8DFF3BF774 | B43: ㄱ형강 | C43: ㄱ형강, 부등변, 100*75*7mm | D43: kg | W43: 자재 39
... A58: 597C64ACC2F132357509550BFC79CE82EE915E | B58: 레미콘 | C58: 25-27-15 | D58: M3 | W58: 자재 54
A59: 597C64ACC2F132357610436510DADB60DDAA43 | B59: 시멘트 | C59: 시멘트(별도) | D59: kg | W59: 자재 55 | X59: 별도
A60: 597C64ACC2F132357610436510DADB60DDAB6C | B60: 시멘트 | C60: 도착도 | D60: 포 | W60: 자재 56
A61: 597C64ACC2F132357610436510DADB666424EC | B61: 특수시멘트 | C61: 특수시멘트, 백색시멘트 | D61: kg | W61: 자재 57
A62: 597C64ACC2C136F54DED41AE43C9E63F087BCF | B62: 싱크볼 | C62: 840*510*205, 냄새없는싱크볼 | D62: EA | W62: 자재 58
A63: 597C64ACC2C136F54DED41AE43C9E63F087BCC | B63: 벽붙이싱크수전 | C63: 회전식 | D63: EA | W63: 자재 59
A64: 597C64ACC2C136F54DE50BE94A3F1805C58FB1 | B64: 가설방음판 | C64: 가설방음판, 플라스틱, 1980-2000*500*30mm | D64: 매 | W64: 자재 60
A65: 597C64ACC2D1374589F2563D0FCF742EF4C8AB | B65: 자연석판석 | C65: 자연석판석, 물갈기, 30mm, 포천석판재 | D65: M2 | W65: 자재 61
A66: 597C64ACC2D1374589F25095330C997FF7136D | B66: 자기질타일 | C66: 벽, 600*1200*12mm | D66: M2 | W66: 자재 62
A67: 597C64ACC2A13A15335275CD6B85E02BA35879 | B67: 경질우레탄폼스프레이 | D67: M3 | W67: 자재 63
A68: 597C64ACC2A13A1533531D5DBF93A08D69DC1E | B68: 안전필름-비산방지 | C68: 칼라 4mile | D68: M2 | W68: 자재 64
A69: 597C64ACC2A13A15335319E6319EF460186EEF | B69: 압출발포폴리스티렌단열재 | C69: 압출발포폴리스티렌단열재, 0.035, 900*1800*50mm | D69: M2 | W69: 자재 65
A70: 597C64ACC2B13465FBB85FE4F1784CAB56D68D | B70: 샌드위치패널 | C70: 준불연EPS패널, 220mm | D70: M2 | W70: 자재 66
A71: 597C64ACC2B13465FBB85EDCF957DAA55FF34F | B71: 코너비드 | C71: 코너비드, 알루미늄, 스톱, 10*16mm | D71: M | W71: 자재 67
A72: 597C64ACC2B13465FBB126111566A134D572CC | B72: 콘크리트폴리싱(무광) | C72: 바닥 [시공비포함] | D72: M2 | W72: 자재 68 | X72: 시공도
A73: 597C64ACC2B13465FBB126111448F05BFAA2A3 | B73: 외부용뿜칠마감재 | C73: 외부 [시공비포함] | D73: M2 | W73: 자재 69 | X73: 시공도
A74: 597C64ACC2813F25B6C8CD84BE0636826A7EDD | B74: 인테리어필름 | C74: 방염하이그로시 [시공비포함] | D74: M2 | W74: 자재 70 | X74: 시공도
A75: 597C64ACC2813F25B6C8C1D4BB284AB5C8DD5E | B75: 석고보드 | C75: 석고보드, 평보드, 9.5*900*1800mm(㎡) | D75: M2 | W75: 자재 71
A76: 597C64ACC2813F25B6C8C1D4BB284AB5C8DCB1 | B76: 석고보드 | C76: 석고보드, 평보드, 9.5*900*2400mm(㎡) | D76: M2 | W76: 자재 72
A77: 597C64ACC2813F25B6C8C1D70F6958C4478218 | B77: 고강도석고보드 | C77: 석고보드, 평보드, 12.5*900*2400mm(㎡) | D77: M2 | W77: 자재 73
A78: 597C64ACC2813F25B522A7608613DBFA2461D2 | B78: 금속천장재 | C78: 익스펜디드메탈, 1000*1000*12*30*3.2t [시공비포함] | D78: M2 | W78: 자재 74 | X78: 시공도
A79: 597C64ACC2813F25B522A1DB34A2C75DDCC25D | B79: 경량철골천장틀 | C79: 경량철골천장틀, M-BAR더블, 50*19*0.5mm | D79: M | W79: 자재 75
A80: 597C64ACC2813F25B522A1DB34A2C75DDCC52A | B80: 경량철골천장틀 | C80: 경량철골천장틀, 달대볼트, 상6*1000mm | D80: 개 | W80: 자재 76
A81: 597C64ACC2813F25B522A1DB34A2C75DDCC634 | B81: 경량철골천장틀 | C81: 경량철골천장틀, 캐링찬넬, 38*12*1.2mm | D81: M | W81: 자재 77
A82: 597C64ACC2813F25B522A1DB34A2C75DDCC635 | B82: 경량철골천장틀 | C82: 경량철골천장틀, 마이너찬넬, 19*10*1.2mm | D82: M | W82: 자재 78
A83: 597C64ACC2813F25B522A1DB34A2C75DDCC637 | B83: 경량철골천장틀 | C83: 경량철골천장틀, 찬넬크립, 37*30*10*1.2mm | D83: 조 | W83: 자재 79
A84: 597C64ACC2813F25B522A1DB34A2C75DDCC630 | B84: 경량철골천장틀 | C84: 경량철골천장틀, 캐링조인트, 90*40*13*0.5mm | D84: 조 | W84: 자재 80
A85: 597C64ACC2813F25B522A1DB34A2C75DDCC631 | B85: 경량철골천장틀 | C85: 경량철골천장틀, BAR크립, 더블 | D85: 개 | W85: 자재 81
A86: 597C64ACC2813F25B522A1DB34A2C75DDCC633 | B86: 경량철골천장틀 | C86: 경량철골천장틀, BAR조인트, 더블 | D86: 개 | W86: 자재 82
A87: 597C64ACC2813F25B522A1DB34A2C75DDCC8E3 | B87: 경량철골천장틀 | C87: 경량철골천장틀, 몰딩(알루미늄), L형, 19*19*1.0mm | D87: M | W87: 자재 83
A88: 597C64ACC2813F25B522A1DB34A2C75DDCC8E7 | B88: 경량철골천장틀 | C88: 경량철골천장틀, 몰딩(알루미늄), W형, 15*15*15*15*1.0mm | D88: M | W88: 자재 84
A89: 597C64ACC2813F25B522A1DB34A2C75DDCC898 | B89: 경량철골천장틀 | C89: 경량철골천장틀, CLIP-BAR, 0.6T 19*40*10 | D89: M | W89: 자재 85
A90: 597C64ACC2813F25B522A1DB34A2C75DDDE6AB | B90: METAL C-STUD | C90: ㉿ 0.8T, 100*45 | D90: M | W90: 자재 86
... A92: 597C64ACC2813F25B522A1DB34A2C75DDDE233 | B92: CORNER BEAD | C92: 0.5T, 40*40 | D92: M | W92: 자재 88
A93: 597C64ACC2813F25B41BB1CD9BF05B87536575 | B93: 원목마루 | C93: 14*190*1900mm | D93: M2 | W93: 자재 89 | X93: 견적서
A94: 597C64ACC2813F25B41BB5AB201414EB57C773 | B94: 인조대리석 | C94: 인조대리석, 400*400*20mm, 글로톤, GP/MJ/SK/MA | D94: M2 | W94: 자재 90
A95: 597C64ACC2813F25B41BB48142ED2EBA972D04 | B95: 비닐타일 | C95: 비닐타일, 3*450*450mm, 데코타일 | D95: M2 | W95: 자재 91
A96: 597C64ACC29139B5EE648C33D859CE5E1E6EBD | B96: 점검구 | C96: AL(백색), 450*450mm | D96: 조 | W96: 자재 92
A97: 597C64ACC29139B5ECBF00DE9325C1EA667283 | B97: 강화유리 | C97: 강화유리, 투명, 12mm | D97: M2 | W97: 자재 93
A98: 597C64ACC2713ED50A2FB46B80EF7CCD29C06E | B98: 강관비계 | C98: 강관비계, 비계파이프, 48.6*2.3mm | D98: M | W98: 자재 94
A99: 597C64ACC2713ED50A2FB46B80EF7CCD282178 | B99: 강관비계 부속철물 | C99: 이음철물, 연결핀 | D99: 개 | W99: 자재 95
A100: 597C64ACC2713ED50A2FB46B80EF7CCD28217F | B100: 강관비계 부속철물 | C100: 클램프 고정, 자동 | D100: 개 | W100: 자재 96
A101: 597C64ACC2713ED50908AF038BF8F6D5EC3F03 | B101: 비계안정장치 | C101: 비계안정장치, 이음철물, 연결핀 | D101: 개 | W101: 자재 97
A102: 597C64ACC2713ED50908AF038BF8F6D5EC3D51 | B102: 비계안정장치 | C102: 비계안정장치, 비계기본틀, 기둥, 1.2*1.7m | D102: 개 | W102: 자재 98
A103: 597C64ACC2713ED50908AF038BF8F6D5EC3D5F | B103: 비계안정장치 | C103: 비계안정장치, 가새, 1.2*1.9m | D103: 개 | W103: 자재 99
A104: 597C64ACC2713ED50908AF038BF8F6D5EC324E | B104: 비계안정장치 | C104: 비계안정장치, 수평띠장, 1829mm | D104: 개 | W104: 자재 100
A105: 597C64ACC2713ED50908AF038BF8F6D5EC324F | B105: 비계안정장치 | C105: 비계안정장치, 손잡이, 1229mm | D105: 개 | W105: 자재 101
... A138: 590974DE02813B450C7F424182D4A446AB7364 | B138: 일반구조용각형강관 | C138: 일반구조용각형강관, 각형강관, 40*40*1.6mm | D138: M | W138: 자재 134
A139: 591BC43AB2913E9516C2B1BDE32DCFEDB547E4 | B139: 무절탄화2블럭 | C139: 22*140*3600 | D139: M2 | W139: 자재 135 | X139: 견적서
A140: 591BC43AB2913E9516C2B1BDE32DCFEDB547E7 | B140: 흡음패널 | C140: AL4T, 680*2000 | D140: M2 | W140: 자재 136 | X140: 견적서
A141: 591BC43AB2913E9516C2B1BDE32DCFEDB547E6 | B141: 흡음패널 | C141: 부자재(클립,행거 등) | D141: M2 | W141: 자재 137 | X141: 견적서
A142: 5E504440B2A13D15E5106B2146C196 | B142: 폐콘크리트 | C142: 이물질이 없는 순수한 폐콘크리트 | D142: TON | W142: 자재 138 | Y142: C
A143: 5E504440B2A13D15E5106B2146C343 | B143: 건설폐재류 | C143: 가연성이 제거된 재활용이 가능한 혼합물 | D143: TON | W143: 자재 139 | Y143: C
A144: 5E504440B2A13D15E5106B21415EAE | B144: 혼합건설폐기물 | C144: 건설폐재류에 가연성 5% 이하 혼합 | D144: TON | W144: 자재 140 | Y144: C
A145: 5E504440B2A13D15E5106B26C9E004 | B145: 혼합건설폐기물(폐유리,폐타일,폐자기 등) | C145: 불연성 건설폐기물에 가연성 5% 이하 혼합 | D145: TON | W145: 자재 141 | Y145: C
A146: 5E504440B2A13D15E5106B27ED3668 | B146: 혼합건설폐기물(폐보드류,폐판넬 등) | C146: 그 밖의 건설폐기물에 가연성 5% 이하 혼합 | D146: TON | W146: 자재 142 | Y146: C
A147: 5E504440B2A13D15E40A003AE42212 | B147: 건설폐재류 상차비 및 운반비 | C147: 24톤 덤프트럭, 30km | D147: TON | W147: 자재 143 | Y147: C
A148: 5E504440B2A13D15E40A003AE16F72 | B148: 혼합건설폐기물 상차비 및 운반비 | C148: 24톤 암롤트럭, 30km | D148: TON | W148: 자재 144 | Y148: C
...

Sheet  공사설정 
A1: 이 Sheet는 수정하지 마십시요
A2: 공사구분 | B2: A | C2: 타이틀
A3: 확정내역 | B3: 원내역
A4: 자재단가적용 | B4: 5
A5: 경비단가적용 | B5: 5
A6: 품목코드형식 | B6: XXXX-XXXX-XXXXXXXXX
A7: 내역금액소수점처리 | B7: C | C7: T
A8: 일위대가내역소수점처리 | B8: C | C8: 2
A9: 단가명 | B9: 조달청가격 | C9: 거래가격 | D9: 유통물가 | E9: 물가자료 | F9: 조사가격 | G9: TTTTT
A10: 환율 | B10: 1466 | C10: 0 | D10: 0
A11: 시간당작업량 | B11: R | C11: 4
A12: 1회 사이클시간 | B12: R | C12: 4
A13: 시간당 작업사이클 | B13: R | C13: 3
A14: 일반변수 | B14: R | C14: 5
A15: 시간당 노임산출 계수 | B15: A | C15: 1/8*16/12*25/20 | D15: 1/8*16/12*25/20 | E15: 1/8*16/12*25/20 | F15: 1
A16: 재료비 할증 계수 | B16: 1.11 | C16: 1.12
A17: 노무비 할증 계수 | B17: 1 | C17: 1.5 | D17: 1.16 | E17: 1.6 | F17: 1.6 | G17: 1.6 | H17: 1.94 | I17: 1.94 | J17: 1.94 | K17: 1 | L17: 1 | M17: 1
A18: 경비 할증 계수 | B18: 1.25 | C18: 1.071
A19: 내역,일위대가 품명,규격,단위 따로적용
A20: 내역단가 소수점처리 | B20: C | C20: 1
A21: 코드 | B21: 공종구분명 | C21: 원가비목코드
A22: 1 | B22: 작 업 부 산 물 | C22: A3
A23: 2 | B23: 운 반 비 | C23: C1
A24: 3 | B24: 관 급 자 재 비 | C24: DJ
A25: 4 | B25: 도급자관급자재비 | C25: DK
A26: 5 | B26: 관급자관급자재비 | C26: DL
A27: 6 | B27: 건설폐기물처리비 | C27: D7
A28: 7 | B28: 지정폐기물처리비
A29: 8 | B29: 품 질 관 리 비
A30: 9 | B30: 작 업 부 산 물(철거) | C30: D8
A31: A | B31: 안 전 관 리 비
A32: B | B32: 시 설 분 담 금 | C32: DM
A33: C
A34: D
A35: E | B35: ....
A36: F | B36: ....
A37: G | B37: ....
A38: H | B38: ....
A39: I | B39: ....
A40: J | B40: ....
A43: 단가 순서 | B43: 1234

Sheet Sheet1
