Workbook
Name ________A1: #REF!
Name ________DOG1: #REF!
Name ________DOG2: #REF!
Name ________DOG22: #REF!
Name ________DOG3: #REF!
Name ________DOG33: #REF!
Name ________DOG4: #REF!
Name ________PI48: #REF!
Name ________PI60: #REF!
Name ________RO110: #REF!
Name ________RO22: #REF!
Name ________RO35: #REF!
Name ________RO45: #REF!
Name ________RO60: #REF!
Name ________RO80: #REF!
Name ________SUB1: #REF!
Name ________SUB2: #REF!
Name ________SUB3: #REF!
Name ________sub4: #REF!
Name ________sub5: #REF!
Name ________TON1: #REF!
Name ________TON2: #REF!
Name ________WW2: #REF!
Name ________WW3: #REF!
Name ________WW6: #REF!
Name ________WW7: #REF!
Name ________WW8: #REF!
Name _______A1: #REF!
Name _______DOG1: #REF!
Name _______DOG2: #REF!
Name _______DOG22: #REF!
Name _______DOG3: #REF!
Name _______DOG33: #REF!
Name _______DOG4: #REF!
Name _______IL1: #REF!
Name _______PI48: #REF!
Name _______PI60: #REF!
Name _______RNG1: '[3]2월가격표-ESG-1월'!$A:$D
Name _______RO110: #REF!
Name _______RO22: #REF!
Name _______RO35: #REF!
Name _______RO45: #REF!
Name _______RO60: #REF!
Name _______RO80: #REF!
Name _______SUB1: #REF!
Name _______SUB2: #REF!
Name _______SUB3: #REF!
Name _______sub4: #REF!
Name _______sub5: #REF!
Name _______SUM1: [4]EP0618!#REF!
Name _______SUM10: [4]EP0618!#REF!
Name _______SUM11: [4]EP0618!#REF!
Name _______SUM12: [4]EP0618!#REF!
Name _______SUM13: [4]EP0618!#REF!
Name _______SUM14: [4]EP0618!#REF!
Name _______SUM15: [4]EP0618!#REF!
Name _______SUM16: [4]EP0618!#REF!
Name _______SUM17: [4]EP0618!#REF!
Name _______SUM18: [4]EP0618!#REF!
Name _______SUM19: [4]EP0618!#REF!

Sheet 표지
B7: 아르코 꿈밭극장 음향기자재 구매
B9: - 내역서 -
B13: 2025년 04월
A33: 내 역 서
A55: 일 위 대 가 표
A77: 물 량 산 출 표
A99: 단 가 대 비 표

Sheet 총괄표
A1: 번호 | B1: 품 명 | C1: 규 격 | D1: 수량 | E1: 단위 | F1: 재 료 비 | H1: 인 건 비 | J1: 합 계 | L1: 비 고
F2: 단 가 | G2: 금 액 | H2: 단 가 | I2: 금 액 | J2: 단 가 | K2: 금 액
A3: 1 | B3: 아르코 꿈밭극장 음향기자재 구매 및 설치
A4: =단가대비표!A4 -> A | B4: =단가대비표!B4 -> 무대, 분장실, 로비 페이징 설비 SECTION | D4: 1 | E4: 식 | F4: =SUM(내역서!K5:K18) -> 0 | G4: =D4*F4 -> 0 | J4: =F4+H4 -> 0 | K4: =G4+I4 -> 0 | N4: =#REF!-F4 -> #REF!
A5: =단가대비표!A19 -> B | B5: =단가대비표!B19 -> 카메라 설비 SECTION | C5: =단가대비표!C19 -> 0 | D5: 1 | E5: 식 | F5: =SUM(내역서!K20:K28) -> 0 | G5: =D5*F5 -> 0 | J5: =F5+H5 -> 0 | K5: =G5+I5 -> 0
A6: =일위대가표!A4 -> C | B6: =일위대가표!B4 -> 공사 인건비 SECTION | C6: =일위대가표!C4 -> 0 | D6: 1 | E6: 식 | H6: =SUM(내역서!K30:K33) -> 0 | I6: =D6*H6 -> 0 | J6: =F6+H6 -> 0 | K6: =G6+I6 -> 0
B23: 소 계 | G23: =SUM(G4:G22) -> 0 | I23: =SUM(I4:I22) -> 0 | K23: =SUM(K4:K22) -> 0
B24: V A T | D24: 10 | E24: % | K24: =K23*D24% -> 0
B25: 합 계 | K25: =SUM(K23:K24) -> 0

Sheet 내역서
A1: 번호 | B1: 품 명 | C1: 규 격 | D1: 수량 | E1: 단위 | F1: 재 료 비 | H1: 인 건 비 | J1: 합 계 | L1: 비 고
F2: 단 가 | G2: 금 액 | H2: 단 가 | I2: 금 액 | J2: 단 가 | K2: 금 액
A3: 아르코 꿈밭극장 음향기자재 구매 및 설치
A4: =단가대비표!A4 -> A | B4: =단가대비표!B4 -> 무대, 분장실, 로비 페이징 설비 SECTION | N4: =#REF!-F4 -> #REF!
A5: =단가대비표!A5 -> 1 | B5: =단가대비표!B5 -> SPEAKER | C5: =단가대비표!C5 -> 60W, 8Ω | D5: =물량산출표!E5 -> 4 | E5: =물량산출표!F5 -> EA | F5: =단가대비표!N5 -> 0 | G5: =D5*F5 -> 0 | J5: =F5+H5 -> 0 | K5: =G5+I5 -> 0 | N5: =#REF!-F5 -> #REF!
A6: =단가대비표!A6 -> 2 | B6: =단가대비표!B6 -> SPEAKER POWER AMP | C6: =단가대비표!C6 -> 4CH, 150W, Dante | D6: =물량산출표!E6 -> 1 | E6: =물량산출표!F6 -> EA | F6: =단가대비표!N6 -> 0 | G6: =D6*F6 -> 0 | J6: =F6+H6 -> 0 | K6: =G6+I6 -> 0 | N6: =#REF!-F6 -> #REF!
A7: =단가대비표!A7 -> 3 | B7: =단가대비표!B7 -> POWER AMP | C7: =단가대비표!C7 -> 4CH, 1600W, Dante | D7: =물량산출표!E7 -> 2 | E7: =물량산출표!F7 -> EA | F7: =단가대비표!N7 -> 0 | G7: =D7*F7 -> 0 | J7: =F7+H7 -> 0 | K7: =G7+I7 -> 0 | N7: =#REF!-F7 -> #REF!
A8: =단가대비표!A8 -> 4 | B8: =단가대비표!B8 -> VOLUME CONTROLLER | C8: =단가대비표!C8 -> LEVEL | D8: =물량산출표!E8 -> 4 | E8: =물량산출표!F8 -> EA | F8: =단가대비표!N8 -> 0 | G8: =D8*F8 -> 0 | J8: =F8+H8 -> 0 | K8: =G8+I8 -> 0 | N8: =#REF!-F8 -> #REF!
A9: =단가대비표!A9 -> 5 | B9: =단가대비표!B9 -> MONITOR #1 | C9: =단가대비표!C9 -> FHD 32" | D9: =물량산출표!E9 -> 2 | E9: =물량산출표!F9 -> EA | F9: =단가대비표!N9 -> 0 | G9: =D9*F9 -> 0 | J9: =F9+H9 -> 0 | K9: =G9+I9 -> 0
A10: =단가대비표!A10 -> 6 | B10: =단가대비표!B10 -> MONITOR #2 | C10: =단가대비표!C10 -> FHD 27" | D10: =물량산출표!E10 -> 6 | E10: =물량산출표!F10 -> EA | F10: =단가대비표!N10 -> 0 | G10: =D10*F10 -> 0 | J10: =F10+H10 -> 0 | K10: =G10+I10 -> 0
A11: =단가대비표!A11 -> 7 | B11: =단가대비표!B11 -> I/O | C11: =단가대비표!C11 -> 16IN 8OUT | D11: =물량산출표!E11 -> 2 | E11: =물량산출표!F11 -> EA | F11: =단가대비표!N11 -> 0 | G11: =D11*F11 -> 0 | J11: =F11+H11 -> 0 | K11: =G11+I11 -> 0
A12: =단가대비표!A12 -> 8 | B12: =단가대비표!B12 -> MONITOR BRACKET | C12: =단가대비표!C12 -> CUSTOM (상하좌우 조절) | D12: =물량산출표!E12 -> 7 | E12: =물량산출표!F12 -> EA | F12: =단가대비표!N12 -> 0 | G12: =D12*F12 -> 0 | J12: =F12+H12 -> 0 | K12: =G12+I12 -> 0
A13: =단가대비표!A13 -> 9 | B13: =단가대비표!B13 -> 이동식 스탠드 타입 | C13: =단가대비표!C13 -> CUSTOM (상하좌우 조절) | D13: =물량산출표!E13 -> 1 | E13: =물량산출표!F13 -> EA | F13: =단가대비표!N13 -> 0 | G13: =D13*F13 -> 0 | J13: =F13+H13 -> 0 | K13: =G13+I13 -> 0
A14: =단가대비표!A14 -> 10 | B14: =단가대비표!B14 -> RACK CASE #1 | C14: =단가대비표!C14 -> 32U | D14: =물량산출표!E14 -> 1 | E14: =물량산출표!F14 -> EA | F14: =단가대비표!N14 -> 0 | G14: =D14*F14 -> 0 | J14: =F14+H14 -> 0 | K14: =G14+I14 -> 0
A15: =단가대비표!A15 -> 11 | B15: =단가대비표!B15 -> RACK CASE #2 | C15: =단가대비표!C15 -> 16U | D15: =물량산출표!E15 -> 2 | E15: =물량산출표!F15 -> EA | F15: =단가대비표!N15 -> 0 | G15: =D15*F15 -> 0 | J15: =F15+H15 -> 0 | K15: =G15+I15 -> 0
A16: =단가대비표!A16 -> 12 | B16: =단가대비표!B16 -> 순차전원 #1 (앰프용) | C16: =단가대비표!C16 -> 8CH | D16: =물량산출표!E16 -> 1 | E16: =물량산출표!F16 -> EA | F16: =단가대비표!N16 -> 0 | G16: =D16*F16 -> 0 | J16: =F16+H16 -> 0 | K16: =G16+I16 -> 0
A17: =단가대비표!A17 -> 13 | B17: =단가대비표!B17 -> 순차전원#2 (FOH용) | C17: =단가대비표!C17 -> 6CH | D17: =물량산출표!E17 -> 3 | E17: =물량산출표!F17 -> EA | F17: =단가대비표!N17 -> 0 | G17: =D17*F17 -> 0 | J17: =F17+H17 -> 0 | K17: =G17+I17 -> 0
A18: =단가대비표!A18 -> 14 | B18: =단가대비표!B18 -> 순차전원 #3 (2층무대용) | C18: =단가대비표!C18 -> 6CH | D18: =물량산출표!E18 -> 1 | E18: =물량산출표!F18 -> EA | F18: =단가대비표!N18 -> 0 | G18: =D18*F18 -> 0 | J18: =F18+H18 -> 0 | K18: =G18+I18 -> 0
A19: =단가대비표!A19 -> B | B19: =단가대비표!B19 -> 카메라 설비 SECTION | C19: =단가대비표!C19 -> 0 | D19: =단가대비표!E19 -> 0 | E19: =단가대비표!D19 -> 0
A20: =단가대비표!A20 -> 1 | B20: =단가대비표!B20 -> PTZ CAMERA | C20: =단가대비표!C20 -> FHD | D20: =물량산출표!E20 -> 2 | E20: =물량산출표!F20 -> EA | F20: =단가대비표!N20 -> 0 | G20: =D20*F20 -> 0 | J20: =F20+H20 -> 0 | K20: =G20+I20 -> 0
A21: =단가대비표!A21 -> 2 | B21: =단가대비표!B21 -> IR CAMERA | C21: =단가대비표!C21 -> FHD | D21: =물량산출표!E21 -> 1 | E21: =물량산출표!F21 -> EA | F21: =단가대비표!N21 -> 0 | G21: =D21*F21 -> 0 | J21: =F21+H21 -> 0 | K21: =G21+I21 -> 0
A22: =단가대비표!A22 -> 3 | B22: =단가대비표!B22 -> CAMERA BRACKET | C22: =단가대비표!C22 -> CUSTOM | D22: =물량산출표!E22 -> 3 | E22: =물량산출표!F22 -> EA | F22: =단가대비표!N22 -> 0 | G22: =D22*F22 -> 0 | J22: =F22+H22 -> 0 | K22: =G22+I22 -> 0
A23: =단가대비표!A23 -> 4 | B23: =단가대비표!B23 -> CAMERA CONTROL UNIT | C23: =단가대비표!C23 -> Joystick | D23: =물량산출표!E23 -> 1 | E23: =물량산출표!F23 -> EA | F23: =단가대비표!N23 -> 0 | G23: =D23*F23 -> 0 | J23: =F23+H23 -> 0 | K23: =G23+I23 -> 0
A24: =단가대비표!A24 -> 5 | B24: =단가대비표!B24 -> CONVERTOR | C24: =단가대비표!C24 -> SDI to HDMI | D24: =물량산출표!E24 -> 8 | E24: =물량산출표!F24 -> EA | F24: =단가대비표!N24 -> 0 | G24: =D24*F24 -> 0 | J24: =F24+H24 -> 0 | K24: =G24+I24 -> 0
A25: =단가대비표!A25 -> 6 | B25: =단가대비표!B25 -> CONVERTOR FRAME | C25: =단가대비표!C25 -> 19“ | D25: =물량산출표!E25 -> 3 | E25: =물량산출표!F25 -> EA | F25: =단가대비표!N25 -> 0 | G25: =D25*F25 -> 0 | J25: =F25+H25 -> 0 | K25: =G25+I25 -> 0
A26: =단가대비표!A26 -> 7 | B26: =단가대비표!B26 -> DISTRIBUTOR #1 | C26: =단가대비표!C26 -> 4CH | D26: =물량산출표!E26 -> 2 | E26: =물량산출표!F26 -> EA | F26: =단가대비표!N26 -> 0 | G26: =D26*F26 -> 0 | J26: =F26+H26 -> 0 | K26: =G26+I26 -> 0
A27: =단가대비표!A27 -> 8 | B27: =단가대비표!B27 -> DISTRIBUTOR #2 | C27: =단가대비표!C27 -> 6CH | D27: =물량산출표!E27 -> 3 | E27: =물량산출표!F27 -> EA | F27: =단가대비표!N27 -> 0 | G27: =D27*F27 -> 0 | J27: =F27+H27 -> 0 | K27: =G27+I27 -> 0
A28: =단가대비표!A28 -> 9 | B28: =단가대비표!B28 -> F.O.H MONITOR | C28: =단가대비표!C28 -> 8“ | D28: =물량산출표!E28 -> 1 | E28: =물량산출표!F28 -> EA | F28: =단가대비표!N28 -> 0 | G28: =D28*F28 -> 0 | J28: =F28+H28 -> 0 | K28: =G28+I28 -> 0
A29: =일위대가표!A4 -> C | B29: =일위대가표!B4 -> 공사 인건비 SECTION | C29: =일위대가표!C4 -> 0 | D29: =일위대가표!D4 -> 0 | E29: =일위대가표!E4 -> 0
A30: =일위대가표!A5 -> 1 | B30: =일위대가표!B5 -> 스피커 케이블 (메인,모니터) | C30: =일위대가표!C5 -> 0 | D30: =일위대가표!D5 -> 1 | E30: =일위대가표!E5 -> 식 | H30: =일위대가표!H5 -> 0 | I30: =D30*H30 -> 0 | J30: =F30+H30 -> 0 | K30: =G30+I30 -> 0
A31: =일위대가표!A6 -> 2 | B31: =일위대가표!B6 -> 시스템 설치 인건비 · 자재비 | C31: =일위대가표!C6 -> 0 | D31: =일위대가표!D6 -> 1 | E31: =일위대가표!E6 -> 식 | H31: =일위대가표!H6 -> 0 | I31: =D31*H31 -> 0 | J31: =F31+H31 -> 0 | K31: =G31+I31 -> 0
A32: =일위대가표!A7 -> 3 | B32: =일위대가표!B7 -> 기존장비 점검 및 수리 | C32: =일위대가표!C7 -> 0 | D32: =일위대가표!D7 -> 1 | E32: =일위대가표!E7 -> 식 | H32: =일위대가표!H7 -> 0 | I32: =D32*H32 -> 0 | J32: =F32+H32 -> 0 | K32: =G32+I32 -> 0
A33: =일위대가표!A8 -> 4 | B33: =일위대가표!B8 -> 기존장비 설치 | C33: =일위대가표!C8 -> 0 | D33: =일위대가표!D8 -> 1 | E33: =일위대가표!E8 -> 식 | H33: =일위대가표!H8 -> 0 | I33: =D33*H33 -> 0 | J33: =F33+H33 -> 0 | K33: =G33+I33 -> 0
A34: =일위대가표!A9 -> 5 | B34: =일위대가표!B9 -> 콘솔연결, 튜닝 | D34: =일위대가표!D9 -> 1 | E34: =일위대가표!E9 -> 식
B48: 합 계 | G48: =SUM(G5:G47) -> 0 | I48: =SUM(I5:I47) -> 0 | K48: =SUM(K5:K47) -> 0

Sheet 일위대가표
A1: 번호 | B1: 품 명 | C1: 규 격 | D1: 수량 | E1: 단위 | F1: 재 료 비 | H1: 인 건 비 | J1: 합 계 | L1: 비 고
F2: 단 가 | G2: 금 액 | H2: 단 가 | I2: 금 액 | J2: 단 가 | K2: 금 액
A3: 아르코 꿈밭극장 음향기자재 구매 및 설치
A4: C | B4: 공사 인건비 SECTION | N4: =#REF!-F4 -> #REF!
A5: 1 | B5: 스피커 케이블 (메인,모니터) | D5: 1 | E5: 식 | I5: =H5*D5 -> 0 | J5: =H5+F5 -> 0 | K5: =G5+I5 -> 0 | N5: =#REF!-F5 -> #REF!
A6: 2 | B6: 시스템 설치 인건비 · 자재비 | D6: 1 | E6: 식 | I6: =H6*D6 -> 0 | J6: =H6+F6 -> 0 | K6: =G6+I6 -> 0 | N6: =#REF!-F6 -> #REF!
A7: 3 | B7: 기존장비 점검 및 수리 | D7: 1 | E7: 식 | I7: =H7*D7 -> 0 | J7: =H7+F7 -> 0 | K7: =G7+I7 -> 0 | N7: =#REF!-F7 -> #REF!
A8: 4 | B8: 기존장비 설치 | D8: 1 | E8: 식 | I8: =H8*D8 -> 0 | J8: =H8+F8 -> 0 | K8: =G8+I8 -> 0 | N8: =#REF!-F8 -> #REF!
A9: 5 | B9: 콘솔연결, 튜닝 | D9: 1 | E9: 식 | I9: =H9*D9 -> 0 | K9: =G9+I9 -> 0
B25: 합 계 | G25: =SUM(G5:G24) -> 0 | I25: =SUM(I5:I24) -> 0 | K25: =SUM(K5:K24) -> 0

Sheet 물량산출표
A1: 번호 | B1: 품 명 | C1: 규 격 | D1: 산출근거 | E1: 합 계 | I1: 비 고
E2: 설계수량 | F2: 단 위 | G2: 할 증 | H2: 결정수량
A3: 아르코 꿈밭극장 음향기자재 구매 및 설치 | K3: =#REF!-#REF! -> #REF!
A4: A | B4: 분장실, 로비 페이징 설비 SECTION | K4: =#REF!-E4 -> #REF!
A5: 1 | B5: =단가대비표!B5 -> SPEAKER | C5: =단가대비표!C5 -> 60W, 8Ω | D5: 4 | E5: 4 | F5: EA | H5: =E5 -> 4 | K5: =#REF!-E5 -> #REF!
A6: 2 | B6: =단가대비표!B6 -> SPEAKER POWER AMP | C6: =단가대비표!C6 -> 4CH, 150W, Dante | D6: 1 | E6: 1 | F6: EA | H6: =E6 -> 1 | K6: =#REF!-E6 -> #REF!
A7: 3 | B7: =단가대비표!B7 -> POWER AMP | C7: =단가대비표!C7 -> 4CH, 1600W, Dante | D7: 2 | E7: 2 | F7: EA | H7: =E7 -> 2 | K7: =#REF!-E7 -> #REF!
A8: 4 | B8: =단가대비표!B8 -> VOLUME CONTROLLER | C8: =단가대비표!C8 -> LEVEL | D8: 4 | E8: 4 | F8: EA | H8: =E8 -> 4 | K8: =#REF!-E8 -> #REF!
A9: 5 | B9: =단가대비표!B9 -> MONITOR #1 | C9: =단가대비표!C9 -> FHD 32" | D9: 2 | E9: 2 | F9: EA | H9: =E9 -> 2 | K9: =#REF!-E9 -> #REF!
A10: 6 | B10: =단가대비표!B10 -> MONITOR #2 | C10: =단가대비표!C10 -> FHD 27" | D10: 6 | E10: 6 | F10: EA | H10: =E10 -> 6 | K10: =#REF!-E10 -> #REF!
A11: 7 | B11: =단가대비표!B11 -> I/O | C11: =단가대비표!C11 -> 16IN 8OUT | D11: 2 | E11: 2 | F11: EA | H11: =E11 -> 2 | K11: =#REF!-E11 -> #REF!
A12: 8 | B12: =단가대비표!B12 -> MONITOR BRACKET | C12: =단가대비표!C12 -> CUSTOM (상하좌우 조절) | D12: 7 | E12: 7 | F12: EA | H12: =E12 -> 7 | K12: =#REF!-E12 -> #REF!
A13: 9 | B13: =단가대비표!B13 -> 이동식 스탠드 타입 | C13: =단가대비표!C13 -> CUSTOM (상하좌우 조절) | D13: 1 | E13: 1 | F13: EA | H13: =E13 -> 1 | K13: =#REF!-E13 -> #REF!
A14: 10 | B14: =단가대비표!B14 -> RACK CASE #1 | C14: =단가대비표!C14 -> 32U | D14: 1 | E14: 1 | F14: EA | H14: =E14 -> 1 | K14: =#REF!-E14 -> #REF!
A15: 11 | B15: =단가대비표!B15 -> RACK CASE #2 | C15: =단가대비표!C15 -> 16U | D15: 2 | E15: 2 | F15: EA | H15: =E15 -> 2 | K15: =#REF!-E15 -> #REF!
A16: 12 | B16: =단가대비표!B16 -> 순차전원 #1 (앰프용) | C16: =단가대비표!C16 -> 8CH | D16: 1 | E16: 1 | F16: EA | H16: =E16 -> 1 | K16: =#REF!-E16 -> #REF!
... A18: 14 | B18: =단가대비표!B18 -> 순차전원 #3 (2층무대용) | C18: =단가대비표!C18 -> 6CH | D18: 1 | E18: 1 | F18: EA | H18: =E18 -> 1 | K18: =#REF!-E18 -> #REF!
A19: B | B19: 카메라 설비 SECTION | K19: =#REF!-E19 -> #REF!
A20: 1 | B20: =단가대비표!B20 -> PTZ CAMERA | C20: =단가대비표!C20 -> FHD | D20: 2 | E20: 2 | F20: EA | H20: =E20 -> 2 | K20: =#REF!-E20 -> #REF!
A21: 2 | B21: =단가대비표!B21 -> IR CAMERA | C21: =단가대비표!C21 -> FHD | D21: 1 | E21: 1 | F21: EA | H21: =E21 -> 1 | K21: =#REF!-E21 -> #REF!
A22: 3 | B22: =단가대비표!B22 -> CAMERA BRACKET | C22: =단가대비표!C22 -> CUSTOM | D22: 3 | E22: 3 | F22: EA | H22: =E22 -> 3 | K22: =#REF!-E22 -> #REF!
A23: 4 | B23: =단가대비표!B23 -> CAMERA CONTROL UNIT | C23: =단가대비표!C23 -> Joystick | D23: 1 | E23: 1 | F23: EA | H23: =E23 -> 1 | K23: =#REF!-E23 -> #REF!
A24: 5 | B24: =단가대비표!B24 -> CONVERTOR | C24: =단가대비표!C24 -> SDI to HDMI | D24: 8 | E24: 8 | F24: EA | H24: =E24 -> 8 | K24: =#REF!-E24 -> #REF!
A25: 6 | B25: =단가대비표!B25 -> CONVERTOR FRAME | C25: =단가대비표!C25 -> 19“ | D25: 3 | E25: 3 | F25: EA | H25: =E25 -> 3 | K25: =#REF!-E25 -> #REF!
A26: 7 | B26: =단가대비표!B26 -> DISTRIBUTOR #1 | C26: =단가대비표!C26 -> 4CH | D26: 2 | E26: 2 | F26: EA | H26: =E26 -> 2 | K26: =#REF!-E26 -> #REF!
A27: 8 | B27: =단가대비표!B27 -> DISTRIBUTOR #2 | C27: =단가대비표!C27 -> 6CH | D27: 3 | E27: 3 | F27: EA | H27: =E27 -> 3 | K27: =#REF!-E27 -> #REF!
A28: 9 | B28: =단가대비표!B28 -> F.O.H MONITOR | C28: =단가대비표!C28 -> 8“ | D28: 1 | E28: 1 | F28: EA | H28: =E28 -> 1 | K28: =#REF!-E28 -> #REF!

Sheet 단가대비표
A1: 번호 | B1: 품 명 | C1: 규 격 | D1: 수량 | E1: 단위 | F1: 물가자료(25.03) | H1: 물가정보(25.03) | J1: 단가비교 | M1: 적용가격 | O1: 비 고
F2: 페이지 | G2: 금 액 | H2: 페이지 | I2: 금 액 | J2: A사 | K2: B사 | L2: C사 | M2: 페이지 | N2: 금 액
A3: 물가지 및 견적단가
A4: A | B4: 무대, 분장실, 로비 페이징 설비 SECTION | Q4: =#REF!-F4 -> #REF!
A5: 1 | B5: SPEAKER | C5: 60W, 8Ω | D5: 1 | E5: EA | N5: =MIN(J5:L5) -> 0 | Q5: =#REF!-F5 -> #REF!
A6: 2 | B6: SPEAKER POWER AMP | C6: 4CH, 150W, Dante | D6: 1 | E6: EA | N6: =MIN(J6:L6) -> 0 | Q6: =#REF!-F6 -> #REF!
A7: 3 | B7: POWER AMP | C7: 4CH, 1600W, Dante | D7: 1 | E7: EA | N7: =MIN(J7:L7) -> 0 | Q7: =#REF!-F7 -> #REF!
A8: 4 | B8: VOLUME CONTROLLER | C8: LEVEL | D8: 1 | E8: EA | N8: =MIN(J8:L8) -> 0 | Q8: =#REF!-F8 -> #REF!
A9: 5 | B9: MONITOR #1 | C9: FHD 32" | D9: 1 | E9: EA | N9: =MIN(J9:L9) -> 0 | Q9: =#REF!-F9 -> #REF!
A10: 6 | B10: MONITOR #2 | C10: FHD 27" | D10: 1 | E10: EA | N10: =MIN(J10:L10) -> 0 | Q10: =#REF!-F10 -> #REF!
A11: 7 | B11: I/O | C11: 16IN 8OUT | D11: 1 | E11: EA | N11: =MIN(J11:L11) -> 0 | Q11: =#REF!-F11 -> #REF!
A12: 8 | B12: MONITOR BRACKET | C12: CUSTOM (상하좌우 조절) | D12: 1 | E12: EA | N12: =MIN(J12:L12) -> 0 | Q12: =#REF!-F12 -> #REF!
A13: 9 | B13: 이동식 스탠드 타입 | C13: CUSTOM (상하좌우 조절) | D13: 1 | E13: EA | N13: =MIN(J13:L13) -> 0 | Q13: =#REF!-F13 -> #REF!
A14: 10 | B14: RACK CASE #1 | C14: 32U | D14: 1 | E14: EA | N14: =MIN(J14:L14) -> 0 | Q14: =#REF!-F14 -> #REF!
A15: 11 | B15: RACK CASE #2 | C15: 16U | D15: 1 | E15: EA | N15: =MIN(J15:L15) -> 0 | Q15: =#REF!-F15 -> #REF!
A16: 12 | B16: 순차전원 #1 (앰프용) | C16: 8CH | D16: 1 | E16: EA | N16: =MIN(J16:L16) -> 0 | Q16: =#REF!-F16 -> #REF!
... A18: 14 | B18: 순차전원 #3 (2층무대용) | C18: 6CH | D18: 1 | E18: EA | N18: =MIN(J18:L18) -> 0 | Q18: =#REF!-F18 -> #REF!
A19: B | B19: 카메라 설비 SECTION | Q19: =#REF!-F19 -> #REF!
A20: 1 | B20: PTZ CAMERA | C20: FHD | D20: 1 | E20: EA | N20: =MIN(J20:L20) -> 0 | Q20: =#REF!-F20 -> #REF!
A21: 2 | B21: IR CAMERA | C21: FHD | D21: 1 | E21: EA | N21: =MIN(J21:L21) -> 0 | Q21: =#REF!-F21 -> #REF!
A22: 3 | B22: CAMERA BRACKET | C22: CUSTOM | D22: 1 | E22: EA | N22: =MIN(J22:L22) -> 0 | Q22: =#REF!-F22 -> #REF!
A23: 4 | B23: CAMERA CONTROL UNIT | C23: Joystick | D23: 1 | E23: EA | N23: =MIN(J23:L23) -> 0 | Q23: =#REF!-F23 -> #REF!
A24: 5 | B24: CONVERTOR | C24: SDI to HDMI | D24: 1 | E24: EA | N24: =MIN(J24:L24) -> 0 | Q24: =#REF!-F24 -> #REF!
A25: 6 | B25: CONVERTOR FRAME | C25: 19“ | D25: 1 | E25: EA | N25: =MIN(J25:L25) -> 0 | Q25: =#REF!-F25 -> #REF!
A26: 7 | B26: DISTRIBUTOR #1 | C26: 4CH | D26: 1 | E26: EA | N26: =MIN(J26:L26) -> 0 | Q26: =#REF!-F26 -> #REF!
A27: 8 | B27: DISTRIBUTOR #2 | C27: 6CH | D27: 1 | E27: EA | N27: =MIN(J27:L27) -> 0 | Q27: =#REF!-F27 -> #REF!
A28: 9 | B28: F.O.H MONITOR | C28: 8“ | D28: 1 | E28: EA | N28: =MIN(J28:L28) -> 0 | Q28: =#REF!-F28 -> #REF!
